{"text_format":"1","workbook":"xlsx","n_sheets":26,"sheets":["TERRAIN","NATIONS","RANKS","MEDALS","UNIFORMS","POSITIONS","FATIGUE","UNIT STRUCT","TEAMS","TEAM TYPES","SOLDIERS","WEAPONS","MOUNTS","AMMUNITION","Fire Support","VEHICLES","ANIMATIONS","AMMO TYPES","EXPLOSIVES","Blast Work","Armor Pen","Pen Work","PSYCH MODEL","Firing","Accuracy","DRAG"],"not_rendered":{"charts":10,"images":0,"macros":1,"external_links":0,"defined_names":22,"comments":5,"pivot_tables":0},"unopened":[],"bounds":{"document_bytes":16777216,"sheet_cells":100000,"rows_first":2000,"rows_last":500,"rows_between":2000,"halvings":0,"cell_chars":16384,"cell_head_chars":4096},"cells_cut":0,"cells_raw":0,"read":"whole","date_system":"1900"}

{"sheet":"TERRAIN","index":0,"n_rows":159,"n_cols":61,"rows_kept":159,"cut":false,"hidden":false,"merged":[]}
[null,"(UNDONE THIS NEEDS A VALUE PASS)"]
[null,null,null,null,null,null,null,null,null,null,null,null,null,null,null,null,null,null,null,null,null,null,null,null,null,null,null,null,"0 = none, 1 = some, 2 = a lot",null,null,"0 = none, 1 = crater, 2 = stone crater, 3 = object"]
[null,"NAME","TYPE","Terrain Object Index","Campaign Setting (0 = Tunisia, 1 = Sicily, 2 = Normandy, -1 = ALL)","ICON IDX","MAX SLOPE 0.0-1.0","SECONDAY TERRAIN TYPE","CONCEALMENT (% vis reduction)","COVER (0 = none, 1 = prone, 2 = crouch, 3 = stand, 4 = total)","PROTECTION (mm RHA equivalent)","Move Push","Move Wheel","Move All Wheel Drive","Move Halftrack","Move Track","Move Foot","Bog Chance","Immob Chance","Block LOS","Block All LOS","Wall?","Sunken?","Covered?","Bridge?","Interior?","Road?","Minefield?","Dustiness","DAMAGE THRESHOLD","BURN TIME","DESTRUCTION TYPE","EXPLODE TO","CRUSH TO","BURN TO","ScaleX (float)","ScaleY","ScaleZ","Max Scale Variation (float)","Alpha Trans? Texture should be rendered alpha transparent","ASSET COUNT","ASSET Type (0 = texture, 1 = material,  2 = FBX, 3 = damage texture)","Asset Name","ASSET Type","Asset Name","ASSET Type","Asset Name","ASSET Type","Asset Name","ASSET Type","Asset Name","ASSET Type","Asset Name","ASSET Type","Asset Name"]
["COUNT",155]
[0,"Open Ground",0,-1,-1,0,1,-1,0,0,0,0.5,0.4,0.60000000000000009,0.60000000000000009,0.60000000000000009,0.9,0,0,0,0,0,0,0,0,0,0,0,1,0,0,1,-1,-1,-1,1,1,1,0,0,1,0,"Ground_Grass.bmp"]
[1,"Dirt",0,-1,-1,1,1,-1,0,0,0,0.5,0.4,0.60000000000000009,0.60000000000000009,0.60000000000000009,0.9,0,0,0,0,0,0,0,0,0,0,0,2,0,0,1,-1,-1,-1,1,1,1,0,0,1,0,"Ground_Dirt.bmp"]
[2,"Field",0,-1,-1,2,1,-1,10,1,1,0.30000000000000004,0.30000000000000004,0.4,0.4,0.4,0.8,2,1,0,0,0,0,0,0,0,0,0,1,0,0,1,-1,-1,-1,1,1,1,0,0,1,0,"Ground_Crops.bmp"]
[3,"Soft Ground",0,-1,-1,3,1,-1,0,0,0,0.30000000000000004,0.30000000000000004,0.30000000000000004,0.30000000000000004,0.30000000000000004,0.8,5,2,0,0,0,0,0,0,0,0,0,0,0,0,1,-1,-1,-1,1,1,1,0,0,1,0,"Ground_Soft.bmp"]
[4,"Marsh",0,-1,-1,4,1,-1,20,1,1,0,0,0,0,0,0.4,10,3,0,0,0,0,0,0,0,0,0,0,0,0,1,-1,-1,-1,1,1,1,0,0,1,0,"Ground_Swamp.bmp"]
[5,"Rocky Ground",0,-1,-1,5,1,-1,10,1,3,0.2,0.2,0.30000000000000004,0.30000000000000004,0.30000000000000004,0.8,2,1,0,0,0,0,0,0,0,0,0,1,0,0,1,-1,-1,-1,1,1,1,0,0,1,0,"Ground_rocky.bmp"]
[6,"Pavement",0,-1,-1,6,1,-1,0,0,0,1,1,1,1,1,1,0,0,0,0,0,0,0,0,0,1,0,0,0,0,2,-1,-1,-1,1,1,1,0,0,1,0,"Ground_Pavement.bmp"]
[7,"Scorched Earth",0,-1,-1,7,1,-1,0,0,0,0.5,0.4,0.5,0.5,0.5,0.8,0,0,0,0,0,0,0,0,0,0,0,1,0,0,1,-1,-1,-1,1,1,1,0,0,1,0,"Ground_Scortched.bmp"]
[8,"Dirt Road",0,-1,-1,8,1,-1,0,0,0,0.9,0.9,0.9,0.9,0.9,1,0,0,0,0,0,0,0,0,0,1,0,2,0,0,1,-1,-1,-1,1,1,1,0,0,1,0,"Ground_DirtRoad.bmp"]
[9,"Minefield",0,-1,-1,0,1,-1,0,0,0,0.5,0.4,0.60000000000000009,0.60000000000000009,0.60000000000000009,0.9,0,0,0,0,0,0,0,0,0,0,1,1,0,0,1,-1,-1,-1,1,1,1,0,0,0]
[10,"(reserved)",0,-1,-1,-1,1,-1,0,0,0,0,0,0,0,0,0,0,0,0,0,0,0,0,0,0,0,0,0,0,0,0,-1,-1,-1,1,1,1,0,0,0]
[11,"(reserved)",0,-1,-1,-1,1,-1,0,0,0,0,0,0,0,0,0,0,0,0,0,0,0,0,0,0,0,0,0,0,0,0,-1,-1,-1,1,1,1,0,0,0]
[12,"(reserved)",0,-1,-1,-1,1,-1,0,0,0,0,0,0,0,0,0,0,0,0,0,0,0,0,0,0,0,0,0,0,0,0,-1,-1,-1,1,1,1,0,0,0]
[13,"(reserved)",0,-1,-1,-1,1,-1,0,0,0,0,0,0,0,0,0,0,0,0,0,0,0,0,0,0,0,0,0,0,0,0,-1,-1,-1,1,1,1,0,0,0]
[14,"(reserved)",0,-1,-1,-1,1,-1,0,0,0,0,0,0,0,0,0,0,0,0,0,0,0,0,0,0,0,0,0,0,0,0,-1,-1,-1,1,1,1,0,0,0]
[15,"(reserved)",0,-1,-1,-1,1,-1,0,0,0,0,0,0,0,0,0,0,0,0,0,0,0,0,0,0,0,0,0,0,0,0,-1,-1,-1,1,1,1,0,0,0]
[16,"(reserved)",0,-1,-1,-1,1,-1,0,0,0,0,0,0,0,0,0,0,0,0,0,0,0,0,0,0,0,0,0,0,0,0,-1,-1,-1,1,1,1,0,0,0]
[17,"(reserved)",0,-1,-1,-1,1,-1,0,0,0,0,0,0,0,0,0,0,0,0,0,0,0,0,0,0,0,0,0,0,0,0,-1,-1,-1,1,1,1,0,0,0]
[18,"(reserved)",0,-1,-1,-1,1,-1,0,0,0,0,0,0,0,0,0,0,0,0,0,0,0,0,0,0,0,0,0,0,0,0,-1,-1,-1,1,1,1,0,0,0]
[19,"(reserved)",0,-1,-1,-1,1,-1,0,0,0,0,0,0,0,0,0,0,0,0,0,0,0,0,0,0,0,0,0,0,0,0,-1,-1,-1,1,1,1,0,0,0]
[20,"(reserved)",0,-1,-1,-1,1,-1,0,0,0,0,0,0,0,0,0,0,0,0,0,0,0,0,0,0,0,0,0,0,0,0,-1,-1,-1,1,1,1,0,0,0]
[21,"(reserved)",0,-1,-1,-1,1,-1,0,0,0,0,0,0,0,0,0,0,0,0,0,0,0,0,0,0,0,0,0,0,0,0,-1,-1,-1,1,1,1,0,0,0]
[22,"(reserved)",0,-1,-1,-1,1,-1,0,0,0,0,0,0,0,0,0,0,0,0,0,0,0,0,0,0,0,0,0,0,0,0,-1,-1,-1,1,1,1,0,0,0]
[23,"(reserved)",0,-1,-1,-1,1,-1,0,0,0,0,0,0,0,0,0,0,0,0,0,0,0,0,0,0,0,0,0,0,0,0,-1,-1,-1,1,1,1,0,0,0]
[24,"(reserved)",0,-1,-1,-1,1,-1,0,0,0,0,0,0,0,0,0,0,0,0,0,0,0,0,0,0,0,0,0,0,0,0,-1,-1,-1,1,1,1,0,0,0]
[25,"(reserved)",0,-1,-1,-1,1,-1,0,0,0,0,0,0,0,0,0,0,0,0,0,0,0,0,0,0,0,0,0,0,0,0,-1,-1,-1,1,1,1,0,0,0]
[26,"(reserved)",0,-1,-1,-1,1,-1,0,0,0,0,0,0,0,0,0,0,0,0,0,0,0,0,0,0,0,0,0,0,0,0,-1,-1,-1,1,1,1,0,0,0]
[27,"(reserved)",0,-1,-1,-1,1,-1,0,0,0,0,0,0,0,0,0,0,0,0,0,0,0,0,0,0,0,0,0,0,0,0,-1,-1,-1,1,1,1,0,0,0]
[28,"(reserved)",0,-1,-1,-1,1,-1,50,4,3,0,0,0,0,0,0,0,0,0,0,0,0,0,0,0,0,0,0,0,0,0,-1,-1,-1,1,1,1,0,0,0]
[29,"Barren Branches",0,-1,-1,-1,1,-1,20,4,0,0.5,0.4,0.60000000000000009,0.60000000000000009,0.60000000000000009,0.9,5,1,0,0,0,0,0,0,0,0,0,0,0,0,0,-1,-1,-1,1,1,1,0,0,0]
[30,"Foliage Branches",0,-1,-1,-1,1,-1,40,4,0,0.5,0.4,0.60000000000000009,0.60000000000000009,0.60000000000000009,0.9,5,1,0,0,0,0,0,0,0,0,0,0,0,0,0,-1,-1,-1,1,1,1,0,0,0]
[31,"Door",0,-1,-1,-1,1,-1,50,1,0,0,0,0,0,0,0.60000000000000009,0,0,0,0,0,0,1,0,1,0,0,0,0,0,0,-1,-1,-1,1,1,1,0,0,0]
[32,"Window",0,-1,-1,-1,1,-1,20,2,0,0,0,0,0,0,0.30000000000000004,0,0,0,0,0,0,1,0,1,0,0,0,0,0,0,-1,-1,-1,1,1,1,0,0,0]
[33,"Stone Wall",3,1,-1,-1,0.2,-1,30,2,12,0,0,0,0,0.30000000000000004,0.1,10,5,1,1,1,0,0,0,0,0,0,1,600,0,3,59,59,-1,1,1,1,0,0,1,2,"Stone Fence 01"]
[34,"Wood Fence",3,2,-1,-1,0.2,-1,20,2,3,0,0,0.2,0.2,0.4,0.1,5,1,0,0,1,0,0,0,0,0,0,1,200,0,3,58,58,-1,1,1,1,0,0,1,2,"woodFence"]
[35,"Small Building",4,3,1,-1,0.2,-1,50,4,6,0,0,0,0,0,0.60000000000000009,0,0,1,1,0,0,1,0,1,0,0,0,500,0,3,58,58,-1,1,1,1,2.5000000000000001E-2,1,1,2,"Ital 1stry Bldg 01"]
[36,"Small Building",4,4,1,-1,0.2,-1,50,4,6,0,0,0,0,0,0.60000000000000009,0,0,1,1,0,0,1,0,1,0,0,0,500,0,3,58,58,-1,1,1,1,2.5000000000000001E-2,1,2,2,"Ital 1stry Bldg 01",0,"Ital_1stryBldg_text_02"]
[37,"Small Building",4,5,1,-1,0.2,-1,50,4,6,0,0,0,0,0,0.60000000000000009,0,0,1,1,0,0,1,0,1,0,0,0,500,0,3,58,58,-1,1,1,1,2.5000000000000001E-2,1,2,2,"Ital 1stry Bldg 01",0,"Ital_1stryBldg_text_03"]
[38,"Small Building",4,6,1,-1,0.2,-1,50,4,6,0,0,0,0,0,0.60000000000000009,0,0,1,1,0,0,1,0,1,0,0,0,500,0,3,58,58,-1,1,1,1,2.5000000000000001E-2,1,2,2,"Ital 1stry Bldg 01",0,"Ital_1stryBldg_text_04"]
[39,"Small Building",4,7,1,-1,0.2,-1,50,4,6,0,0,0,0,0,0.60000000000000009,0,0,1,1,0,0,1,0,1,0,0,0,500,0,3,58,58,-1,1,1,1,2.5000000000000001E-2,1,1,2,"Ital 1stry Bldg 02"]
[40,"Small Building",4,8,1,-1,0.2,-1,50,4,6,0,0,0,0,0,0.60000000000000009,0,0,1,1,0,0,1,0,1,0,0,0,500,0,3,58,58,-1,1,1,1,2.5000000000000001E-2,1,2,2,"Ital 1stry Bldg 02",0,"Ital_1stryBldg02_text_02"]
[41,"Small Building",4,9,1,-1,0.2,-1,50,4,6,0,0,0,0,0,0.60000000000000009,0,0,1,1,0,0,1,0,1,0,0,0,500,0,3,58,58,-1,1,1,1,2.5000000000000001E-2,1,2,2,"Ital 1stry Bldg 02",0,"Ital_1stryBldg02_text_03"]
[42,"Small Building",4,10,1,-1,0.2,-1,50,4,6,0,0,0,0,0,0.60000000000000009,0,0,1,1,0,0,1,0,1,0,0,0,500,0,3,58,58,-1,1,1,1,2.5000000000000001E-2,1,2,2,"Ital 1stry Bldg 02",0,"Ital_1stryBldg02_text_04"]
[43,"Small Building",4,11,1,-1,0.2,-1,50,4,6,0,0,0,0,0,0.60000000000000009,0,0,1,1,0,0,1,0,1,0,0,0,500,0,3,58,58,-1,1,1,1,2.5000000000000001E-2,1,1,2,"Ital 1stry Bldg 03"]
[44,"Small Building",4,12,1,-1,0.2,-1,50,4,6,0,0,0,0,0,0.60000000000000009,0,0,1,1,0,0,1,0,1,0,0,0,500,0,3,58,58,-1,1,1,1,2.5000000000000001E-2,1,2,2,"Ital 1stry Bldg 03",0,"Ital_1stryBldg03_text_02"]
[45,"Small Building",4,13,1,-1,0.2,-1,50,4,6,0,0,0,0,0,0.60000000000000009,0,0,1,1,0,0,1,0,1,0,0,0,500,0,3,58,58,-1,1,1,1,2.5000000000000001E-2,1,2,2,"Ital 1stry Bldg 03",0,"Ital_1stryBldg03_text_03"]
[46,"Small Building",4,14,1,-1,0.2,-1,50,4,6,0,0,0,0,0,0.60000000000000009,0,0,1,1,0,0,1,0,1,0,0,0,500,0,3,58,58,-1,1,1,1,2.5000000000000001E-2,1,2,2,"Ital 1stry Bldg 03",0,"Ital_1stryBldg03_text_04"]
[47,"Bush",2,15,-1,-1,0.60000000000000009,-1,30,2,0,0.4,0.30000000000000004,0.4,0.4,0.5,0.5,0,0,0,0,0,0,0,0,0,0,0,0,0,0,0,-1,-1,-1,1,0.5,1,0.9,1,3,2,"bush_000",2,"bush_001",2,"bush_002"]
[48,"Low Grass",2,16,-1,-1,0.60000000000000009,-1,10,1,0,0.5,0.4,0.5,0.5,0.60000000000000009,0.8,0,0,0,0,0,0,0,0,0,0,0,0,0,0,0,-1,-1,-1,1,0.25,1,0.9,1,6,2,"Grass_000",2,"Grass_001",2,"Grass_002",2,"Dry_grass_000",2,"Dry_grass_001",2,"Dry_grass_002"]
[49,"Medium Grass",2,17,-1,-1,0.60000000000000009,-1,30,1,0,0.4,0.4,0.5,0.5,0.60000000000000009,0.8,0,0,0,0,0,0,0,0,0,0,0,0,0,0,0,-1,-1,-1,1,0.5,1,0.9,1,6,2,"Grass_000",2,"Grass_001",2,"Grass_002",2,"Dry_grass_000",2,"Dry_grass_001",2,"Dry_grass_002"]
[50,"High Grass",2,18,-1,-1,0.60000000000000009,-1,50,1,0,0.30000000000000004,0.30000000000000004,0.4,0.5,0.60000000000000009,0.7,0,0,0,0,0,0,0,0,0,0,0,0,0,0,0,-1,-1,-1,1,1,1,0.9,1,6,2,"Grass_000",2,"Grass_001",2,"Grass_002",2,"Dry_grass_000",2,"Dry_grass_001",2,"Dry_grass_002"]
[51,"Grass Cluster",2,19,-1,-1,0.60000000000000009,-1,50,1,0,0.30000000000000004,0.30000000000000004,0.5,0.5,0.60000000000000009,0.7,0,0,0,0,0,0,0,0,0,0,0,0,0,0,0,-1,-1,-1,1,1,1,0.9,1,6,2,"Grass_000",2,"Grass_001",2,"Grass_002",2,"Dry_grass_000",2,"Dry_grass_001",2,"Dry_grass_002"]
[52,"Small Rocks",2,20,-1,-1,0.60000000000000009,-1,0,1,1,0.2,0.2,0.30000000000000004,0.30000000000000004,0.30000000000000004,0.8,0,0,0,0,0,0,0,0,0,0,0,1,0,0,0,-1,-1,-1,1,1,1,0.1,1,1,2,"rocks_sm"]
[53,"Medium Rocks",2,21,-1,-1,0.60000000000000009,-1,10,1,3,0.2,0.1,0.30000000000000004,0.30000000000000004,0.30000000000000004,0.7,0,0,0,0,0,0,0,0,0,0,0,1,0,0,0,-1,-1,-1,1,1,1,0.1,1,1,2,"rocks_med"]
[54,"Large Rocks",2,22,-1,-1,0.60000000000000009,-1,20,1,10,0,0,0.2,0.2,0.2,0.60000000000000009,0,0,0,0,0,0,0,0,0,0,0,1,0,0,0,-1,-1,-1,1,1,1,0.1,1,1,2,"rocks_lg"]
[55,"Cart",1,23,-1,-1,0.33,-1,30,2,1,0,0,0,0,0,0,0,0,0,0,0,0,0,0,0,0,0,0,0,0,3,58,58,-1,1,1,1,0.1,0,1,2,"cart01"]
[56,"Crate",1,24,-1,-1,0.33,-1,20,2,2,0,0,0,0,0,0,0,0,0,0,0,0,0,0,0,0,0,0,0,0,3,58,58,-1,1,1,1,0.1,0,1,2,"crate01"]
[57,"Wagon",1,25,-1,-1,0.33,-1,30,2,3,0,0,0,0,0,0,0,0,1,1,0,0,0,0,0,0,0,0,0,0,3,58,58,-1,1,1,1,0.1,0,1,2,"horse wagon"]
[58,"Wood Rubble",1,26,-1,-1,0.33,-1,50,2,3,0,0,0.2,0.2,0.30000000000000004,0.60000000000000009,0,0,1,1,0,0,0,0,0,0,0,1,0,0,0,-1,-1,-1,1,1,1,0.1,1,1,2,"wood rubble"]
[59,"Stone Rubble",1,27,-1,-1,0.33,-1,50,2,12,0,0,0,0,0.2,0.5,0,0,1,1,0,0,0,0,0,0,0,1,0,0,0,-1,-1,-1,1,1,1,0.1,1,1,2,"stone rubble"]
[60,"Crater",9,28,-1,-1,1,-1,50,1,12,0.30000000000000004,0.2,0.30000000000000004,0.4,0.5,0.5,5,1,0,0,0,1,0,0,0,0,0,1,0,0,0,-1,-1,-1,1,1,1,0.9,1,1,2,"CraterMesh"]
[61,"Barbed Wire",3,30,2,-1,0.2,-1,10,2,0,0,0,0,0,0.30000000000000004,0.1,0,0,0,0,1,0,0,0,0,0,0,0,0,0,0,-1,-1,-1,1,1,1,0,1,1,2,"Barb Wire Fence 02"]
[62,"Barbed Wire Fence",3,31,-1,-1,0.2,-1,10,2,0,0,0,0,0,0.30000000000000004,0.2,0,0,0,0,1,0,0,0,0,0,0,0,0,0,3,58,58,-1,1,1,1,0,1,1,2,"Barb Wire Fence 01"]
[63,"MG Bunker",4,32,2,-1,0.2,-1,50,4,400,0,0,0,0,0,0.60000000000000009,0,0,1,1,0,0,0,0,0,0,0,0,0,0,0,-1,-1,-1,1,1,1,0,1,1,2,"large MG bunker 01"]
[64,"AT Bunker",4,33,2,-1,0.2,-1,50,4,400,0.9,0,0,0,0,0.60000000000000009,0,0,1,1,0,0,0,0,0,0,0,0,0,0,0,-1,-1,-1,1,1,1,0,0,1,2,"LG AT bunker 01"]
[65,"Gravestone",1,34,-1,-1,0.33,-1,20,2,16,0,0,0,0,0,0,0,0,1,1,0,0,0,0,0,0,0,0,0,0,3,59,59,-1,1,1,1,0.1,0,1,2,"grave marker 01"]
[66,"Barren Tree",5,35,-1,-1,0.5,29,20,4,8,0,0,0,0,0,0,0,0,0,0,0,0,0,0,0,0,0,0,0,0,0,-1,-1,-1,1,1,1,0.9,1,1,2,"small_tree001"]
[67,"Sandbag Wall",3,36,2,-1,0.33,-1,50,2,12,0,0,0,0.30000000000000004,0.4,0.30000000000000004,0,0,1,1,1,0,0,0,0,0,0,0,0,0,0,-1,-1,-1,1,1,1,0,0,1,2,"CA sandbags 01"]
[68,"Beach Obstacle",1,37,2,-1,0.33,-1,20,2,8,0,0,0,0,0,0,0,0,0,0,0,0,0,0,0,0,0,0,0,0,0,-1,-1,-1,1,1,1,0.1,0,1,2,"CA hedgehog 01"]
[69,"Church",4,38,1,-1,0.2,-1,50,4,8,0,0,0,0,0,0.60000000000000009,0,0,1,1,0,0,0,0,0,0,0,0,0,0,3,59,59,-1,1,1,1,2.5000000000000001E-2,1,1,2,"Ital 1stry church 01"]
[70,"Oak Tree",5,39,-1,-1,0.5,30,30,4,8,0,0,0,0,0,0,0,0,0,0,0,0,0,0,0,0,0,0,0,0,0,-1,-1,-1,1,1,1,0.9,1,3,2,"oak_tree_000",2,"oak_tree_001",2,"oak_tree_002"]
[71,"Elm Tree",5,40,-1,-1,0.5,30,30,4,8,0,0,0,0,0,0,0,0,0,0,0,0,0,0,0,0,0,0,0,0,0,-1,-1,-1,1,1,1,0.9,1,3,2,"elm_tree_000",2,"elm_tree_001",2,"elm_tree_002"]
[72,"Narrow Tree",5,41,-1,-1,0.5,30,30,4,8,0,0,0,0,0,0,0,0,0,0,0,0,0,0,0,0,0,0,0,0,0,-1,-1,-1,1,1,1,0.9,1,3,2,"small_tree000",2,"small_tree001",2,"small_tree002"]
[73,"Medium Tree",5,42,-1,-1,0.5,30,30,4,8,0,0,0,0,0,0,0,0,0,0,0,0,0,0,0,0,0,0,0,0,0,-1,-1,-1,1,1,1,0.9,1,3,2,"medium_tree_000",2,"medium_tree_001",2,"medium_tree_002"]
[74,"Orchard Tree",5,43,-1,-1,0.5,30,30,4,8,0,0,0,0,0,0,0,0,0,0,0,0,0,0,0,0,0,0,0,0,0,-1,-1,-1,1,1,1,0.9,1,5,2,"olivetree_000",2,"olivetree_001",2,"olivetree_002",2,"olivetree_003",2,"olivetree_004"]
[75,"Pine Tree",5,44,-1,-1,0.5,30,30,4,8,0,0,0,0,0,0,0,0,0,0,0,0,0,0,0,0,0,0,0,0,0,-1,-1,-1,1,1,1,0.9,1,2,2,"pine_tree_2_000",2,"pine_tree_2_001"]
[76,"Tall Pine",5,45,-1,-1,0.5,30,30,4,8,0,0,0,0,0,0,0,0,0,0,0,0,0,0,0,0,0,0,0,0,0,-1,-1,-1,1,1,1,0.9,1,3,2,"pine_tree_tall_000",2,"pine_tree_tall_001",2,"pine_tree_tall_002"]
[77,"Palm Tree",5,46,-1,-1,0.5,30,30,4,8,0,0,0,0,0,0,0,0,0,0,0,0,0,0,0,0,0,0,0,0,0,-1,-1,-1,1,1,1,0.9,1,6,2,"palm_tree_000",2,"palm_tree_001",2,"palm_tree_002",2,"palm_tree_2_000",2,"palm_tree_2_001",2,"palm_tree_2_002"]
[78,"Palm Bush",5,47,-1,-1,0.5,30,30,3,8,0,0,0,0,0,0,0,0,0,0,0,0,0,0,0,0,0,0,0,0,0,-1,-1,-1,1,1,1,0.9,1,1,2,"palm_tree_003"]
[79,"Low Gorse",2,50,-1,-1,0.60000000000000009,-1,10,1,0,0.4,0.30000000000000004,0.5,0.5,0.60000000000000009,0.9,0,0,0,0,0,0,0,0,0,0,0,0,0,0,0,-1,-1,-1,1,0.125,1,0.9,1,6,2,"gorse_000",2,"gorse_001",2,"gorse_002",2,"dry_gorse_000",2,"dry_gorse_001",2,"dry_gorse_002"]
[80,"Medium Gorse",2,51,-1,-1,0.60000000000000009,-1,20,1,0,0.4,0.30000000000000004,0.5,0.5,0.60000000000000009,0.8,0,0,0,0,0,0,0,0,0,0,0,0,0,0,0,-1,-1,-1,1,0.25,1,0.9,1,6,2,"gorse_000",2,"gorse_001",2,"gorse_002",2,"dry_gorse_000",2,"dry_gorse_001",2,"dry_gorse_002"]
[81,"High Gorse",2,52,-1,-1,0.60000000000000009,-1,30,1,0,0.4,0.30000000000000004,0.5,0.5,0.60000000000000009,0.7,0,0,0,0,0,0,0,0,0,0,0,0,0,0,0,-1,-1,-1,1,0.5,1,0.9,1,6,2,"gorse_000",2,"gorse_001",2,"gorse_002",2,"dry_gorse_000",2,"dry_gorse_001",2,"dry_gorse_002"]
[82,"Hedge",2,53,-1,-1,0.60000000000000009,-1,30,2,0,0.4,0.30000000000000004,0.5,0.5,0.60000000000000009,0.5,0,0,0,0,1,0,0,0,0,0,0,0,0,0,0,-1,-1,-1,1,1,1,0.9,1,3,2,"hedge_000",2,"hedge_001",2,"hedge_002"]
[83,"Bocage",2,54,-1,-1,0.60000000000000009,-1,50,2,3,0,0,0,0,0,0.2,0,0,0,0,1,0,0,0,0,0,0,0,0,0,0,-1,-1,-1,1,1,1,0.9,1,1,2,"bocage_000"]
[84,"Awning",1,56,-1,-1,0.33,-1,0,0,3,0,0,0,0,0,0.60000000000000009,0,0,0,0,0,0,0,0,0,0,0,0,0,0,0,-1,-1,-1,1,1,1,0.1,0,5,2,"Ital 1stry awning 01",2,"Ital 1stry awning 02",2,"Ital 1stry awning 03",2,"Ital 1stry awning 04",2,"Ital 1stry awning 05"]
[85,"Rough Stone Wall",3,57,-1,-1,0.33,-1,30,2,12,0,0,0,0,0.30000000000000004,0.30000000000000004,0,0,1,1,1,0,0,0,0,0,0,0,0,0,3,59,59,-1,1,1,1,0,0,1,2,"Stone Fence 02"]
[86,"Small Building",4,58,1,-1,0.2,-1,50,4,6,0,0,0,0,0,0.60000000000000009,0,0,1,1,0,0,1,0,1,0,0,0,500,0,3,58,58,-1,1,1,1,2.5000000000000001E-2,1,1,2,"Ital 1stry bldg 04",0,"Ital_1stryBldg04_text_01",0,"Ital_1stryBldg04_text_02",0,"Ital_1stryBldg04_text_03",0,"Ital_1stryBldg04_text_04",0,"Ital_1stryBldg04_text_05"]
[87,"Small Building",4,59,1,-1,0.2,-1,50,4,6,0,0,0,0,0,0.60000000000000009,0,0,1,1,0,0,1,0,1,0,0,0,500,0,3,58,58,-1,1,1,1,2.5000000000000001E-2,1,1,2,"Ital 1stry bldg 05",0,"Ital_1stryBldg05_text_01",0,"Ital_1stryBldg05_text_02",0,"Ital_1stryBldg05_text_03",0,"Ital_1stryBldg05_text_04",0,"Ital_1stryBldg05_text_05"]
[88,"Small Building",4,60,1,-1,0.2,-1,50,4,6,0,0,0,0,0,0.60000000000000009,0,0,1,1,0,0,1,0,1,0,0,0,500,0,3,58,58,-1,1,1,1,2.5000000000000001E-2,1,1,2,"Ital 1stry bldg 06a",0,"Ital_1stryBldg04_text_06a",0,"Ital_1stryBldg06a_text_02",0,"Ital_1stryBldg06a_text_03",0,"Ital_1stryBldg06a_text_04",0,"Ital_1stryBldg06a_text_05"]
[89,"Small Building",4,61,1,-1,0.2,-1,50,4,6,0,0,0,0,0,0.60000000000000009,0,0,1,1,0,0,1,0,1,0,0,0,500,0,3,58,58,-1,1,1,1,2.5000000000000001E-2,1,1,2,"Ital 1stry bldg 07",0,"Ital_1stryBldg07_text_01",0,"Ital_1stryBldg07_text_02",0,"Ital_1stryBldg07_text_03",0,"Ital_1stryBldg07_text_04",0,"Ital_1stryBldg07_text_05"]
[90,"Small Building",4,62,1,-1,0.2,-1,50,4,6,0,0,0,0,0,0.60000000000000009,0,0,1,1,0,0,1,0,1,0,0,0,500,0,3,58,58,-1,1,1,1,2.5000000000000001E-2,1,1,2,"Ital 1stry bldg 08",0,"Ital_1stryBldg08_text_01",0,"Ital_1stryBldg08_text_02",0,"Ital_1stryBldg08_text_03",0,"Ital_1stryBldg08_text_04",0,"Ital_1stryBldg08_text_05"]
[91,"Barn",4,100,0,-1,0.2,-1,50,4,3,0,0,0,0,0,0.60000000000000009,0,0,1,1,0,0,0,0,0,0,0,0,0,0,0,-1,-1,-1,1,1,1,2.5000000000000001E-2,1,1,2,"AFR barn 01"]
[92,"Small Building",4,101,0,-1,0.2,-1,50,4,6,0,0,0,0,0,0.60000000000000009,0,0,1,1,0,0,1,0,1,0,0,0,500,0,3,58,58,-1,1,1,1,2.5000000000000001E-2,1,1,2,"AFR 1stry bldg 01"]
[93,"Small Building",4,102,0,-1,0.2,-1,50,4,6,0,0,0,0,0,0.60000000000000009,0,0,1,1,0,0,1,0,1,0,0,0,500,0,3,58,58,-1,1,1,1,2.5000000000000001E-2,1,2,2,"AFR 1stry bldg 01",0,"Afr_1stryBldg_text_02"]
[94,"Small Building",4,103,0,-1,0.2,-1,50,4,6,0,0,0,0,0,0.60000000000000009,0,0,1,1,0,0,1,0,1,0,0,0,500,0,3,58,58,-1,1,1,1,2.5000000000000001E-2,1,2,2,"AFR 1stry bldg 01",0,"Afr_1stryBldg_text_03"]
[95,"Small Building",4,104,0,-1,0.2,-1,50,4,6,0,0,0,0,0,0.60000000000000009,0,0,1,1,0,0,1,0,1,0,0,0,500,0,3,58,58,-1,1,1,1,2.5000000000000001E-2,1,2,2,"AFR 1stry bldg 01",0,"Afr_1stryBldg_text_04"]
[96,"Small Building",4,105,0,-1,0.2,-1,50,4,6,0,0,0,0,0,0.60000000000000009,0,0,1,1,0,0,1,0,1,0,0,0,500,0,3,58,58,-1,1,1,1,2.5000000000000001E-2,1,2,2,"AFR 1stry bldg 01",0,"Afr_1stryBldg_text_05"]
[97,"Small Building",4,106,0,-1,0.2,-1,50,4,6,0,0,0,0,0,0.60000000000000009,0,0,1,1,0,0,1,0,1,0,0,0,500,0,3,58,58,-1,1,1,1,2.5000000000000001E-2,1,1,2,"AFR 1stry bldg 02"]
[98,"Small Building",4,107,0,-1,0.2,-1,50,4,6,0,0,0,0,0,0.60000000000000009,0,0,1,1,0,0,1,0,1,0,0,0,500,0,3,58,58,-1,1,1,1,2.5000000000000001E-2,1,2,2,"AFR 1stry bldg 02",0,"Afr_1stryBldg02_text_02"]
[99,"Small Building",4,108,0,-1,0.2,-1,50,4,6,0,0,0,0,0,0.60000000000000009,0,0,1,1,0,0,1,0,1,0,0,0,500,0,3,58,58,-1,1,1,1,2.5000000000000001E-2,1,2,2,"AFR 1stry bldg 02",0,"Afr_1stryBldg02_text_03"]
[100,"Small Building",4,109,0,-1,0.2,-1,50,4,6,0,0,0,0,0,0.60000000000000009,0,0,1,1,0,0,1,0,1,0,0,0,500,0,3,58,58,-1,1,1,1,2.5000000000000001E-2,1,2,2,"AFR 1stry bldg 02",0,"Afr_1stryBldg02_text_04"]
[101,"Small Building",4,110,0,-1,0.2,-1,50,4,6,0,0,0,0,0,0.60000000000000009,0,0,1,1,0,0,1,0,1,0,0,0,500,0,3,58,58,-1,1,1,1,2.5000000000000001E-2,1,2,2,"AFR 1stry bldg 02",0,"Afr_1stryBldg02_text_05"]
[102,"Small Building",4,111,0,-1,0.2,-1,50,4,6,0,0,0,0,0,0.60000000000000009,0,0,1,1,0,0,1,0,1,0,0,0,500,0,3,58,58,-1,1,1,1,2.5000000000000001E-2,1,1,2,"AFR 1stry bldg 03"]
[103,"Small Building",4,112,0,-1,0.2,-1,50,4,6,0,0,0,0,0,0.60000000000000009,0,0,1,1,0,0,1,0,1,0,0,0,500,0,3,58,58,-1,1,1,1,2.5000000000000001E-2,1,2,2,"AFR 1stry bldg 03",0,"Afr_1stryBldg03_text_02"]
[104,"Small Building",4,113,0,-1,0.2,-1,50,4,6,0,0,0,0,0,0.60000000000000009,0,0,1,1,0,0,1,0,1,0,0,0,500,0,3,58,58,-1,1,1,1,2.5000000000000001E-2,1,2,2,"AFR 1stry bldg 03",0,"Afr_1stryBldg03_text_03"]
[105,"Small Building",4,114,0,-1,0.2,-1,50,4,6,0,0,0,0,0,0.60000000000000009,0,0,1,1,0,0,1,0,1,0,0,0,500,0,3,58,58,-1,1,1,1,2.5000000000000001E-2,1,2,2,"AFR 1stry bldg 03",0,"Afr_1stryBldg03_text_04"]
[106,"Small Building",4,115,0,-1,0.2,-1,50,4,6,0,0,0,0,0,0.60000000000000009,0,0,1,1,0,0,1,0,1,0,0,0,500,0,3,58,58,-1,1,1,1,2.5000000000000001E-2,1,2,2,"AFR 1stry bldg 03",0,"Afr_1stryBldg03_text_05"]
[107,"Low Stone Wall",3,116,0,-1,0.2,-1,30,2,12,0,0,0,0,0.30000000000000004,0.30000000000000004,0,0,1,1,1,0,0,0,0,0,0,0,0,0,3,59,59,-1,1,1,1,0,0,2,2,"Stone fence 01",0,"AFR Stone_Fence_Text"]
[108,"Mosque",4,118,0,-1,0.2,-1,50,4,8,0,0,0,0,0,0.60000000000000009,0,0,1,1,0,0,0,0,0,0,0,0,0,0,3,59,59,-1,1,1,1,2.5000000000000001E-2,1,1,2,"AFR mosque 02"]
[109,"Low Mud Wall",3,119,0,-1,0.2,-1,30,2,6,0,0,0,0,0.30000000000000004,0.30000000000000004,0,0,1,1,1,0,0,0,0,0,0,0,0,0,3,59,59,-1,1,1,1,0,0,7,2,"Stucco wall 01",0,"Stucco_HighWall01a_text",0,"Stucco_Wall01a_text",0,"Stucco_Wall01b_text",0,"Stucco_Wall01c_text",0,"Stucco_Wall01d_text",0,"Stucco_Wall01e_text"]
[110,"High Mud Wall",3,120,0,-1,0.2,-1,80,4,6,0,0,0,0,0,0,0,0,1,1,1,0,0,0,0,0,0,0,0,0,3,59,59,-1,1,1,1,0,0,7,2,"Stucco high wall 01",0,"Stucco_HighWall01a_text",0,"Stucco_Wall01a_text",0,"Stucco_Wall01b_text",0,"Stucco_Wall01c_text",0,"Stucco_Wall01d_text",0,"Stucco_Wall01e_text"]
[111,"Small Building",4,121,0,-1,0.2,-1,50,4,6,0,0,0,0,0,0.60000000000000009,0,0,1,1,0,0,1,0,1,0,0,0,500,0,3,58,58,-1,1,1,1,2.5000000000000001E-2,1,1,2,"AFR 1stry bldg 04",0,"Afr_1stryBldg04_text_01",0,"Afr_1stryBldg04_text_02",0,"Afr_1stryBldg04_text_03",0,"Afr_1stryBldg04_text_04",0,"Afr_1stryBldg04_text_05"]
[112,"Small Building",4,122,0,-1,0.2,-1,50,4,6,0,0,0,0,0,0.60000000000000009,0,0,1,1,0,0,1,0,1,0,0,0,500,0,3,58,58,-1,1,1,1,2.5000000000000001E-2,1,1,2,"AFR 1stry bldg 05",0,"Afr_1stryBldg05_text_01",0,"Afr_1stryBldg05_text_02",0,"Afr_1stryBldg05_text_03",0,"Afr_1stryBldg05_text_04",0,"Afr_1stryBldg05_text_05"]
[113,"Small Building",4,123,0,-1,0.2,-1,50,4,6,0,0,0,0,0,0.60000000000000009,0,0,1,1,0,0,1,0,1,0,0,0,500,0,3,58,58,-1,1,1,1,2.5000000000000001E-2,1,1,2,"AFR 1stry bldg 06",0,"Afr_1stryBldg06_text_01",0,"Afr_1stryBldg06_text_02",0,"Afr_1stryBldg06_text_03",0,"Afr_1stryBldg06_text_04",0,"Afr_1stryBldg06_text_05"]
[114,"Small Building",4,200,2,-1,0.2,-1,50,4,6,0,0,0,0,0,0.60000000000000009,0,0,1,1,0,0,1,0,1,0,0,0,500,0,3,58,58,-1,1,1,1,2.5000000000000001E-2,1,1,2,"Norm 1stry bldg 02"]
[115,"Small Building",4,201,2,-1,0.2,-1,50,4,6,0,0,0,0,0,0.60000000000000009,0,0,1,1,0,0,1,0,1,0,0,0,500,0,3,58,58,-1,1,1,1,2.5000000000000001E-2,1,2,2,"Norm 1stry bldg 02",0,"Norm_1stryBldg02_text_02"]
[116,"Small Building",4,202,2,-1,0.2,-1,50,4,6,0,0,0,0,0,0.60000000000000009,0,0,1,1,0,0,1,0,1,0,0,0,500,0,3,58,58,-1,1,1,1,2.5000000000000001E-2,1,2,2,"Norm 1stry bldg 02",0,"Norm_1stryBldg02_text_03"]
[117,"Small Building",4,203,2,-1,0.2,-1,50,4,6,0,0,0,0,0,0.60000000000000009,0,0,1,1,0,0,1,0,1,0,0,0,500,0,3,58,58,-1,1,1,1,2.5000000000000001E-2,1,2,2,"Norm 1stry bldg 02",0,"Norm_1stryBldg02_text_04"]
[118,"Small Building",4,204,2,-1,0.2,-1,50,4,6,0,0,0,0,0,0.60000000000000009,0,0,1,1,0,0,1,0,1,0,0,0,500,0,3,58,58,-1,1,1,1,2.5000000000000001E-2,1,2,2,"Norm 1stry bldg 02",0,"Norm_1stryBldg02_text_05"]
[119,"Small Building",4,205,2,-1,0.2,-1,50,4,6,0,0,0,0,0,0.60000000000000009,0,0,1,1,0,0,1,0,1,0,0,0,500,0,3,58,58,-1,1,1,1,2.5000000000000001E-2,1,1,2,"Norm 1stry bldg 03"]
[120,"Small Building",4,206,2,-1,0.2,-1,50,4,6,0,0,0,0,0,0.60000000000000009,0,0,1,1,0,0,1,0,1,0,0,0,500,0,3,58,58,-1,1,1,1,2.5000000000000001E-2,1,2,2,"Norm 1stry bldg 03",0,"Norm_1stryBldg03_text_02"]
[121,"Small Building",4,207,2,-1,0.2,-1,50,4,6,0,0,0,0,0,0.60000000000000009,0,0,1,1,0,0,1,0,1,0,0,0,500,0,3,58,58,-1,1,1,1,2.5000000000000001E-2,1,2,2,"Norm 1stry bldg 03",0,"Norm_1stryBldg03_text_03"]
[122,"Small Building",4,208,2,-1,0.2,-1,50,4,6,0,0,0,0,0,0.60000000000000009,0,0,1,1,0,0,1,0,1,0,0,0,500,0,3,58,58,-1,1,1,1,2.5000000000000001E-2,1,2,2,"Norm 1stry bldg 03",0,"Norm_1stryBldg03_text_04"]
[123,"Small Building",4,209,2,-1,0.2,-1,50,4,6,0,0,0,0,0,0.60000000000000009,0,0,1,1,0,0,1,0,1,0,0,0,500,0,3,58,58,-1,1,1,1,2.5000000000000001E-2,1,2,2,"Norm 1stry bldg 03",0,"Norm_1stryBldg03_text_05"]
[124,"Small Building",4,210,2,-1,0.2,-1,50,4,6,0,0,0,0,0,0.60000000000000009,0,0,1,1,0,0,1,0,1,0,0,0,500,0,3,58,58,-1,1,1,1,2.5000000000000001E-2,1,1,2,"Norm 1stry bldg 04"]
[125,"Small Building",4,211,2,-1,0.2,-1,50,4,6,0,0,0,0,0,0.60000000000000009,0,0,1,1,0,0,1,0,1,0,0,0,500,0,3,58,58,-1,1,1,1,2.5000000000000001E-2,1,2,2,"Norm 1stry bldg 04",0,"Norm_1stryBldg04_text_02"]
[126,"Small Building",4,212,2,-1,0.2,-1,50,4,6,0,0,0,0,0,0.60000000000000009,0,0,1,1,0,0,1,0,1,0,0,0,500,0,3,58,58,-1,1,1,1,2.5000000000000001E-2,1,2,2,"Norm 1stry bldg 04",0,"Norm_1stryBldg04_text_03"]
[127,"Small Building",4,213,2,-1,0.2,-1,50,4,6,0,0,0,0,0,0.60000000000000009,0,0,1,1,0,0,1,0,1,0,0,0,500,0,3,58,58,-1,1,1,1,2.5000000000000001E-2,1,2,2,"Norm 1stry bldg 04",0,"Norm_1stryBldg04_text_04"]
[128,"Small Building",4,214,2,-1,0.2,-1,50,4,6,0,0,0,0,0,0.60000000000000009,0,0,1,1,0,0,1,0,1,0,0,0,500,0,3,58,58,-1,1,1,1,2.5000000000000001E-2,1,2,2,"Norm 1stry bldg 04",0,"Norm_1stryBldg04_text_05"]
[129,"Church",4,215,2,-1,0.2,-1,50,4,10,0,0,0,0,0,0.60000000000000009,0,0,1,1,0,0,0,0,0,0,0,0,0,0,3,58,58,-1,1,1,1,2.5000000000000001E-2,1,1,2,"Norm 1stry church 01"]
[130,"Barn",4,216,2,-1,0.2,-1,50,4,8,0,0,0,0,0,0.60000000000000009,0,0,1,1,0,0,0,0,0,0,0,0,0,0,3,58,58,-1,1,1,1,2.5000000000000001E-2,1,1,2,"Norm LG barn 01"]
[131,"Normandy Bldg No.5",4,217,2,-1,0.2,-1,50,4,6,0,0,0,0,0,0.60000000000000009,0,0,1,1,0,0,1,0,1,0,0,0,500,0,3,59,59,-1,1,1,1,2.5000000000000001E-2,1,6,2,"Norm 1stry bldg 05",0,"Norm_1stryBldg05_text_01",0,"Norm_1stryBldg05_text_02",0,"Norm_1stryBldg05_text_03",0,"Norm_1stryBldg05_text_04",0,"Norm_1stryBldg05_text_05"]
[132,"Normandy Bldg No.6",4,218,2,-1,0.2,-1,50,4,6,0,0,0,0,0,0.60000000000000009,0,0,1,1,0,0,1,0,1,0,0,0,500,0,3,59,59,-1,1,1,1,2.5000000000000001E-2,1,6,2,"Norm 1stry bldg 06",0,"Norm_1stryBldg06_text_01",0,"Norm_1stryBldg06_text_02",0,"Norm_1stryBldg06_text_03",0,"Norm_1stryBldg06_text_04",0,"Norm_1stryBldg06_text_05"]
[133,"Normandy Bldg No.7",4,219,2,-1,0.2,-1,50,4,6,0,0,0,0,0,0.60000000000000009,0,0,1,1,0,0,1,0,1,0,0,0,500,0,3,59,59,-1,1,1,1,2.5000000000000001E-2,1,6,2,"Norm 1stry bldg 07",0,"Norm_1stryBldg07_text_01",0,"Norm_1stryBldg07_text_02",0,"Norm_1stryBldg07_text_03",0,"Norm_1stryBldg07_text_04",0,"Norm_1stryBldg07_text_05"]
[134,"Normandy Bldg No.8",4,220,2,-1,0.2,-1,50,4,6,0,0,0,0,0,0.60000000000000009,0,0,1,1,0,0,1,0,1,0,0,0,500,0,3,59,59,-1,1,1,1,2.5000000000000001E-2,1,6,2,"Norm 1stry bldg 08",0,"Norm_1stryBldg08_text_01",0,"Norm_1stryBldg08_text_02",0,"Norm_1stryBldg08_text_03",0,"Norm_1stryBldg08_text_04",0,"Norm_1stryBldg08_text_05"]
[135,"Stone Bridge",6,300,-1,-1,0.2,-1,30,2,12,0.9,0.9,0.9,0.9,0.9,1,0,0,0,0,0,0,0,0,0,0,0,0,0,0,2,-1,-1,-1,1,1,1,0,0,1,2,"stone bridge 01",2,"stone bridge 01 transition"]
[136,"Wooden Bridge",6,301,-1,-1,0.2,-1,20,2,3,0.9,0.9,0.9,0.9,0.9,1,0,0,0,0,0,0,0,0,0,0,0,0,0,0,0,-1,-1,-1,1,1,1,0,0,1,2,"sm wood bridge 01",2,"sm wood bridge 01 transition"]
[137,"Steel Bridge",6,302,-1,-1,0.2,-1,20,2,16,0.9,0.9,0.9,0.9,0.9,1,0,0,0,0,0,0,0,0,0,0,0,0,0,0,0,-1,-1,-1,1,1,1,0,0,1,2,"steel bridge 01",2,"steel bridge 01 transition"]
[138,"Gun Pit",7,305,-1,-1,0.2,-1,50,2,12,0.7,0,0,0,0,0.5,0,0,0,0,0,1,0,0,0,0,0,0,0,0,0,-1,-1,-1,1,1,1,2.5000000000000001E-2,1,1,2,"AT gun foxhole"]
[139,"MG Position",7,306,-1,-1,0.2,-1,50,3,12,0,0,0,0,0,0.5,0,0,0,0,0,1,0,0,0,0,0,0,0,0,0,-1,-1,-1,1,1,1,2.5000000000000001E-2,1,1,2,"US MG foxhole"]
[140,"MG Position",7,307,-1,-1,0.2,-1,50,3,12,0,0,0,0,0,0.5,0,0,0,0,0,1,0,0,0,0,0,0,0,0,0,-1,-1,-1,1,1,1,2.5000000000000001E-2,1,1,2,"GE MG foxhole"]
[141,"Foxhole",7,308,-1,-1,0.2,-1,50,3,12,0,0,0,0,0,0.5,0,0,0,0,0,1,0,0,0,0,0,0,0,0,0,-1,-1,-1,1,1,1,2.5000000000000001E-2,1,1,2,"slitTrench01"]
[142,"Ammo Crate",1,310,-1,-1,0.33,-1,20,2,3,0,0,0,0,0,0,0,0,0,0,0,0,0,0,0,0,0,0,0,0,3,58,58,-1,1,1,1,0.1,0,3,2,"crate02",0,"woodCrate02_text 01",0,"woodCrate02_text 02"]
[143,"Dead Camel",1,311,0,-1,0.2,-1,20,1,8,0,0,0,0,0,0,0,0,0,0,0,0,0,0,0,0,0,0,0,0,0,-1,-1,-1,1,1,1,0.1,1,6,2,"camel",0,"camel_text_01",0,"camel_text_02",0,"camel_text_03",0,"camel_text_04",0,"camel_text_05"]
[144,"Dead Cow",1,312,-1,-1,0.2,-1,20,1,8,0,0,0,0,0,0,0,0,0,0,0,0,0,0,0,0,0,0,0,0,0,-1,-1,-1,1,1,1,0.1,1,6,2,"cow",0,"cow_text_01",0,"cow_text_02",0,"cow_text_04",0,"cow_text_05",0,"cow_text_07"]
[145,"Dead Horse",1,313,-1,-1,0.2,-1,20,1,8,0,0,0,0,0,0,0,0,0,0,0,0,0,0,0,0,0,0,0,0,0,-1,-1,-1,1,1,1,0.1,1,6,2,"horse",0,"horse_text_01",0,"horse_text_03",0,"horse_text_04",0,"horse_text_05",0,"horse_text_06"]
[146,"Fuel Drum",1,314,-1,-1,0.33,-1,20,2,3,0,0,0,0,0,0,0,0,0,0,0,0,0,0,0,0,0,0,0,0,0,-1,-1,-1,1,1,1,0.1,0,7,2,"fuel drum",0,"fuel_drum_US_text_01",0,"fuel_drum_US_text_02",0,"fuel_drum_US_text_03",0,"fuel_drum_GE_text_01",0,"fuel_drum_GE_text_02",0,"fuel_drum_GE_text_03"]
[147,"Haystack",1,315,-1,-1,0.33,-1,30,3,1,0,0,0,0,0,0,0,0,1,1,0,0,0,0,0,0,0,0,0,0,0,-1,-1,-1,1,1,1,0.1,1,5,2,"haystack",0,"Haystack text01",0,"Haystack text02",0,"Haystack text03",0,"Haystack text04"]
[148,"Tractor",1,316,-1,-1,0.33,-1,50,3,8,0,0,0,0,0,0,0,0,1,1,0,0,0,0,0,0,0,0,0,0,0,-1,-1,-1,1,1,1,0,0,6,2,"tractor",0,"tractor_text_01",0,"tractor_text_02",0,"tractor_text_03",0,"tractor_text_04",0,"tractor_text_05"]
[149,"Utility Pole T",1,317,0,-1,0.33,-1,10,4,8,0,0,0,0,0,0,0,0,0,0,0,0,0,0,0,0,0,0,0,0,0,-1,-1,-1,1,1,1,0.1,0,1,2,"phone poles AFR"]
[150,"Utility Pole S",1,318,1,-1,0.33,-1,10,4,8,0,0,0,0,0,0,0,0,0,0,0,0,0,0,0,0,0,0,0,0,0,-1,-1,-1,1,1,1,0.1,0,1,2,"phone poles ITAL"]
[151,"Utility Pole N",1,319,2,-1,0.33,-1,10,4,8,0,0,0,0,0,0,0,0,0,0,0,0,0,0,0,0,0,0,0,0,0,-1,-1,-1,1,1,1,0.1,0,1,2,"phone pole NORM"]
[152,"Camo Net",1,320,-1,-1,0.2,-1,50,4,0,0.60000000000000009,0,0,0,0,0.60000000000000009,0,0,0,0,0,0,0,0,0,0,0,0,0,0,0,-1,-1,-1,1,1,1,0.1,1,7,2,"camo net",0,"camo net text 01",0,"camo net text 02",0,"camo net text 03",0,"camo net text 04",0,"camo net text 05",0,"camo net text 06"]
[153,"Boulder",1,321,-1,-1,0.60000000000000009,-1,30,2,500,0,0,0,0,0,0,0,0,1,1,0,0,0,0,0,0,0,0,0,0,0,-1,-1,-1,1,1,1,0.1,0,9,2,"boulder 01",2,"boulder 02",2,"boulder 03",2,"boulder 04",2,"boulder 05",2,"boulder 06",2,"boulder 07",2,"boulder 08",2,"boulder 09",2,"boulder 10"]
[154,"Wreck",1,400,-1,-1,0.33,-1,50,3,500,0,0,0,0,0,0,0,0,1,1,0,0,0,0,0,0,0,0,0,0,0,-1,-1,-1,1,1,1,0,0,2,2,"M4 Sherman",0,"M4_sherman_wreck"]

{"sheet":"NATIONS","index":1,"n_rows":18,"n_cols":11,"rows_kept":18,"cut":false,"hidden":false,"merged":[]}
[null,null,null,null,null,"Service Names"]
[null,"Name","Tag","Army","Navy","Airforce","Marines","Political","Security","Militia","Other"]
["COUNT",3]
[0,"United States","US","Army","Navy","Air Corps","Marine"]
[1,"Germany","GE","Heer","KM","LW",null,"SS",null,"VSt"]
[2,"Italy","IT","RE",null,null,null,"CNN"]
["UNIT NAME",0,1,2,3,4,5,6,7,8]
[0,"Squad","Section","Platoon","Company","Battalion","Regiment","Divison","Corps","Army"]
[1,"Gruppe","Gruppe","Zug","Kompanie","Bataillon","Regiment","Division","Korps","Armee"]
[2,"Squadra","Sezione","Plotone","Compagnia","Battaglione","Reggimento","Divisione","Corpo","Armata"]
["PLATOON NUMBERING"]
[0,"1st","2nd","3rd","4th","5th","6th","7th","8th","9th","10th"]
[1,"1.","2.","3.","4.","5.","6.","7.","8.","9.","10."]
[2,"1º","2º","3º","4º","5º","6º","7º","8º","9º","10º"]
["REPLACEMENT SOLDIERS"]
[0,141]
[1,334]
[2,357]

{"sheet":"RANKS","index":2,"n_rows":18,"n_cols":18,"rows_kept":18,"cut":false,"hidden":false,"merged":[]}
[null,null,null,null,null,null,null,null,null,"Rank Full"]
[null,"NATION","SERVICE","E0","E1","E2","E3","E4","E5","E6","E7","E8","O1","O2","O3","O4","O5","O6"]
["COUNT:",5]
["FULL RANKS",0,0,"Private","Private First Class","Technician Fifth Grade","Corporal","Sergeant","Staff Sergeant","Technical Sergeant","First Sergeant","Master Sergeant","Second Lieutenant","First Lieutenant","Captain","Major","Lieutenant Colonel","Colonel"]
[null,1,0,"Schütze","Oberschütze","Gefreiter","Obergefreiter","Unteroffizier","Unterfeldwebel","Feldwebel","Oberfeldwebel","Stabsfeldwebel","Leutnant","Oberleutnant","Hauptmann","Major","Oberstleutnant","Oberst"]
[null,2,0,"Soldato","Soldato Scelto","Caporale","Caporale maggiore","Sergente","Sergente maggiore","Maresciallo","Maresciallo capo","Maresciallo maggiore","Sottotenente","Tenente","Capitano","Maggiore","Tenente Colonello","Colonello"]
[null,1,4,"Schütze","Oberschütze","Sturmmann","Rottenführer","Unterscharführer","Scharführer","Oberscharführer","Hauptscharführer","Sturmscharführer","Untersturmführer","Obersturmführer","Hauptsturmführer","Sturmbannführer","Obersturmbannführer","Standartenführer"]
[null,1,2,"Jäger","Oberjäger","Gefreiter","Obergefreiter","Unteroffizier","Unterfeldwebel","Feldwebel","Oberfeldwebel","Stabsfeldwebel","Leutnant","Oberleutnant","Hauptmann","Major","Oberstleutnant","Oberst"]
["ABBREVIATIONS",0,0,"Pvt","Pfc","T/5","Cpl","Sgt","S/Sgt","T/Sgt","1st Sgt","M/Sgt","2d Lt","1st Lt","Capt","Maj","Lt Col","Col"]
[null,1,0,"Stze","Ostz","Gefr","Ogefr","Uffz","Ufw","Fw","Obfw","Stabsfw","Lt","Oblt","Hptm","Maj","Obstlt","Obst"]
[null,2,0,"Sold","Sold.Sc","C.le","C.le.Magg","Serg","Serg.Magg","Mar","Mar.Ca","Mar.Magg","S.Ten","Ten","Cap","Magg","Ten.Col","Col"]
[null,1,4,"Stze","Ostz","Strm","Rttf","Uscha","Scha","Oscha","Hscha","Stuscha","Ustf","Ostf","Hstf","Stubaf","Ostubaf","Staf"]
[null,1,2,"Jg","Ojg","Gefr","Ogefr","Uffz","Ufw","Fw","Obfw","Stabsfw","Lt","Oblt","Hptm","Maj","Obstlt","Obst"]
["PROMOTION TRACK",0,0,1,3,3,4,5,-1,-1,-1,-1,10,11,12,13,14,-1]
[null,1,0,2,3,3,4,6,6,7,-1,-1,10,11,12,13,14,-1]
[null,2,0,1,2,3,4,5,-1,-1,-1,-1,10,11,12,13,14,-1]
[null,1,4,2,3,3,4,6,6,7,-1,-1,10,11,12,13,14,-1]
[null,1,2,2,3,3,4,6,6,7,-1,-1,10,11,12,13,14,-1]

{"sheet":"MEDALS","index":3,"n_rows":8,"n_cols":8,"rows_kept":8,"cut":false,"hidden":false,"merged":[]}
[null,null,null,null,"MEDAL NAME"]
[null,"NATION","WOUND","COMBAT","VALOR0","VALOR1","VALOR2","VALOR3"]
[null,"COUNT",3]
[null,0,"Purple Heart","Combat Infantry Badge","Bronze Star","Silver Star","Distinguished Service Cross","Medal of Honor"]
[null,1,"Wound Badge","Infantry Assault Badge","Iron Cross 2nd Class","Iron Cross 1st Class","German Cross","Knight's Cross"]
[null,2,"Badge of Honor","War Merit Cross","War Cross for Valor","Bronze Medal of Valor","Silver Medal of Valor","Gold Medal of Valor"]
[]
[null,null,"http://en.ww2awards.com/award/457","http://en.ww2awards.com/award/1647","http://en.ww2awards.com/award/451","http://en.ww2awards.com/award/450"]

{"sheet":"UNIFORMS","index":4,"n_rows":80,"n_cols":8,"rows_kept":80,"cut":false,"hidden":false,"merged":[]}
[19]
["index","Name","Uniform Count","Texture0","Date1","Texture1","Date2","Texture2"]
["[COUNT]","77"]
[0,"US Infantry",1,"US Army Infantry soldier text"]
[1,"US Armor Crew",1,"US Army tank crew text"]
[2,"US Airborne",1,"US Airborne Infantry text"]
[3,"US Infantry FT",1,"US Army Infantry FT text"]
[4,"US Airborne FT",1,"US Airborne Infantry FT text"]
[5,"(Reserved)",0]
[6,"(Reserved)",0]
[7,"(Reserved)",0]
[8,"GE Infantry",2,"GE heer Tunisia text","1943 05 31","GE heer text"]
[9,"GE Armor Crew",1,"GE tank crew text"]
[10,"GE FJ",1,"GE FJ text"]
[11,"GE SS",1,"GE SS text"]
[12,"GE Infantry FT",2,"GE heer FT Tunisia text","1943 05 31","GE heer FT text"]
[13,"GE FJ flamethrower",1,"GE FJ FT text"]
[14,"GE SS flamethrower",1,"GE SS FT text"]
[15,"(Reserved)",0]
[16,"IT Infantry",1,"GE heer Tunisia text"]
[17,"IT Bels.",1,"GE heer Tunisia text"]
[18,"IT Armor Crew",1,"GE tank crew text"]
[{"$f":"A22+1","v":19},"IT Infantry FT",1,"GE heer FT Tunisia text"]
[20,"(Reserved)",0]
[21,"(Reserved)",0]
[22,"(Reserved)",0]
[23,"(Reserved)",0]
[24,"(Reserved)",0]
[25,"(Reserved)",0]
[26,"(Reserved)",0]
[27,"(Reserved)",0]
[28,"(Reserved)",0]
[29,"(Reserved)",0]
[30,"M3 Light Tank",1,"M3_Stuart_text"]
[31,"M3 Medium Tank",1,"M3 Lee text"]
[32,"M4 Medium Tank",2,"M4_sherman","1944 06 05","M4_Sherman_camo"]
[33,"M4A1 Medium Tank",2,"M4A1_75mm_text","1944 06 05","M4A1_75mm_camo_text"]
[34,"M3 75mm GMC",1,"T12_75mmM3ht_text"]
[35,"M10 3-Inch GMC",2,"M10_wolverine_OD_text","1944 06 05","M10_wolverine_camo_text"]
[36,"M2 Halftrack",1,"M3A1halftrack_text"]
[37,"M2A1 Halftrack",1,"M3A1halftrack_text"]
[38,"M3 Halftrack",1,"M3A1halftrack_text"]
[39,"M3A1 Halftrack",1,"M3A1halftrack_text"]
[40,"T19 105mm HMC",1,"T19_105mmHT_text"]
[41,"T30 75mm HMC",1,"T30_75mmM3ht_text"]
[42,"3/4 Ton Weapons Carrier",1,"075t_wpncarrier_text"]
[43,"2 1/2 Ton Truck",1,"Dodge_truck_text"]
[44,"Jeep",1,"Jeep_text"]
[45,"M3 Scout Car",1,"White Scout M3A1 text"]
[46,"M20 Armored Utility Car",1,"M20AC text"]
[47,"M8 Armored Car",1,"M8 Greyhound text"]
[48,"T12 75mm HMC",1,"T12_75mmM3ht_text"]
[49,"Jeep w/ 30cal",1,"Jeep_text"]
[50,"JgPz IV",3,"JgpzIV_dunkelgelb_text","1943 05 31","JgpzIV_tiger_text","1944 06 05","JgpzIV_woodland_text"]
[{"$f":"A54+1","v":51},"Pz VIE Tiger",3,"tiger I dunkelgelb","1943 05 31","tiger I tiger stripe camo","1944 06 05","tiger I woodlands camo"]
[52,"Pz VA Panther",3,"panther_dunkelgelb_text","1943 05 31","panther_tiger_text","1944 06 05","panther_woodland_text"]
[53,"Panzer IIF",2,"Panzer II Dunkelgelb text","1943 05 31","Panzer II Grey text"]
[54,"Panzer IVF1",3,"Panzer IVF1 dunkelgelb text","1943 05 31","Panzer IVF1 tigerstripe text","1944 06 05","Panzer IVF1 woodland text"]
[55,"Panzer IVG",3,"Panzer IVG dunkelgelb text","1943 05 31","Panzer IVG tigerstripe text","1944 06 05","Panzer IVG woodland text"]
[56,"SdKfz 251/1",1,"sdkfz 251 text"]
[57,"SdKfz 251/9",1,"sdkfz 251_9 text"]
[58,"SdKfz 251/10",1,"sdkfz 251_10 text"]
[59,"StuG IIIF",3,"StuG_IIIG_dunkelgelb_text","1943 05 31","StuG_IIIG_tiger_text","1944 06 05","StuG_IIIG_woodland_text"]
[60,"StuG IIIG",3,"StuG_IIIG_dunkelgelb_text","1943 05 31","StuG_IIIG_tiger_text","1944 06 05","StuG_IIIG_woodland_text"]
[61,"Kubelwagon",1,"Kubelwagen text"]
[62,"Opel Blitz",1,"opel_blitz_text"]
[63,"PSW 222",2,"PSW222_text_dunkelgelb","1943 05 31","PSW222_text_grey"]
[64,"PSW 232",2,"PSW 232 dunkelgelb text","1943 05 31","PSW 232 grey text"]
[65,"SdKfz 250/1",1,"SdKfz 250 text"]
[66,"SdKfz 250/8",1,"SdKfz 250_8 text"]
[67,"SdKfz 250/10",1,"SdKfz 250_10 text"]
[68,"Panzer III",3,"Pz Kpfw III dunkelgelb text","1943 05 31","Pz Kpfw III tiger text","1944 06 05","Pz Kpfw III wood text"]
[69,"Marder IIIH",3,"Marder IIIH SdKfz138 dunkelgelb text","1943 05 31","Marder IIIH SdKfz138 text","1944 06 05","Marder IIIH SdKfz138 tiger text"]
[70,"M14/41",2,"M14_41_text","1943 05 31","M14_41_text02"]
[71,"M5 Light Tank",1,"M5 Stuart text"]
[72,"M4A1 (76) Medium Tank",2,"M4A1 76mm Sherman text","1944 06 05","M4A1 76mm Sherman CAMO text"]
[73,"M4(105) Medium Tank",2,"M4A3 105mm Sherman text","1944 06 05","M4A3 105mm Sherman CAMO text"]
[74,"88mm Flak",2,"88mm flak 36 Dunkelgelb text","1943 05 31","88mm flak 36 text"]
[75,"Semovente",2,"Semovente M41 dunkelgelb text","1943 05 31","Semovente M41 OD text"]
[76,"Fiat SPA 38",1,"opel_blitz_ITAL_text"]

{"sheet":"POSITIONS","index":5,"n_rows":34,"n_cols":2,"rows_kept":34,"cut":false,"hidden":false,"merged":[]}
[]
[]
[0,"Driver"]
[{"$f":"A3+1","v":1},"Gunner"]
[2,"Commander"]
[3,"Loader"]
[4,"Radioman"]
[5,"Asst. Gunner"]
[6,"Asst. Loader"]
[7,"Asst. Driver"]
[8,"Ammo Bearer"]
[9,"Passenger"]
[10,"Rider"]
[11,"Company Cmdr"]
[12,"Platoon Cmdr"]
[13,"Section Leader"]
[14,"Squad Leader"]
[15,"Asst. Leader"]
[16,"Team Leader"]
[17,"Platoon Sgt"]
[18,"Platoon Guide"]
[19,"Messenger"]
[20,"Rifleman"]
[21,"Pioneer"]
[22,"Engineer"]
[23,"Demo Man"]
[24,"Scout"]
[25,"Crewman"]
[26,"Auto Rifleman"]
[27,"Basic"]
[28,"Sniper"]
[29,"Rifle Grenadier"]
[30,"Comms Sgt."]
[31,"First Sgt."]

{"sheet":"FATIGUE","index":6,"n_rows":266,"n_cols":10,"rows_kept":266,"cut":false,"hidden":false,"merged":[]}
[null,null,null,"> 1/3 = Winded, > 2/3 = Fatigued",null,null,null,"10% after 30 seconds, 50% after 160 seconds"]
["COUNT",28,null,170,null,340,null,51,null,256]
["ACTION_NONE",0]
["ACTION_REST",0,null,"Val accumulates every 0.033 seconds"]
["ACTION_MOVE_CRAWL",8,{"$f":"B5*33","v":264},"Fatigue add = value / 100?",null,null,null,"new_add = (short) ((add * (CCTrait::MAX - trait)) >> CCTrait::SHIFT);"]
["ACTION_MOVE_WALK",4,132,null,null,"TIMES","Prev","New"]
["ACTION_MOVE_RUN",16,528,null,null,null,0,1,{"$f":"((H7*(512-G7))/512)","v":1}]
["ACTION_COWER",1,33,null,null,1,{"$f":"G7+INT(I7)","v":1},1,{"$f":"((H8*INT((512-G8))/512+0.5))","v":1.498046875}]
["ACTION_TURN",1,33,null,null,{"$f":"F8+1","v":2},2,1,1.49609375]
["ACTION_PRONE",1,33,null,null,3,3,1,1.494140625]
["ACTION_CROUCH",1,33,null,null,4,4,1,1.4921875]
["ACTION_STAND",1,33,null,null,5,5,1,1.490234375]
["ACTION_LOADER",1,33,null,null,6,6,1,1.48828125]
["ACTION_SPOTTER",1,33,null,null,7,7,1,1.486328125]
["ACTION_AMMO",2,66,null,null,8,8,1,1.484375]
["ACTION_SETUP",2,66,null,null,9,9,1,1.482421875]
["ACTION_LOAD",1,33,null,null,10,10,1,1.48046875]
["ACTION_RELOAD",2,66,null,null,11,11,1,1.478515625]
["ACTION_REPAIR",2,66,null,null,12,12,1,1.4765625]
["ACTION_AIM",1,33,null,null,13,13,1,1.474609375]
["ACTION_FIRE",2,66,null,null,14,14,1,1.47265625]
["ACTION_SURRENDER",0,0,null,null,15,15,1,1.470703125]
["ACTION_DRIVE",2,66,null,null,16,16,1,1.46875]
["ACTION_ROTATE",2,66,null,null,17,17,1,1.466796875]
["ACTION_PLOT",4,132,null,null,18,18,1,1.46484375]
["ACTION_SCAVENGE",4,132,null,null,19,19,1,1.462890625]
["ACTION_PUSH",25,825,null,null,20,20,1,1.4609375]
["ACTION_SPRINT",20,660,null,null,21,21,1,1.458984375]
["ACTION_MOUNT",8,264,null,null,22,22,1,1.45703125]
["ACTION_DISMOUNT",8,264,null,null,23,23,1,1.455078125]
["ACTION_LEAP",8,264,null,null,24,24,1,1.453125]
["ACTION_VAULT",8,264,null,null,25,25,1,1.451171875]
[null,null,null,null,null,26,26,1,1.44921875]
[null,null,null,null,null,27,27,1,1.447265625]
[null,null,null,null,null,28,28,1,1.4453125]
[null,null,null,null,null,29,29,1,1.443359375]
[null,null,null,null,null,30,30,1,1.44140625]
[null,null,null,null,null,31,31,1,1.439453125]
[null,null,null,null,null,32,32,1,1.4375]
[null,null,null,null,null,33,33,1,1.435546875]
[null,null,null,null,null,34,34,1,1.43359375]
[null,null,null,null,null,35,35,1,1.431640625]
[null,null,null,null,null,36,36,1,1.4296875]
[null,null,null,null,null,37,37,1,1.427734375]
[null,null,null,null,null,38,38,1,1.42578125]
[null,null,null,null,null,39,39,1,1.423828125]
[null,null,null,null,null,40,40,1,1.421875]
[null,null,null,null,null,41,41,1,1.419921875]
[null,null,null,null,null,42,42,1,1.41796875]
[null,null,null,null,null,43,43,1,1.416015625]
[null,null,null,null,null,44,44,1,1.4140625]
[null,null,null,null,null,45,45,1,1.412109375]
[null,null,null,null,null,46,46,1,1.41015625]
[null,null,null,null,null,47,47,1,1.408203125]
[null,null,null,null,null,48,48,1,1.40625]
[null,null,null,null,null,49,49,1,1.404296875]
[null,null,null,null,null,50,50,1,1.40234375]
[null,null,null,null,null,51,51,1,1.400390625]
[null,null,null,null,null,52,52,1,1.3984375]
[null,null,null,null,null,53,53,1,1.396484375]
[null,null,null,null,null,54,54,1,1.39453125]
[null,null,null,null,null,55,55,1,1.392578125]
[null,null,null,null,null,56,56,1,1.390625]
[null,null,null,null,null,57,57,1,1.388671875]
[null,null,null,null,null,58,58,1,1.38671875]
[null,null,null,null,null,59,59,1,1.384765625]
[null,null,null,null,null,60,60,1,1.3828125]
[null,null,null,null,null,61,61,1,1.380859375]
[null,null,null,null,null,62,62,1,1.37890625]
[null,null,null,null,null,63,63,1,1.376953125]
[null,null,null,null,null,64,64,1,1.375]
[null,null,null,null,null,65,{"$f":"G71+INT(I71)","v":65},1,{"$f":"((H72*INT((512-G72))/512+0.5))","v":1.373046875}]
[null,null,null,null,null,{"$f":"F72+1","v":66},66,1,1.37109375]
[null,null,null,null,null,67,67,1,1.369140625]
[null,null,null,null,null,68,68,1,1.3671875]
[null,null,null,null,null,69,69,1,1.365234375]
[null,null,null,null,null,70,70,1,1.36328125]
[null,null,null,null,null,71,71,1,1.361328125]
[null,null,null,null,null,72,72,1,1.359375]
[null,null,null,null,null,73,73,1,1.357421875]
[null,null,null,null,null,74,74,1,1.35546875]
[null,null,null,null,null,75,75,1,1.353515625]
[null,null,null,null,null,76,76,1,1.3515625]
[null,null,null,null,null,77,77,1,1.349609375]
[null,null,null,null,null,78,78,1,1.34765625]
[null,null,null,null,null,79,79,1,1.345703125]
[null,null,null,null,null,80,80,1,1.34375]
[null,null,null,null,null,81,81,1,1.341796875]
[null,null,null,null,null,82,82,1,1.33984375]
[null,null,null,null,null,83,83,1,1.337890625]
[null,null,null,null,null,84,84,1,1.3359375]
[null,null,null,null,null,85,85,1,1.333984375]
[null,null,null,null,null,86,86,1,1.33203125]
[null,null,null,null,null,87,87,1,1.330078125]
[null,null,null,null,null,88,88,1,1.328125]
[null,null,null,null,null,89,89,1,1.326171875]
[null,null,null,null,null,90,90,1,1.32421875]
[null,null,null,null,null,91,91,1,1.322265625]
[null,null,null,null,null,92,92,1,1.3203125]
[null,null,null,null,null,93,93,1,1.318359375]
[null,null,null,null,null,94,94,1,1.31640625]
[null,null,null,null,null,95,95,1,1.314453125]
[null,null,null,null,null,96,96,1,1.3125]
[null,null,null,null,null,97,97,1,1.310546875]
[null,null,null,null,null,98,98,1,1.30859375]
[null,null,null,null,null,99,99,1,1.306640625]
[null,null,null,null,null,100,100,1,1.3046875]
[null,null,null,null,null,101,101,1,1.302734375]
[null,null,null,null,null,102,102,1,1.30078125]
[null,null,null,null,null,103,103,1,1.298828125]
[null,null,null,null,null,104,104,1,1.296875]
[null,null,null,null,null,105,105,1,1.294921875]
[null,null,null,null,null,106,106,1,1.29296875]
[null,null,null,null,null,107,107,1,1.291015625]
[null,null,null,null,null,108,108,1,1.2890625]
[null,null,null,null,null,109,109,1,1.287109375]
[null,null,null,null,null,110,110,1,1.28515625]
[null,null,null,null,null,111,111,1,1.283203125]
[null,null,null,null,null,112,112,1,1.28125]
[null,null,null,null,null,113,113,1,1.279296875]
[null,null,null,null,null,114,114,1,1.27734375]
[null,null,null,null,null,115,115,1,1.275390625]
[null,null,null,null,null,116,116,1,1.2734375]
[null,null,null,null,null,117,117,1,1.271484375]
[null,null,null,null,null,118,118,1,1.26953125]
[null,null,null,null,null,119,119,1,1.267578125]
[null,null,null,null,null,120,120,1,1.265625]
[null,null,null,null,null,121,121,1,1.263671875]
[null,null,null,null,null,122,122,1,1.26171875]
[null,null,null,null,null,123,123,1,1.259765625]
[null,null,null,null,null,124,124,1,1.2578125]
[null,null,null,null,null,125,125,1,1.255859375]
[null,null,null,null,null,126,126,1,1.25390625]
[null,null,null,null,null,127,127,1,1.251953125]
[null,null,null,null,null,128,128,1,1.25]
[null,null,null,null,null,129,{"$f":"G135+INT(I135)","v":129},1,{"$f":"((H136*INT((512-G136))/512+0.5))","v":1.248046875}]
[null,null,null,null,null,{"$f":"F136+1","v":130},130,1,1.24609375]
[null,null,null,null,null,131,131,1,1.244140625]
[null,null,null,null,null,132,132,1,1.2421875]
[null,null,null,null,null,133,133,1,1.240234375]
[null,null,null,null,null,134,134,1,1.23828125]
[null,null,null,null,null,135,135,1,1.236328125]
[null,null,null,null,null,136,136,1,1.234375]
[null,null,null,null,null,137,137,1,1.232421875]
[null,null,null,null,null,138,138,1,1.23046875]
[null,null,null,null,null,139,139,1,1.228515625]
[null,null,null,null,null,140,140,1,1.2265625]
[null,null,null,null,null,141,141,1,1.224609375]
[null,null,null,null,null,142,142,1,1.22265625]
[null,null,null,null,null,143,143,1,1.220703125]
[null,null,null,null,null,144,144,1,1.21875]
[null,null,null,null,null,145,145,1,1.216796875]
[null,null,null,null,null,146,146,1,1.21484375]
[null,null,null,null,null,147,147,1,1.212890625]
[null,null,null,null,null,148,148,1,1.2109375]
[null,null,null,null,null,149,149,1,1.208984375]
[null,null,null,null,null,150,150,1,1.20703125]
[null,null,null,null,null,151,151,1,1.205078125]
[null,null,null,null,null,152,152,1,1.203125]
[null,null,null,null,null,153,153,1,1.201171875]
[null,null,null,null,null,154,154,1,1.19921875]
[null,null,null,null,null,155,155,1,1.197265625]
[null,null,null,null,null,156,156,1,1.1953125]
[null,null,null,null,null,157,157,1,1.193359375]
[null,null,null,null,null,158,158,1,1.19140625]
[null,null,null,null,null,159,159,1,1.189453125]
[null,null,null,null,null,160,160,1,1.1875]
[null,null,null,null,null,161,161,1,1.185546875]
[null,null,null,null,null,162,162,1,1.18359375]
[null,null,null,null,null,163,163,1,1.181640625]
[null,null,null,null,null,164,164,1,1.1796875]
[null,null,null,null,null,165,165,1,1.177734375]
[null,null,null,null,null,166,166,1,1.17578125]
[null,null,null,null,null,167,167,1,1.173828125]
[null,null,null,null,null,168,168,1,1.171875]
[null,null,null,null,null,169,169,1,1.169921875]
[null,null,null,null,null,170,170,1,1.16796875]
[null,null,null,null,null,171,171,1,1.166015625]
[null,null,null,null,null,172,172,1,1.1640625]
[null,null,null,null,null,173,173,1,1.162109375]
[null,null,null,null,null,174,174,1,1.16015625]
[null,null,null,null,null,175,175,1,1.158203125]
[null,null,null,null,null,176,176,1,1.15625]
[null,null,null,null,null,177,177,1,1.154296875]
[null,null,null,null,null,178,178,1,1.15234375]
[null,null,null,null,null,179,179,1,1.150390625]
[null,null,null,null,null,180,180,1,1.1484375]
[null,null,null,null,null,181,181,1,1.146484375]
[null,null,null,null,null,182,182,1,1.14453125]
[null,null,null,null,null,183,183,1,1.142578125]
[null,null,null,null,null,184,184,1,1.140625]
[null,null,null,null,null,185,185,1,1.138671875]
[null,null,null,null,null,186,186,1,1.13671875]
[null,null,null,null,null,187,187,1,1.134765625]
[null,null,null,null,null,188,188,1,1.1328125]
[null,null,null,null,null,189,189,1,1.130859375]
[null,null,null,null,null,190,190,1,1.12890625]
[null,null,null,null,null,191,191,1,1.126953125]
[null,null,null,null,null,192,192,1,1.125]
[null,null,null,null,null,193,{"$f":"G199+INT(I199)","v":193},1,{"$f":"((H200*INT((512-G200))/512+0.5))","v":1.123046875}]
[null,null,null,null,null,{"$f":"F200+1","v":194},194,1,1.12109375]
[null,null,null,null,null,195,195,1,1.119140625]
[null,null,null,null,null,196,196,1,1.1171875]
[null,null,null,null,null,197,197,1,1.115234375]
[null,null,null,null,null,198,198,1,1.11328125]
[null,null,null,null,null,199,199,1,1.111328125]
[null,null,null,null,null,200,200,1,1.109375]
[null,null,null,null,null,201,201,1,1.107421875]
[null,null,null,null,null,202,202,1,1.10546875]
[null,null,null,null,null,203,203,1,1.103515625]
[null,null,null,null,null,204,204,1,1.1015625]
[null,null,null,null,null,205,205,1,1.099609375]
[null,null,null,null,null,206,206,1,1.09765625]
[null,null,null,null,null,207,207,1,1.095703125]
[null,null,null,null,null,208,208,1,1.09375]
[null,null,null,null,null,209,209,1,1.091796875]
[null,null,null,null,null,210,210,1,1.08984375]
[null,null,null,null,null,211,211,1,1.087890625]
[null,null,null,null,null,212,212,1,1.0859375]
[null,null,null,null,null,213,213,1,1.083984375]
[null,null,null,null,null,214,214,1,1.08203125]
[null,null,null,null,null,215,215,1,1.080078125]
[null,null,null,null,null,216,216,1,1.078125]
[null,null,null,null,null,217,217,1,1.076171875]
[null,null,null,null,null,218,218,1,1.07421875]
[null,null,null,null,null,219,219,1,1.072265625]
[null,null,null,null,null,220,220,1,1.0703125]
[null,null,null,null,null,221,221,1,1.068359375]
[null,null,null,null,null,222,222,1,1.06640625]
[null,null,null,null,null,223,223,1,1.064453125]
[null,null,null,null,null,224,224,1,1.0625]
[null,null,null,null,null,225,225,1,1.060546875]
[null,null,null,null,null,226,226,1,1.05859375]
[null,null,null,null,null,227,227,1,1.056640625]
[null,null,null,null,null,228,228,1,1.0546875]
[null,null,null,null,null,229,229,1,1.052734375]
[null,null,null,null,null,230,230,1,1.05078125]
[null,null,null,null,null,231,231,1,1.048828125]
[null,null,null,null,null,232,232,1,1.046875]
[null,null,null,null,null,233,233,1,1.044921875]
[null,null,null,null,null,234,234,1,1.04296875]
[null,null,null,null,null,235,235,1,1.041015625]
[null,null,null,null,null,236,236,1,1.0390625]
[null,null,null,null,null,237,237,1,1.037109375]
[null,null,null,null,null,238,238,1,1.03515625]
[null,null,null,null,null,239,239,1,1.033203125]
[null,null,null,null,null,240,240,1,1.03125]
[null,null,null,null,null,241,241,1,1.029296875]
[null,null,null,null,null,242,242,1,1.02734375]
[null,null,null,null,null,243,243,1,1.025390625]
[null,null,null,null,null,244,244,1,1.0234375]
[null,null,null,null,null,245,245,1,1.021484375]
[null,null,null,null,null,246,246,1,1.01953125]
[null,null,null,null,null,247,247,1,1.017578125]
[null,null,null,null,null,248,248,1,1.015625]
[null,null,null,null,null,249,249,1,1.013671875]
[null,null,null,null,null,250,250,1,1.01171875]
[null,null,null,null,null,251,251,1,1.009765625]
[null,null,null,null,null,252,252,1,1.0078125]
[null,null,null,null,null,253,253,1,1.005859375]
[null,null,null,null,null,254,254,1,1.00390625]
[null,null,null,null,null,255,255,1,1.001953125]
[null,null,null,null,null,256,256,1,1]
[null,null,null,null,null,257,257,1,{"$f":"((H264*INT((512-G264))/512+0.5))","v":0.998046875}]
[null,null,null,null,null,258,257,1,{"$f":"((H265*INT((512-G265))/512+0.5))","v":0.998046875}]
[null,null,null,null,null,259,257,1,{"$f":"((H266*INT((512-G266))/512+0.5))","v":0.998046875}]

{"sheet":"UNIT STRUCT","index":7,"n_rows":406,"n_cols":43,"rows_kept":406,"cut":false,"hidden":false,"merged":[]}
[null,null,null,"0=Allies, 1=Axis",null,"0=Squad, 1=Section, 2=Platoon, 3=Company, 4=Battlion, 5=Regiment, 6=Division, 7=Corps, 8=Army","0=Infantry, 1=Recon, 2=Armor, 3=Anti-tank, 4=Engineer, 5 = UNUSED, 6=Support","0=Foot, 1=Partly Motorized, 2=Motorized"]
[null,null,"NAME","SIDE","NATION","ECHELON","TYPE","SPEED","HQ TEAM (index in teams data)","Team Count","SubUnit Count","Team1-N (indexes into team data) followed by SubUnit 1-N (index into unit structure data)"]
[null,"COUNT",314]
["Rifle Company 1942",0,"Rifle Company",0,0,3,0,1,0,0,5,143,146,146,146,149]
["Rifle Company 1943",{"$f":"B4+1","v":1},"Rifle Company",0,0,3,0,1,21,0,5,144,147,147,147,150]
["Rifle Company 1944",2,"Rifle Company",0,0,3,0,1,44,0,5,145,148,148,148,151]
["Parachute Rifle Company 1942",3,"Parachute Rifle Company",0,0,3,0,0,75,3,3,81,81,81,152,152,152]
["Parachute Rifle Company 1944",4,"Parachute Rifle Company",0,0,3,0,0,67,4,3,73,73,73,73,153,153,153]
["Armored Infantry Company 1942",5,"Armored Infantry Company",0,0,3,0,2,109,0,4,155,154,154,154]
["Armored Infantry Company 1944",6,"Armored Infantry Company",0,0,3,0,2,96,0,5,156,157,157,157,158]
["Armored Recon Company 1942",7,"Armored Recon Company",0,0,3,1,2,83,0,4,159,160,160,160]
["Cavalry Recon Troop 1942",8,"Cavalry Recon Troop",0,0,3,1,2,83,0,4,161,162,162,162]
["Mechanized Cavalry Troop 1944",9,"Mechanized Cavalry Troop",0,0,3,1,2,90,0,4,163,164,164,164]
["Combat Engineer Company 1942",10,"Combat Engineer Company",0,0,3,4,2,20,0,4,165,166,166,166]
["Combat Engineer Company 1944",11,"Combat Engineer Company",0,0,3,4,2,64,0,4,167,168,168,168]
[null,12,"(Reserved)",0,0,0,0,0,-1,0,0]
[null,13,"(Reserved)",0,0,0,0,0,-1,0,0]
[null,14,"(Reserved)",0,0,0,0,0,-1,0,0]
["Schützenkompanie 334.ID",15,"Schützenkompanie",1,1,3,0,0,210,0,4,195,195,195,196,null,null,null,null,null,null,null,null,null,null,null,null,null,null,null,null,null,null,null,null,null,"** 12 leMG, 2 sMG, 2 mGW",null,null,null,null,null,"** = Jim added these notes from Steve's info"]
["Feldkompanie Tunis (Type 1)",16,"Feldkompanie Tunis",1,1,3,0,0,200,0,4,197,197,197,198,null,null,null,null,null,null,null,null,null,null,null,null,null,null,null,null,null,null,null,null,null,"9 leMG, 4 sMG, 2 mGW"]
["Feldkompanie Tunis (Type 2)",17,"Feldkompanie Tunis",1,1,3,0,0,200,0,4,197,197,197,199,null,null,null,null,null,null,null,null,null,null,null,null,null,null,null,null,null,null,null,null,null,"9 leMG, 6 sMG, 4 mGW"]
["Feldkompanie Tunis (Type 3)",18,"Feldkompanie Tunis (Mot.)",1,1,3,0,0,227,0,4,202,202,202,203,null,null,null,null,null,null,null,null,null,null,null,null,null,null,null,null,null,null,null,null,null,"18 leMG, 2 sMG, 2 mGW, 2 mPaK"]
["Marschkomapnie Afrika (Type 1)",19,"Marschkomapnie Afrika",1,1,3,0,0,200,0,4,197,197,197,200,null,null,null,null,null,null,null,null,null,null,null,null,null,null,null,null,null,null,null,null,null,"9 leMG, 8 sMG, 4 mGW, 2 mPak"]
["Marschkomapnie Afrika (Type 2)",20,"Marschkomapnie Afrika",1,1,3,0,0,200,0,4,197,197,197,201,null,null,null,null,null,null,null,null,null,null,null,null,null,null,null,null,null,null,null,null,null,"9 leMG, 6 sMG, 2 mGW, 2 leGW"]
["Marschkomapnie Afrika (Type 3)",21,"Marschkomapnie Afrika (Mot.)",1,1,3,0,0,227,0,4,202,202,202,204,null,null,null,null,null,null,null,null,null,null,null,null,null,null,null,null,null,null,null,null,null,"18 leMG, 4 sMG, 4 mGW"]
["Grenadierkompanie 44",22,"Grenadierkompanie",1,1,3,0,0,290,0,4,205,206,206,276,null,null,null,null,null,null,null,null,null,null,null,null,null,null,null,null,null,null,null,null,null,"** 12 leMG, 2 sMG"]
["Radfahr-Schützenkompanie 42",23,"Radfahr-Schützenkompanie",1,1,3,1,1,210,0,4,207,207,207,196,null,null,null,null,null,null,null,null,null,null,null,null,null,null,null,null,null,null,null,null,null,"** 12 leMG, 2 sMG, 2 mGW"]
["Fusilier Komapnie 44",24,"Fusilierkompanie",1,1,3,0,1,290,0,4,205,206,206,276]
["Gebirgsjägerkompanie 334.ID",25,"Gebirgsjägerkompanie",1,1,3,0,0,268,0,5,209,209,209,210,281,null,null,null,null,null,null,null,null,null,null,null,null,null,null,null,null,null,null,null,null,"http://www.wwiidaybyday.com/kstn/kstn132d1nov41.htm","12 leMG (1 leMG per squad, x4 squads, x3 platoons), 3 leGW, 1 mGW section (x2 mortars/section)"]
["Fallschirmjäger Kompanie 42 A",26,"Fallschirmjägerkompanie",1,1,3,0,0,259,0,4,211,211,211,212,null,null,null,null,null,null,null,null,null,null,null,null,null,null,null,null,null,null,null,null,null,"18 leMG, 2 sMG, 3 leGW"]
["Fallschirmjäger Kompanie 42 B",27,"Fallschirmjägerkompanie",1,1,3,0,0,259,0,4,213,213,213,212,null,null,null,null,null,null,null,null,null,null,null,null,null,null,null,null,null,null,null,null,null,"18 leMG, 2 sMG"]
["FJ Kompanie 43",28,"Fallschirmjägerkompanie",1,1,3,0,0,259,0,4,214,214,214,212,null,null,null,null,null,null,null,null,null,null,null,null,null,null,null,null,null,null,null,null,null,"** 18 leMG, 2 mGW"]
["FJ Kompanie 44",29,"Fallschirmjägerkompanie",1,1,3,0,0,298,0,5,216,216,216,215,217]
["PzGr Kp (gp) 42",30,"Panzergrenadierkompanie (gp)",1,1,3,0,2,242,0,5,{"$f":"$B$222","v":218},{"$f":"$B$223","v":219},{"$f":"$B$223","v":219},{"$f":"$B$223","v":219},{"$f":"$B$224","v":220},null,null,null,null,null,null,null,null,null,null,null,null,null,null,null,null,null,null,null,null,"http://www.wwiidaybyday.com/kstn/kstn1114gp1nov41.htm",null,null,null,null,"PzGr. A","** 18 leMG, 2sMG, 2 mGW"]
["PzGr Kp 42",31,"Panzergrenadierkompanie",1,1,3,0,2,251,0,4,{"$f":"$B$225","v":221},{"$f":"$B$225","v":221},{"$f":"$B$225","v":221},{"$f":"$B$226","v":222},null,null,null,null,null,null,null,null,null,null,null,null,null,null,null,null,null,null,null,null,null,"http://www.wwiidaybyday.com/kstn/kstn11141nov41.htm",null,null,null,null,"PzGr. B"]
["PzGr Kp (gp) DAK",32,"Panzergrenadierkompanie (gp)",1,1,3,0,2,235,0,4,{"$f":"$B$227","v":223},223,223,{"$f":"$B$228","v":224},null,null,null,null,null,null,null,null,null,null,null,null,null,null,null,null,null,null,null,null,null,"** 18 leMG, 4 sMG, 1 mGW"]
["PzGr Kp DAK",{"$f":"B36+1","v":33},"Panzergrenadierkompanie",1,1,3,0,2,235,0,5,223,223,223,{"$f":"$B$228","v":224},310,null,null,null,null,null,null,null,null,null,null,null,null,null,null,null,null,null,null,null,null,"** 18 leMG, 4 sMG, 1 mGW"]
["PzGr (gp) 43 Sicily",34,"Panzergrenadierkompanie (gp)",1,1,3,0,2,242,0,5,{"$f":"$B$222","v":218},225,225,225,{"$f":"$B$224","v":220},null,null,null,null,null,null,null,null,null,null,null,null,null,null,null,null,null,null,null,null,"15 PzGren Sicily",null,"**PzGr42 + 2 sMG, 2 mGW, 2 Pak 40, 1 Pzbu41"]
["PzGr 43 Sicily",35,"Panzergrenadierkompanie",1,1,3,0,2,251,0,4,226,226,226,{"$f":"$B$226","v":222},null,null,null,null,null,null,null,null,null,null,null,null,null,null,null,null,null,null,null,null,null,"15 PzGren Sicily"]
["HG Sicily",36,"Panzergrenadierkompanie (gp)",1,1,3,0,2,242,0,5,{"$f":"$B$222","v":218},225,225,225,{"$f":"$B$224","v":220},null,null,null,null,null,null,null,null,null,null,null,null,null,null,null,null,null,null,null,null,"HG Sicily"]
["HG Sicily",37,"Panzergrenadierkompanie",1,1,3,0,2,251,0,4,226,226,226,{"$f":"$B$226","v":222},null,null,null,null,null,null,null,null,null,null,null,null,null,null,null,null,null,null,null,null,null,"HG Sicily"]
["PzGr gp 44",38,"Panzergrenadierkompanie (gp)",1,1,3,0,2,324,0,5,{"$f":"$B$231","v":227},228,228,312,229,null,null,null,null,null,null,null,null,null,null,null,null,null,null,null,null,null,null,null,null,"http://www.wwiidaybyday.com/kstn/kstn1114cgp1nov43.htm"]
["PzGr 44",39,"Panzergrenadierkompanie",1,1,3,0,2,333,0,5,230,231,231,313,232,null,null,null,null,null,null,null,null,null,null,null,null,null,null,null,null,null,null,null,null,"http://www.wwiidaybyday.com/kstn/kstn11141nov43.htm"]
["Krad 42",40,"Kraftradschützenkompanie",1,1,3,1,2,218,0,4,{"$f":"$B$237","v":233},{"$f":"$B$237","v":233},{"$f":"$B$237","v":233},{"$f":"$B$238","v":234},null,null,null,null,null,null,null,null,null,null,null,null,null,null,null,null,null,null,null,null,null,"http://www.wwiidaybyday.com/kstn/kstn1112b1nov41.htm"]
["PzAufkl (gp) 42",41,"Panzeraufklärungskompanie (gp)",1,1,3,1,2,277,0,5,235,{"$f":"$B$240","v":236},{"$f":"$B$240","v":236},236,{"$f":"$B$241","v":237},null,null,null,null,null,null,null,null,null,null,null,null,null,null,null,null,null,null,null,null,"http://www.wwiidaybyday.com/kstn/kstn1113gp1nov41.htm"]
["PzAufkl 44",42,"Panzeraufklärungskompanie",1,1,3,1,2,305,0,5,296,{"$f":"$B$242","v":238},295,295,{"$f":"$B$243","v":239}]
["PzAufkl (gp) 44",43,"Panzeraufklärungskompanie (gp)",1,1,3,1,2,342,0,5,235,{"$f":"$B$244","v":240},{"$f":"$B$244","v":240},240,237]
["Pio 42",44,"Pionierkompanie",1,1,3,4,2,284,0,4,{"$f":"$B$245","v":241},{"$f":"$B$245","v":241},241,{"$f":"$B$246","v":242},null,null,null,null,null,null,null,null,null,null,null,null,null,null,null,null,null,null,null,null,null,"6 leMG, 2 sMG"]
["Pio 44",45,"Pionierkompanie",1,1,3,4,2,315,0,5,{"$f":"$B$247","v":243},{"$f":"$B$247","v":243},{"$f":"$B$247","v":243},{"$f":"$B$248","v":244},{"$f":"$B$249","v":245}]
["SS PzGr 44",46,"Panzergrenadierkompanie",1,1,3,3,2,350,3,4,353,353,353,{"$f":"$B$250","v":246},{"$f":"$B$250","v":246},{"$f":"$B$250","v":246},{"$f":"$B$251","v":247}]
[null,47,"(Reserved)",0,0,0,0,0,-1,0,0]
[null,48,"(Reserved)",0,0,0,0,0,-1,0,0]
["AS41",49,"Compagnia Fanteria",1,2,3,0,0,374,0,3,{"$f":"$B$252","v":248},{"$f":"$B$252","v":248},{"$f":"$B$252","v":248},null,null,null,null,null,null,null,null,null,null,null,null,null,null,null,null,null,null,null,null,null,null,"3 x Inf Plt w/ 2 x section (old, large unit org w/ 2 leMG per section)"]
["AS42",50,"Compagnia Fanteria AS42",1,2,3,0,0,374,0,4,249,250,251,252,null,null,null,null,null,null,null,null,null,null,null,null,null,null,null,null,null,null,null,null,null,"Inf Plt w/ 6 leMG, MG plt 3 MMG, ATR Plt 3 x 20mm ATR, AT plt 3 x 47/35 ATG"]
["Superga ",51,"Compagnia Fanteria",1,2,3,0,0,374,0,5,253,253,253,254,255,null,null,null,null,null,null,null,null,null,null,null,null,null,null,null,null,null,null,null,null,"3 x Inf Plt w/ 3 squad = 9 leMG, MG plt w/ 4 sMG, Mortar plt w/ 3 45mm Mortar"]
["Bers. AS41",52,"Compagnia Bersaglieri",1,2,3,0,2,397,0,4,256,256,256,258,null,null,null,null,null,null,null,null,null,null,null,null,null,null,null,null,null,null,null,null,null,"3 x Inf Plt w/ 2 squads = 6 leMG, MG plt w/ 4 x HMG, AT section 3 x 47/35 ATG"]
["Bers. AS42",53,"Compagnia Bersaglieri AS42",1,2,3,0,2,397,0,4,{"$f":"$B$261","v":257},258,259,260,null,null,null,null,null,null,null,null,null,null,null,null,null,null,null,null,null,null,null,null,null,"(As Inf?)"]
["Coastal coy",54,"Compagnia Costiero",1,2,3,0,0,409,0,4,261,261,261,307,null,null,null,null,null,null,null,null,null,null,null,null,null,null,null,null,null,null,null,null,null,"????"]
[null,55,"(Reserved)",0,0,0,0,0,-1,0,0]
[null,56,"(Reserved)",0,0,0,0,0,-1,0,0]
[null,57,"(Reserved)",0,0,0,0,0,-1,0,0]
["Individual",58,"M1917A1 Machine Gun Squad",0,0,0,6,0,-1,1,0,31]
["Support",59,"81mm Mortar",0,0,0,6,0,-1,1,0,32]
["Units",60,"M3 Light Tank",0,0,0,6,2,-1,1,0,121]
[null,61,"M5 Light Tank",0,0,0,6,2,-1,1,0,122]
[null,62,"M3 Medium Tank",0,0,0,6,2,-1,1,0,123]
[null,63,"M4 Medium Tank",0,0,0,6,2,-1,1,0,124]
[null,64,"M4A1 Medium Tank",0,0,0,6,2,-1,1,0,125]
[null,{"$f":"B68+1","v":65},"M4A1(76) Medium Tank",0,0,0,6,2,-1,1,0,126]
[null,66,"M4(105) Medium Tank",0,0,0,6,2,-1,1,0,127]
[null,67,"M3 75mm GMC",0,0,0,6,2,-1,1,0,128]
[null,68,"M10 3-Inch GMC",0,0,0,6,2,-1,1,0,129]
[null,69,"M2 Halftrack",0,0,0,6,2,-1,1,0,130]
[null,70,"M2A1 Halftrack",0,0,0,6,2,-1,1,0,131]
[null,71,"M3 Halftrack",0,0,0,6,2,-1,1,0,132]
[null,72,"M3A1 Halftrack",0,0,0,6,2,-1,1,0,133]
[null,73,"T19 105mm HMC",0,0,0,6,2,-1,1,0,138]
[null,74,"T30 75mm HMC",0,0,0,6,2,-1,1,0,139]
[null,75,"3/4 Ton Weapons Carrier",0,0,0,6,2,-1,1,0,140]
[null,76,"2 1/2 Ton Truck",0,0,0,6,2,-1,1,0,141]
[null,77,"Jeep",0,0,0,6,2,-1,1,0,142]
[null,78,"Jeep w/ .30 cal MG",0,0,0,6,2,-1,1,0,143]
[null,79,"M3 Scout Car",0,0,0,6,2,-1,1,0,145]
[null,80,"M20 Armored Utility Car",0,0,0,6,2,-1,1,0,146]
[null,81,"M8 Armored Car",0,0,0,6,2,-1,1,0,147]
[null,82,"37mm Gun M3",0,0,0,6,0,-1,1,0,12]
[null,83,"57mm Gun M1",0,0,0,6,0,-1,1,0,58]
[null,84,"3-Inch Gun M5",0,0,0,6,0,-1,1,0,148]
[null,85,"105mm Howitzer M2A1",0,0,0,6,0,-1,1,0,149]
[null,86,"(Reserved)",0,0,0,0,0,-1,0,0]
[null,87,"(Reserved)",0,0,0,0,0,-1,0,0]
[null,88,"(Reserved)",0,0,0,0,0,-1,0,0]
[null,89,"(Reserved)",0,0,0,0,0,-1,0,0]
[null,90,"(Reserved)",0,0,0,0,0,-1,0,0]
[null,91,"sMG 34",1,1,0,6,0,-1,1,0,217]
[null,92,"sMG 42",1,1,0,6,0,-1,1,0,297]
[null,93,"7.92mm PzB 39 AT Rifle",1,1,0,6,0,-1,1,0,209]
[null,94,"5cm Mortar",1,1,0,6,0,-1,1,0,368]
[null,95,"8cm Mortar",1,1,0,6,0,-1,1,0,226]
[null,96,"Panzerschreck",1,1,0,6,0,-1,1,0,330]
[null,{"$f":"B100+1","v":97},"JgPz IV",1,1,0,6,2,-1,1,0,432]
[null,98,"Pz VIE Tiger",1,1,0,6,2,-1,1,0,433]
[null,99,"Pz VA Panther",1,1,0,6,2,-1,1,0,434]
[null,100,"Panzer IIF",1,1,0,6,2,-1,1,0,435]
[null,101,"Panzer IVF1",1,1,0,6,2,-1,1,0,436]
[null,102,"Panzer IVG",1,1,0,6,2,-1,1,0,437]
[null,103,"Panzer IVH",1,1,0,6,2,-1,1,0,438]
[null,104,"SdKfz 251/1",1,1,0,6,2,-1,1,0,248]
[null,105,"SdKfz 251/9",1,1,0,6,2,-1,1,0,332]
[null,106,"SdKfz 251/10",1,1,0,6,2,-1,1,0,250]
[null,107,"StuG IIIF",1,1,0,6,2,-1,1,0,439]
[null,108,"StuG IIIG",1,1,0,6,2,-1,1,0,440]
[null,109,"Kubelwagon",1,1,0,6,2,-1,1,0,441]
[null,110,"Opel Blitz",1,1,0,6,2,-1,1,0,442]
[null,111,"PSW 222",1,1,0,6,2,-1,1,0,443]
[null,112,"PSW 232",1,1,0,6,2,-1,1,0,444]
[null,113,"SdKfz 250/1",1,1,0,6,2,-1,1,0,281]
[null,114,"SdKfz 250/8",1,1,0,6,2,-1,1,0,283]
[null,115,"SdKfz 250/10",1,1,0,6,2,-1,1,0,431]
[null,116,"2cm Flak 38",1,1,0,6,0,-1,1,0,445]
[null,117,"3.7cm Pak 36",1,1,0,6,0,-1,1,0,446]
[null,118,"5cm Pak 38",1,1,0,6,0,-1,1,0,447]
[null,119,"7.5cm Pak 40",1,1,0,6,0,-1,1,0,448]
[null,120,"8.8cm Flak",1,1,0,6,0,-1,1,0,449]
[null,121,"7.5cm IG",1,1,0,6,0,-1,1,0,450]
[null,122,"PanzerIII kz",1,1,0,6,2,-1,1,0,452]
[null,123,"Panzer IIIJ",1,1,0,6,2,-1,1,0,451]
[null,124,"Panzer IIIN",1,1,0,6,2,-1,1,0,453]
[null,125,"Marder IIIH",1,1,0,6,2,-1,1,0,454]
[null,126,"76.2cm Pak36(r)",1,1,0,6,0,-1,1,0,369]
[null,127,"2.8cm sPzB 41",1,1,0,6,0,-1,1,0,455]
[null,128,"(Reserved)",0,0,0,0,0,-1,0,0]
[null,{"$f":"B132+1","v":129},"(Reserved)",0,0,0,0,0,-1,0,0]
[null,130,"Fiat 35 MMG",1,2,0,6,0,-1,1,0,413]
[null,131,"Breda 37 MMG",1,2,0,6,0,-1,1,0,383]
[null,132,"45mm Brixa Mortar",1,2,0,6,0,-1,1,0,387]
[null,133,"81mm Mortar",1,2,0,6,0,-1,1,0,388]
[null,134,"20mm AT Rifle S",1,2,0,6,0,-1,1,0,395]
[null,135,"20mm Breda AA Gun",1,2,0,6,0,-1,1,0,415]
[null,136,"Cannone da 47/32 M35",1,2,0,6,2,-1,1,0,396]
[null,137,"M14/41 Tank",1,2,0,6,2,-1,1,0,416]
[null,138,"Semovente 75/18",1,2,0,6,2,-1,1,0,417]
[null,139,"Renault MR-35",1,2,0,6,2,-1,1,0,418]
[null,140,"Italian Truck",1,2,0,6,2,-1,1,0,419]
[null,141,"(Reserved)",0,0,0,0,0,-1,0,0]
[null,142,"(Reserved)",0,0,0,0,0,-1,0,0]
[null,143,"Company HQ, Rifle Company 42",0,0,3,6,1,-1,2,0,140,142]
[null,144,"Company HQ, Rifle Company 43",0,0,3,6,1,-1,10,0,22,42,42,42,191,43,43,43,142,142]
[null,145,"Company HQ, Rifle Company 44",0,0,3,6,1,-1,12,0,45,65,65,65,65,65,191,66,66,66,142,142]
["US Platoon Org",146,"Rifle Platoon 42",0,0,2,0,1,1,1,3,2,{"$f":"$B$173","v":169},{"$f":"$B$173","v":169},{"$f":"$B$173","v":169}]
["Starts Here",147,"Rifle Platoon 43",0,0,2,0,1,23,0,3,{"$f":"$B$174","v":170},{"$f":"$B$174","v":170},{"$f":"$B$174","v":170}]
[null,148,"Rifle Platoon 44",0,0,2,0,1,46,0,3,{"$f":"$B$175","v":171},{"$f":"$B$175","v":171},{"$f":"$B$175","v":171}]
[null,149,"Heavy Weapons Platoon 42",0,0,2,6,1,5,7,0,6,7,7,8,9,9,9]
[null,150,"Heavy Weapons Platoon 43",0,0,2,6,1,26,7,0,27,28,28,29,30,30,30]
[null,151,"Heavy Weapons Platoon 44",0,0,2,6,1,49,7,0,50,51,51,52,53,53,53]
[null,152,"Parachute Rifle Platoon 42",0,0,2,0,0,76,0,3,{"$f":"$B$176","v":172},{"$f":"$B$176","v":172},308]
[null,153,"Parachute Rifle Platoon 44",0,0,2,0,0,68,0,4,{"$f":"$B$177","v":173},{"$f":"$B$177","v":173},{"$f":"$B$177","v":173},309]
[null,154,"Armored Rifle Platoon 42",0,0,2,0,2,110,1,4,111,{"$f":"$B$178","v":174},{"$f":"$B$178","v":174},175,176]
[null,155,"Armd Inf Company Weapons 42",0,0,2,6,2,-1,10,0,132,132,132,132,130,130,142,117,117,117]
[null,156,"Armd Inf Company Weapons 44",0,0,2,6,1,-1,11,0,137,137,137,137,137,133,133,133,133,142,142]
[null,157,"Armored Infantry Platoon 44",0,0,2,0,1,97,1,4,98,{"$f":"$B$181","v":177},177,{"$f":"$B$183","v":179},178]
[null,158,"Armd. Inf. Anti-Tank Platoon 44",0,0,2,3,2,104,7,0,105,105,105,137,133,133,142]
[null,159,"Company HQ, Armored Recon 42",0,0,2,1,2,-1,12,0,117,117,117,117,117,117,132,142,142,142,142,142]
[null,160,"Armored Recon Platoon 42",0,0,2,1,2,84,0,3,181,182,183]
[null,161,"Troop HQ, Cavalry Recon 42",0,0,2,6,2,-1,7,0,140,142,142,142,142,142,142]
[null,162,"Cavalry Recon Platoon 42",0,0,2,1,2,84,0,4,{"$f":"$B$188","v":184},{"$f":"$B$189","v":185},{"$f":"$B$190","v":186},{"$f":"$B$191","v":187}]
[null,163,"Troop HQ, Mechanized Cavalry 44",0,0,2,6,2,-1,8,0,147,95,142,142,142,142,142,142]
[null,164,"Mechanized Cavalry Platoon 44",0,0,2,1,2,91,0,3,189,190,188]
[null,165,"Company HQ, Combat Engineer 42",0,0,2,6,1,-1,15,0,134,192,192,192,190,190,190,190,190,190,142,141,141,141,141]
[null,166,"Combat Engineer Rifle Platoon 42",0,0,2,4,1,19,0,3,192,192,192]
[null,167,"Company HQ, Combat Engineer 44",0,0,2,6,1,-1,19,0,65,65,65,191,191,191,190,190,190,190,190,190,140,142,142,141,141,141,141]
[null,168,"Combat Engineer Rifle Platoon 44",0,0,2,4,1,63,0,3,{"$f":"$B$198","v":194},{"$f":"$B$198","v":194},{"$f":"$B$198","v":194}]
["US Squad org",169,"Rifle Squad 42",0,0,0,0,0,-1,2,0,3,4]
["Starts Here",170,"Rifle Squad 43",0,0,0,0,0,-1,2,0,24,25]
[null,171,"Rifle Squad 44",0,0,0,0,0,-1,2,0,47,48]
[null,172,"Parachute Rifle Squad 42",0,0,0,0,0,-1,2,0,77,78]
[null,173,"Parachute Rifle Squad 44",0,0,0,0,0,-1,2,0,69,70]
[null,174,"Armored Rifle Squads 42",0,0,0,0,0,-1,2,0,112,113]
[null,175,"Armored Rifle MG Squad 42",0,0,0,6,0,-1,2,0,115,116]
[null,176,"Armored Rifle Mortar Squad 42",0,0,0,6,1,-1,1,0,114]
[null,177,"Armored Rifle Squad 44",0,0,0,0,1,-1,2,0,99,100]
[null,178,"Armored Rifle Mortar Squad 44",0,0,0,6,1,-1,1,0,101]
[null,179,"Armored Rifle MG Squad 44",0,0,0,6,1,-1,2,0,102,103]
[null,180,"(Reserved)",0,0,0,3,2,-1,0,0]
[null,181,"Armored Recon Squad 42 1",0,0,0,3,2,-1,4,0,145,145,92,94]
[null,182,"Armored Recon Squad 42 2",0,0,0,1,2,-1,4,0,145,145,93,94]
[null,183,"Armored Recon Assault Gun Sect 42",0,0,0,1,2,-1,1,0,139]
[null,184,"Cavalry Recon Squad 42 (Dismount)",0,0,0,1,2,-1,4,0,145,154,155,156]
[null,185,"Cavalry Recon Squad 42",0,0,0,1,2,-1,4,0,145,143,143,144]
[null,186,"Cavalry Recon Mortar Squad 42",0,0,0,6,2,-1,1,0,89]
[null,187,"Cavalry Recon Pioneer Squad 42",0,0,0,6,2,-1,1,0,88]
[null,188,"Mech Recon Squad 44",0,0,0,1,2,-1,3,0,147,143,94]
[null,189,"Mech Recon Squad 44 (Dismount 1)",0,0,0,1,2,-1,3,0,147,92,94]
[null,190,"Mech Recon Squad 44 (Dismount 2)",0,0,1,1,2,-1,3,0,147,93,94]
[null,191,"(RESERVED)",0,0,0,4,1,-1,0,0]
[null,192,"Combat Engineer Squad 42",0,0,0,4,1,-1,2,0,17,18]
[null,193,"(RESERVED)",0,0,1,4,1,-1,0,0]
[null,194,"Combat Engineer Squad 44",0,0,1,4,1,-1,2,0,61,62]
["German Platoon",195,"Schützenzug 42",1,1,2,0,0,211,0,4,{"$f":"$B$266","v":262},{"$f":"$B$266","v":262},262,262]
["org starts here",196,"Granatwerfer Gruppe 42",1,1,1,0,0,-1,2,0,214,215]
["T/A Bn",197,"Schützenzug",1,1,2,0,0,201,0,3,263,263,263]
["T type 1",198,"Schwere Zug",1,1,1,6,0,-1,0,3,265,265,266]
["T type 2",199,"Schwere Zug",1,1,1,6,0,-1,0,5,265,265,265,266,{"$f":"$B$270","v":266}]
["A type 1",200,"Schwere Zug",1,1,1,6,0,-1,0,7,{"$f":"$B$269","v":265},{"$f":"$B$269","v":265},{"$f":"$B$269","v":265},{"$f":"$B$269","v":265},{"$f":"$B$270","v":266},{"$f":"$B$270","v":266},{"$f":"$B$271","v":267}]
["A type 2",201,"Schwere Zug",1,1,1,6,0,-1,0,5,{"$f":"$B$269","v":265},{"$f":"$B$269","v":265},{"$f":"$B$269","v":265},{"$f":"$B$270","v":266},{"$f":"$B$272","v":268}]
["T/A type 3",202,"Schützenzug",1,1,2,0,1,228,0,3,270,{"$f":"$B$274","v":270},{"$f":"$B$274","v":270}]
["T3",203,"Schwere Zug",1,1,2,6,1,-1,0,3,{"$f":"$B$275","v":271},{"$f":"$B$276","v":272},267]
["A3",204,"Schwere Zug",1,1,2,6,1,-1,0,4,{"$f":"$B$275","v":271},{"$f":"$B$275","v":271},{"$f":"$B$276","v":272},{"$f":"$B$276","v":272}]
["ID.44",205,"Schützenzug",1,1,2,0,0,291,0,3,273,{"$f":"$B$278","v":274},{"$f":"$B$278","v":274}]
["ID.44",206,"Schützenzug",1,1,2,0,0,292,0,3,273,{"$f":"$B$278","v":274},{"$f":"$B$278","v":274}]
["Bicycle 42",207,"Schützenzug",1,1,2,0,0,211,0,4,{"$f":"$B$279","v":275},{"$f":"$B$279","v":275},275,275]
[null,208,"(Unused)",1,1,1,0,0,-1,0,0]
["Geb.Jg. Schützen Zug (KstN 132d 42)",209,"Geb.Jg. Zug",1,1,2,0,0,269,0,4,{"$f":"$B$282","v":278},{"$f":"$B$282","v":278},{"$f":"$B$282","v":278},{"$f":"$B$282","v":278}]
["GB",210,"Geb.Jg. Kompanietrupp",1,1,2,6,0,-1,0,2,279,280]
["FJ Zug 42 A",211,"Fallschirmjägerzug",1,1,2,0,0,260,1,3,265,{"$f":"$B$286","v":282},{"$f":"$B$286","v":282},{"$f":"$B$286","v":282}]
["FJ sGrW Grp",212,"Granatwerfer Gruppe",1,1,1,6,0,-1,2,0,266,267]
["FJ Zug 42 B",213,"Fallschirmjägezug",1,1,2,0,0,260,0,3,{"$f":"$B$286","v":282},282,282]
["FJ Zug 43",214,"Fallschirmjägezug",1,1,2,0,0,260,0,3,282,282,282]
["FJ KpTrupp 44",215,"Kompanietrupp",1,1,1,6,0,-1,4,0,302,302,302,302]
["FJ Zug 44",216,"Fallschirmjägezug",1,1,2,0,0,299,0,3,{"$f":"$B$287","v":283},{"$f":"$B$287","v":283},{"$f":"$B$287","v":283}]
["FJ GrW Grp 44",217,"Granatwerfer Gruppe",1,1,1,6,0,-1,3,0,303,304,304]
["PzGr Kp Trp (gp) 42-43",218,"Kompanietrupp",1,1,2,0,2,-1,7,0,281,250,248,248,248,248,248]
["PzGr Zug (gp) 42",219,"Panzergrenadierzug",1,1,2,0,2,243,0,3,{"$f":"$B$288","v":284},{"$f":"$B$288","v":284},{"$f":"$B$288","v":284}]
["PzGr. sZug (gp) 42-43",220,"Schwere Zug",1,1,1,6,0,244,0,3,{"$f":"$B$289","v":285},285,{"$f":"$B$290","v":286}]
["PzGr 42",221,"Panzergrenadierzug",1,1,2,0,2,252,0,3,{"$f":"$B$291","v":287},{"$f":"$B$291","v":287},{"$f":"$B$291","v":287}]
["PzGr sZug 42-43",222,"Schwere Zug",1,1,1,6,0,253,11,0,256,256,256,256,257,258,441,442,442,442,442]
["DAK PzGr Zug",223,"PzGr Zug DAK",1,1,2,0,2,236,0,4,288,288,288,269]
["DAK sMG Gruppe",224,"sMG Gruppe DAK",1,1,1,6,0,-1,2,0,239,240]
["PzGr Sicily 43 (gp)",225,"Panzergrenadierzug",1,1,2,0,2,243,0,3,{"$f":"$B$293","v":289},{"$f":"$B$293","v":289},{"$f":"$B$293","v":289}]
["PzGr Sicily 43 (Mot)",226,"Panzergrenadierzug",1,1,2,0,2,252,0,3,311,311,311]
["PzGr Zug O (gp) 44",227,"Panzergrenadierzug",1,1,2,0,2,325,0,3,{"$f":"$B$294","v":290},290,290]
["PzGr Zug (gp) 44",228,"Panzergrenadierzug",1,1,2,0,2,326,0,3,290,290,290]
["PzGr s.Zug (gp) 44",229,"Schwere Zug",1,1,1,6,0,327,8,0,331,331,331,331,249,249,332,332]
["PzGr Zug O (mot) 44",230,"Panzergrenadierzug",1,1,2,0,2,334,0,3,{"$f":"$B$295","v":291},291,291]
["PzGr Zug (mot) 44",231,"Panzergrenadierzug",1,1,1,6,0,335,0,3,291,291,291]
["PzGr sZug 44",232,"Schwere Zug",1,1,1,6,0,336,6,0,339,339,339,339,340,341]
["Kradzug 42",233,"Kraftradschützenzug",1,1,2,0,2,219,0,3,{"$f":"$B$296","v":292},{"$f":"$B$296","v":292},{"$f":"$B$296","v":292}]
["Krad sZug 42",234,"Schwere Zug",1,1,1,6,0,220,6,0,223,224,223,224,225,226]
["PzAufkl (gp) 42 Transprt",235,"Kompanietrupp",1,1,1,6,0,-1,11,0,283,283,283,281,281,281,281,281,281,281,281]
["PzAufkl Zug (gp) 42",236,"Panzeraufklärerzug",1,1,2,1,2,278,0,3,{"$f":"$B$297","v":293},{"$f":"$B$297","v":293},{"$f":"$B$297","v":293}]
["PzAufkl GrW (gp) 42",237,"Grantawerfergruppe",1,1,1,6,2,-1,2,0,282,282]
["PzAufkl Zug O 44",238,"Panzeraufklärerzug",1,1,2,1,2,306,0,3,{"$f":"$B$298","v":294},{"$f":"$B$298","v":294},{"$f":"$B$298","v":294}]
["PzAufkl s.zug 44",239,"Schwere Zug",1,1,2,6,0,308,13,0,311,312,311,312,313,313,441,441,441,441,441,442,442]
["PzAufkl zug 44 (gp)",240,"Panzeraufklärerzug",1,1,2,1,2,343,0,3,{"$f":"$B$301","v":297},{"$f":"$B$301","v":297},{"$f":"$B$301","v":297}]
["Pio 42",241,"Pionierzug",1,1,2,4,2,285,0,3,{"$f":"$B$302","v":298},{"$f":"$B$302","v":298},{"$f":"$B$302","v":298}]
["Pio 42 MG sect",242,"sMG Gruppe",1,1,1,6,2,-1,2,0,288,289]
["Pio 44",243,"Pionierzug",1,1,2,4,2,316,0,3,{"$f":"$B$303","v":299},{"$f":"$B$303","v":299},{"$f":"$B$303","v":299}]
["Pio 44 MG sect",244,"sMG Gruppe",1,1,1,6,2,-1,2,0,320,321]
["Pio 44 GWr sect",245,"Granatwerfer Gruppe",1,1,1,6,0,-1,2,0,322,323]
["SS PzGr Zug 44",246,"Panzergrenadierzug",1,1,2,0,2,351,0,3,{"$f":"$B$304","v":300},{"$f":"$B$304","v":300},{"$f":"$B$304","v":300}]
["SS PzGr sZug 44",247,"Schwere Zug",1,1,2,6,2,352,6,0,356,356,356,356,357,357]
["AS41",248,"Italian Infantry Platoon AS41",1,2,2,0,0,375,0,2,{"$f":"$B$305","v":301},{"$f":"$B$305","v":301}]
["AS42",249,"Italian Infantry Platoon AS42",1,2,2,0,0,375,0,3,{"$f":"$B$306","v":302},{"$f":"$B$306","v":302},{"$f":"$B$306","v":302}]
["AS42",250,"Italian MMG Platoon AS42",1,2,2,6,0,390,3,0,394,394,394]
["AS42",251,"Italian ATR Platoon AS42",1,2,2,6,0,391,3,0,395,395,395]
["AS42",252,"Italian AT Gun Platoon AS42",1,2,2,6,0,391,3,0,396,396,396]
["Superga ",253,"Italian Infantry Platoon (Superga)",1,2,2,0,0,375,0,3,305,305,305]
["Superga ",254,"Italian MG Platoon (Superga)",1,2,2,6,0,390,4,0,382,383,382,383]
["Superga ",255,"Italian Mortar Section (Superga)",1,2,2,6,0,-1,3,0,386,387,387]
["Bers AS41",256,"Bersaglieri Infantry Platoon AS41",1,2,2,0,0,398,0,3,303,303,303]
["Bers AS42",257,"Bersaglieri Infantry Platoon AS42",1,2,2,0,0,398,0,3,304,304,304]
["Bers AS42",258,"Bersaglieri MG Platoon",1,2,2,6,0,399,3,0,394,394,394]
["Bers AS42",259,"Bersaglieri ATR Platoon AS42",1,2,1,6,0,391,3,0,407,407,407]
["Bers AS42",260,"Bersaglieri AT Gun Platoon AS42",1,2,1,6,0,391,3,0,408,408,408]
["IT Coastal plt",261,"Italian Infantry Platoon (Coastal 43)",1,2,2,0,0,278,0,3,{"$f":"$B$310","v":306},{"$f":"$B$310","v":306},{"$f":"$B$310","v":306}]
["334.ID",262,"Schützengruppe",1,1,0,0,0,-1,2,0,212,213]
["T/A Squads",263,"Schützengruppe",1,1,0,0,0,-1,2,0,202,203]
[null,264,"(Unused)",1,1,0,0,0,-1,0,0]
["T/A support",265,"s.MG Gruppe",1,1,1,6,0,-1,2,0,205,206]
["T/A support",266,"s.GrW Gruppe",1,1,1,6,0,-1,2,0,207,208]
["T",267,"m.Pak Gruppe",1,1,1,6,0,-1,2,0,234,234]
["A",268,"le.GrW Gruppe",1,1,1,6,0,-1,2,0,368,368]
["DAK plt hvy wpns",269,"s.Gruppe",1,1,0,0,0,-1,4,0,447,447,455,241]
["T&A 3",270,"Schützen Gruppe",1,1,0,0,0,-1,2,0,229,230]
["T&A 3",271,"sMG Section",1,1,1,6,0,-1,2,0,231,232]
["T&A 3",272,"sGrW Section",1,1,1,6,0,-1,2,0,241,241]
["ID 44",273,"Schützen Gruppe+",1,1,0,0,0,-1,2,0,293,295]
["ID 44",274,"Schützen Gruppe",1,1,0,0,0,-1,2,0,293,294]
["Bicycle 42",275,"Schützengruppe Bicycle 42",1,1,0,0,0,-1,2,0,212,213]
["ID 44",276,"sMG Gruppe 44",1,1,1,6,0,-1,2,0,296,297]
["ID 44",277,"sGrW Gruppe 44",1,1,1,6,0,-1,2,0,136,137]
["GB Gruppe 42",278,"Gebirgsjäger Grupp 42",1,1,0,0,0,-1,2,0,270,271]
["GB",279,"Gebirgsjäger Panzerabwehr-gewehr Trupp",1,1,1,6,0,-1,3,0,275,275,275]
["GB",280,"Gebirgsjäger 5cm Granatwerfer",1,1,1,6,0,-1,3,0,272,272,272]
["GB",281,"Gebirgsjäger s.Granatwerfer Gruppe",1,1,1,6,0,-1,2,0,273,274]
["FJ Grupp 42 / 43",282,"FJ Gruppe 42 / 43",1,1,0,0,0,-1,2,0,261,262]
["FJ Grupp 44",283,"FJ Gruppe 44",1,1,0,0,0,-1,2,0,300,301]
["PzGr (gp) 42",284,"Panzergrenadier Gruppe 42 (gp)",1,1,0,0,0,-1,2,0,245,246]
["PzGr sMG (gp) 42",285,"PzGr sMG Section (gp)",1,1,1,6,0,-1,2,0,247,247]
["PzGr GrW (gp) 42",286,"PzGr sGrW Section (gp)",1,1,1,6,0,-1,2,0,249,249]
["PzGr Mot 42",287,"Panzergrenadier Gruppe",1,1,0,0,0,-1,2,0,254,255]
["DAK dbl LMG team",288,"Panzergrenadier Gruppe DAK",1,1,0,0,0,-1,1,0,237]
["PzGr 43 (gp)",289,"Panzergrenadier Gruppe 43 (gp)",1,1,0,0,0,-1,2,0,328,255]
["PzGr (gp) 44",290,"Panzergrenadier Gruppe (gp) 44",1,1,0,0,0,-1,2,0,328,329]
["PzGr (mot) 44",291,"Panzergrenadier Gruppe 44",1,1,0,0,0,-1,2,0,337,338]
["Krad 42",292,"Kraftradschützen Gruppe 42",1,1,0,0,0,-1,2,0,221,222]
["PzAufkl (gp) 42",293,"Panzeraufklärer Gruppe (gp) 42",1,1,0,1,0,-1,2,0,279,280]
["PzAufkl Grp 44",294,"Panzeraufklärer Gruppe 44",1,1,0,1,0,-1,2,0,309,310]
["PzAufkl Zug 44",295,"Panzeraufklärerzug",1,1,2,1,2,307,0,3,{"$f":"$B$298","v":294},{"$f":"$B$298","v":294},{"$f":"$B$298","v":294}]
["PzAufkl 44 Trnsp",296,"Kompanietrupp",1,1,1,6,0,-1,8,0,441,441,441,441,441,441,441,441]
["PzAufkl (gp) 44",297,"Panzeraufklärer Gruppe (gp) 44",1,1,0,1,0,-1,2,0,346,347]
["Pio. 42",298,"Pionier Gruppe 42",1,1,0,4,0,-1,2,0,286,287]
["Pio 44",299,"Pionier Gruppe 44",1,1,0,4,0,-1,2,0,318,319]
["SS PzGr 44",300,"SS PzGr. Gruppe 44",1,1,0,4,0,-1,2,0,354,355]
["italian Squad",301,"Italian Rifle Section AS41",1,2,1,0,0,-1,3,0,376,377,378]
["org starts here",302,"Italian Rifle Section AS42",1,2,1,0,0,-1,2,0,392,393]
["IT Bers Sqd AS41",303,"Bersaglieri Squad AS41",1,2,0,0,2,-1,2,0,401,402]
["IT Bers Sqd AS42",304,"Bersaglieri Squad AS42",1,2,0,0,2,-1,2,0,403,404]
["IT Superga Sqd",305,"Superga Rifle Squad",1,2,0,0,2,-1,2,0,376,378]
["IT Coastal Sqd",306,"Costal Infantry Section",1,2,1,0,0,-1,2,0,411,412]
["IT Coastal MG",307,"Costal MG Section",1,2,1,6,0,-1,2,0,413,413]
["US AB Mortar 42",308,"Airborne Mortar Squad 42",0,0,0,6,0,-1,1,0,80]
["US AB Mortar 44",309,"Airborne Mortar Squad 44",0,0,0,6,0,-1,1,0,72]
["DAK Kp transport",310,"Kompanietrupp",0,0,1,6,0,-1,10,0,441,442,442,442,442,442,442,442,442,442]
["PzGr Mot 43",311,"Panzergrenadier Gruppe 43 (mot)",1,1,0,0,0,-1,2,0,337,255]
["PzGr gp 44 Spt",312,"Kompanietrupp",0,0,1,6,0,-1,10,0,330,330,330,281,248,248,248,248,248,248]
["PzGr 44 Spt",313,"Kompanietrupp",0,0,1,6,0,-1,10,0,330,330,330,441,442,442,442,442,442,442]
[]
[]
[]
[]
[]
[]
[]
[]
[]
[]
[]
[]
[]
[]
[null,null,"GERMAN"]
[null,null,"Infanterie Kompanie c",null,"ATR section 3 ATR, 3 zug w/ 4 gruppe and 1 leGW each"]
[null,null,"Infanterie Kompanie e",null,"ATR section 3 ATR, 3 zug w/ 4 gruppe, No.1 Zug only has 1 leGW"]
[null,null,"Infanterie Kompanie f",null,"As 'c'"]
[null,null,"MG Coy c",null,"12 sMG, 6 mortar"]
[null,null,"MG Coy f",null,"12 sMG"]
[null,null,"Heave Coy b"]
[]
[null,null,"Infanterie Kompanie NA (early 44)",null,"3 Zug each 3 squad w/ 4 leMG. MG section w/ 2 sMG"]
[]
[null,null,"Schutzen Kp a / PzGr Kp b (gp)",null,"HQ w/ 250. 3 platoon each 251/10 HQ and 3 gruppe w/ 2 leMG and 251/1 ea. Heavy Zug with 2 MG sect (2 sMG 1 251/1 ea) and 1 mortar section (2 x 251/2)"]
[]
[null,null,"PzGr Kp b (mot)",null,"HQ and 3 platoons each 3 squad w/ 2 leMG.  Heavy platoon with 2 x 2 sMG section and a 2 x 81mm mortar section"]
[]
[null,null,"Schutzen Kp b (mot) N.Africa",null,"HQ and 3 platoons ea. 3 squads w/ 2 leMG, 2 7.62cm ATG, 1 28mm ATR, 1 81mm mortar. MG section w/ 2 sMG"]
[]
[null,null,"Mountain Inf…"]
[]
[]
[]
[]
[]
[]
[]
[]
[]
[]
[]
[]
[]
[]
[]
[]
[]
[]
[]
[]
[]
[]
[]
[]
[null,null,"Italian Infantry Coy","HQ and three platoons"]
[null,null,"Infantry Platoon","HQ and two sections"]
[null,null,"Infantry Section","two squads (LMG and Rifle)"]
[null,null,"Scout Squad?","?"]
[null,null,"Bn 45mm Mortar plt x2","3 sections of three squads = 9 mortars"]
[null,null,"Bn MMG x2","2 sections of two squads = 4 MMG"]
[null,null,"Rgt AT Coy","4 plt each two guns"]
[null,null,"Div Engineer"]
[null,null,"Div AT"]
[]
[]
[]
[null,null,"Motorcycle Bersaglieri Coy","HQ and two rifle platoons and one MMG platoon"]
[null,null,"Rifle Platoon","Three squads (four in motorcycle) each 1 LMG"]
[null,null,"MMG Platoon","4 MMG"]
[]
[null,null,"Motorized Bers. Coy","HQ, three rifle platoons and one MMG platoon"]
[]
[]
["Tunisia",null,"10. Bersaglieri Rgt kp","HQ, rifle platoon,  3 x leMG, 3 x sMG, 3 x ATG",null,null,null,null,null,"Both XVI and XXXIV bn"]
[null,null,"Rifle Platoon","3 squad 2 LMG ea"]
[null,null,"MG Platoon","3 MMG"]
[null,null,"ATR Platoon","3 ATR"]
[null,null,"ATG Platoon","3x 47/32"]
[]
[]
[]
[null,null,"Superga / Assault Coy","HQ and three platoons plus mortar section and MMG platoon"]
[null,null,"Inf plt","HQ and three squads"]
[null,null,"Inf squad","1 LMG"]
[null,null,"Mortar section","3 x 45mm mortar"]
[null,null,"MMG Platoon","4 x MMG"]
[null,null,"BN AT Plt","2 x ATG"]
[null,null,"BN 81mm Plt","3 x 81mm Mortar"]

{"sheet":"TEAMS","index":8,"n_rows":458,"n_cols":22,"rows_kept":458,"cut":false,"hidden":false,"merged":[]}
[null,"index ","Name","Description","Nation","Unit Type (See TEAM TYPES)","Echelon 0=Squad, 1=Section, 2=Platoon, 3=Company, 4=Battlion, 5=Regiment, 6=Division, 7=Corps, 8=Army\n\nEchelon\n(0-11)","Icon Index","(0=Conscript, 1 = Green, 2 = Regular, 3 = Experienced, 4 = Veteran, 5 = Elite) \n\nExperience (0-5)","(0=Shaken, 1=Weak, 2=Average, 3=Confident, 4=Determined,  5=Fanatic)\nMorale\n(0-5) ","Proper Equip?","Mine Clear?","Soldier Count","Vehicle Count "]
[null,"count:",456]
["// 1942 //",0,"Company HQ","Company HQ 1942",0,0,3,22,1,2,1,0,6,0,53,48,23,23,23,23]
[null,{"$f":"B3+1","v":1},"Platoon HQ","Platoon HQ – Command Team",0,0,2,22,1,2,1,0,4,0,47,21,22,22]
[null,{"$f":"B4+1","v":2},"Platoon Reserves","Platoon HQ – Rifle Team",0,1,2,1,1,2,1,0,6,0,46,1,1,1,1,1]
[null,3,"BAR Team","Rifle Squad – Browning Automatic Rifle Team",0,2,0,1,1,2,1,0,6,0,36,5,6,18,0,0]
[null,4,"Rifle Team","Rifle Squad – Rifle Team",0,1,0,1,1,2,1,0,6,0,30,0,0,0,0,0]
[null,5,"Wpns Platoon HQ","Platoon HQ, Weapons Platoon 1942",0,0,2,22,1,2,1,0,4,0,47,44,23,23]
[null,6,"MG Section HQ","Machinegun Section HQ, Weapons Platoon 1942",0,0,1,42,1,2,1,0,3,0,41,23,1]
[null,7,".30 MMG","Machinegun Squad, Weapons Platoon 1942",0,5,0,3,1,2,1,0,5,0,32,10,15,19,19]
[null,8,"Mortar Section HQ","Mortar Section HQ, Weapons Platoon 1942",0,0,1,42,1,2,1,0,4,0,41,23,1,1]
[null,9,"60mm Mortar","60mm Mortar Squad, Weapons Platoon 1942",0,8,0,7,1,2,1,0,5,0,32,12,15,19,19]
[null,10,".30cal HMG","MG Squad, Heavy Weapons Company 1942",0,6,4,2,1,2,1,0,7,0,62,63,15,19,19,19,19]
[null,11,"81mm Mortar","Mortar Squad, Heavy Weapons Company 1942",0,9,4,7,1,2,1,0,7,0,62,68,15,19,19,19,19]
[null,12,"37mm AT gun","Anti-Tank Squad, Battalion AT Platoon 1942",0,13,4,4,1,2,1,0,5,1,32,14,16,19,1,18]
[null,13,"A&P Squad","Ammunition & Pioneer Squad, Battalion A&P Platoon 1942",0,4,4,23,1,2,1,1,8,0,8,120,7,7,7,7,7,7]
[null,14,"37mm AT gun","Anti-Tank Squad, Rgt AT Company 1942",0,13,4,4,1,2,1,0,5,1,32,14,16,19,1,18]
[null,15,"Pioneer Squad","Anti-Tank Mine Squad, Rgt. AT Company 1942",0,4,5,23,1,2,1,1,8,0,118,87,87,87,87,87,87,87]
[null,16,"I&R Section","Intel & Recon Section, Rgt. HQ Company 1942",0,3,5,48,1,2,1,1,3,0,134,134,1]
[null,17,"Engineer Team","Combat Engineer Squad – Team 1 1942",0,4,6,23,1,2,1,1,5,0,126,117,67,67,67]
[null,18,"Engineer Team","Combat Engineer Squad – Team 2 1942",0,4,6,23,1,2,1,1,5,0,127,67,67,67,67]
[null,19,"Platoon HQ","Platoon HQ - Combat Engineer Platoon",0,0,6,22,1,1,1,1,3,0,47,46,1]
[null,20,"Company HQ","Company HQ - Combat Engineer Company",0,0,6,22,1,2,1,1,5,0,53,51,1,1,1]
["// 1943 //  ",21,"Company HQ","Company HQ – Command Team 1943",0,0,3,22,2,2,1,0,5,0,53,48,23,23,23]
[null,22,"Company Reserves","Company HQ – Rifle Team 1943",0,1,3,22,2,2,1,0,6,0,51,1,1,1,1,1]
[null,23,"Platoon HQ","Platoon HQ 1943",0,0,2,22,2,2,1,1,5,0,47,46,21,22,22]
[null,24,"BAR Team","Rifle Squad – Browning Automatic Rifle Team",0,2,0,1,2,2,1,0,6,0,33,5,6,18,0,0]
[null,25,"Rifle Team","Rifle Squad – Rifle Team",0,1,0,1,2,2,1,0,6,0,75,0,0,0,0,0]
[null,26,"Wpns Platoon HQ","Platoon HQ, Weapons Platoon 1943",0,0,2,22,2,2,1,0,4,0,47,44,23,23]
[null,27,"MG Section HQ","Machinegun Section HQ, Weapons Platoon 1943",0,0,0,22,2,2,1,0,2,0,41,23]
[null,28,".30 MMG","Machinegun Squad, Weapons Platoon 1943",0,4,0,3,2,2,1,0,5,0,32,10,15,19,19]
[null,29,"Mortar HQ","Mortar Section HQ, Weapons Platoon 1943",0,0,0,22,2,2,1,0,2,0,41,23]
[null,30,"60mm Mortar","60mm Mortar Squad, Weapons Platoon 1943",0,8,0,7,2,2,1,0,5,0,32,12,15,19,19]
[null,31,".30cal HMG","MG Squad, Heavy Weapons Company 1943",0,5,0,2,2,2,1,0,7,0,62,63,15,19,19,19,19]
[null,32,"81mm Mortar","Mortar Squad, Heavy Weapons Company 1943",0,9,4,7,2,2,1,0,7,0,62,68,15,19,19,19,19]
[null,33,"37mm AT gun","Anti-Tank Squad, Battalion AT Platoon 1943",0,13,4,4,2,2,1,0,4,1,32,14,16,19,18]
[null,34,"A&P Squad","Ammunition & Pioneer Squad, Battalion A&P Platoon 1943",0,4,4,23,2,2,1,1,8,0,8,120,7,7,7,7,7,7]
[null,35,"37mm AT gun","Anti-Tank Squad, Rgt AT Company 1943",0,13,4,4,2,2,1,0,4,1,32,14,16,19,18]
[null,36,"Pioneer Squad","Anti-Tank Mine Squad, Rgt. AT Company 1943",0,4,5,23,2,2,1,1,8,0,118,87,87,87,87,87,87,87]
[null,37,"I&R Section","Intel & Recon Section, Rgt. HQ Company 1943",0,3,5,48,2,2,1,1,3,0,135,134,134]
[null,38,"Engineer Team","Combat Engineer Squad – Team 1 1943",0,4,6,23,2,2,1,1,5,0,126,117,67,67,67]
[null,39,"Engineer Team","Combat Engineer Squad – Team 2 1943",0,4,6,23,2,2,1,1,5,0,127,67,67,67,67]
[null,40,"Engineer Platoon HQ","Platoon HQ - Combat Engineer Platoon 1943",0,0,6,22,2,2,1,1,3,0,47,46,1]
[null,41,"Engineer Combat HQ","Company HQ - Combat Engineer Company 1943",0,0,6,22,2,2,1,1,5,0,53,48,1,1,1]
[null,42,"Bazooka","Bazooka Team 1943",0,7,0,9,2,2,1,0,2,0,76,128]
[null,43,"Sharpshooter","Sniper 1943",0,11,0,52,2,2,1,0,1,0,9]
["// 1944 // ",44,"Company HQ","Company HQ – Command Team 1944",0,0,3,22,3,3,1,0,5,0,53,82,23,23,23]
[null,45,"Company Reserves","Company HQ – Rifle Team 1944",0,1,3,22,3,3,1,0,6,0,51,83,1,1,1,1]
[null,46,"Platoon HQ","Platoon HQ 1944",0,0,2,22,3,3,1,0,5,0,47,78,21,22,22]
[null,47,"BAR Team","Rifle Squad – Browning Automatic Rifle Team",0,2,0,1,3,3,1,0,6,0,40,5,6,18,4,0]
[null,48,"Rifle Team","Rifle Squad – Rifle Team",0,1,0,1,3,3,1,0,6,0,77,0,0,0,0,0]
[null,49,"Wpns Platoon HQ","Platoon HQ, Weapons Platoon 1944",0,0,2,22,3,3,1,0,4,0,47,44,23,23]
[null,50,"MG Section HQ","Machinegun Section HQ, Weapons Platoon 1944",0,0,0,22,3,3,1,0,2,0,80,23]
[null,51,".30 MMG","Machinegun Squad, Weapons Platoon 1944",0,5,0,3,3,3,1,0,5,0,79,10,15,19,19]
[null,52,"Mortar Section HQ","Mortar Section HQ, Weapons Platoon 1944",0,0,0,22,3,3,1,0,2,0,81,23]
[null,53,"60mm Mortar","60mm Mortar Squad, Weapons Platoon 1944",0,8,0,7,3,3,1,0,5,0,33,12,15,19,19]
[null,54,".30cal HMG","MG Squad, Heavy Weapons Company 1944",0,6,0,2,3,3,1,0,6,0,79,63,15,19,19,19]
[null,55,"81mm Mortar","Mortar Squad, Heavy Weapons Company 1944",0,9,4,7,3,3,1,0,7,0,40,68,15,17,19,19,19]
[null,56,"57mm AT Gun","Anti-Tank Squad, Battalion AT Platoon 1944",0,13,0,6,3,3,1,0,6,1,40,84,15,17,19,19,19]
[null,57,"A&P Squad","A&P Squad, Battalion A&P Platoon 1944",0,4,0,23,3,3,1,1,8,0,123,87,87,87,87,87,87,87]
[null,58,"57mm AT gun","Anti-Tank Squad, Rgt AT Company 1944",0,13,4,4,3,3,1,0,6,1,40,84,15,17,19,19,19]
[null,59,"Pioneer Squad","Anti-Tank Mine Squad, Rgt. AT Company 1944",0,4,5,23,3,3,1,1,8,0,123,131,130,130,130,130,130,130]
[null,60,"I&R Section","Intel & Recon Section, Rgt. HQ Company 1944",0,3,5,48,3,3,1,1,3,0,135,135,135]
[null,61,"Engineer Team","Combat Engineer Squad – Team 1 1944",0,4,6,23,3,3,1,1,5,0,132,117,119,67,67]
[null,62,"Engineer Team","Combat Engineer Squad – Team 2 1944",0,4,6,23,3,3,1,1,5,0,127,119,67,67,67]
[null,63,"Platoon HQ","Platoon HQ - Combat Engineer Platoon 1944",0,0,6,22,3,3,1,1,3,0,47,44,1]
[null,64,"Company HQ","Company HQ - Combat Engineer Company 1944",0,0,6,22,3,3,1,1,5,0,53,48,133,1,1]
[null,65,"Bazooka","Bazooka Team 1944",0,7,0,9,3,3,1,0,2,0,129,128]
[null,{"$f":"B68+1","v":66},"Sharpshooter","Sniper 1944",0,11,0,52,3,3,1,0,1,0,9]
["AB 1944",67,"Company HQ","Airborne Company Headquarters 1944",0,0,3,10,3,3,1,0,6,0,90,91,111,93,93,89]
[null,68,"Platoon HQ","Airborne Platoon Headquarters",0,0,2,12,3,3,1,0,5,0,94,112,93,93,89]
[null,69,"Machine Gun Team","Airborne Rifle team w/ .30 cal MMG",0,2,0,11,3,3,1,0,5,0,100,106,113,114,99]
[null,70,"BAR Team","Airborne Rifle team w/BAR",0,2,0,11,3,3,1,0,5,0,101,99,99,99,99]
[null,71,".30 cal. MMG","Airborne .30 cal. MMG squad",0,5,0,15,3,3,1,0,4,0,95,98,107,107]
[null,72,"60mm Mortar","Airborne 60mm Mortar Squad",0,8,0,8,3,3,1,0,6,0,110,108,98,107,107,107]
[null,73,"Bazooka","Airborne Bazooka Squad",0,7,0,9,3,3,1,0,2,0,97,99]
[null,74,"Sniper","Airborne Sniper Team",0,11,0,52,3,3,1,0,1,0,115]
["AB 1942",75,"Company HQ","Airborne Company Headquarters 1942",0,0,3,10,3,3,1,0,6,0,90,91,92,93,93,109]
[null,76,"Platoon HQ","Airborne Platoon Headquarters",0,0,2,12,3,3,1,0,5,0,94,112,93,93,109]
[null,77,"Machine Gun Team","Airborne Rifle Team w/ .30 cal MMG",0,2,0,11,3,3,1,0,6,0,102,106,113,114,114,114]
[null,78,"Rifle Team","Airborne Rifle Team",0,1,0,11,3,3,1,0,6,0,105,99,99,99,99,99]
[null,79,".30 cal. MMG","Airborne .30 cal. MMG squad",0,5,0,15,3,3,1,0,4,0,95,113,114,114]
[null,80,"60mm Mortar","Airborne 60mm Mortar Squad",0,8,0,8,3,3,1,0,6,0,110,108,98,107,107,107]
[" ",81,"Bazooka","Airborne Bazooka Squad",0,7,0,9,3,3,1,0,2,0,97,99]
[null,82,"Sniper","Airborne Sniper Team",0,11,0,52,3,3,1,0,1,0,115]
["Mech Rcn 42",83,"Recon Troop HQ","Troop Cmdr, Mech Cav 1942",0,0,3,47,1,2,1,0,3,0,53,22,1]
[null,84,"Recon Platoon HQ","Platoon Leader, Mech Cav 1942",0,0,2,47,1,2,1,0,3,0,47,71,1]
[null,85,"Recon Section HQ","Scout Section Leader, Mech Cav 1942",0,0,1,47,1,2,1,0,3,0,137,22,134]
[null,86,"Recon Team","Recon Team - Squad Leader, Mech Cav 1942",0,3,0,48,1,2,1,0,3,0,136,135,135]
[null,87,"Recon Team","Recon Team, Mech Cav 1942",0,3,0,48,1,2,1,0,3,0,134,135,135]
[null,88,"Recon Pioneer Team","Pioneer Squad, Mechanized Cavalry Troop 1942",0,4,0,23,1,2,1,1,3,0,118,131,130]
[null,89,"Recon 81mm Mortar","Mortar Squad, Mechanized Cavalry Troop 1942",0,9,0,46,1,2,1,0,3,0,8,68,87]
["Mech Rcn 44",90,"Recon Troop HQ","Troop Cmdr, Mech Cav 1944",0,9,0,47,2,2,1,0,4,0,53,51,2,2]
[null,91,"Recon Platoon HQ","Recon Platoon HQ 1944",0,9,0,47,2,2,1,0,3,0,47,2,2]
[null,92,"Recon Section HQ","Recon Section Leader",0,3,0,48,2,2,1,0,2,0,42,139]
[null,93,"Recon Team","Recon Team with Squad Leader",0,3,0,48,2,2,1,0,3,0,35,139,2]
[null,94,"60mm Mortar","Recon Light Mortar Team",0,9,0,45,2,2,1,0,3,0,138,12,16]
[null,95,"Bazooka","Recon Bazooka Team",0,21,0,45,2,2,1,0,2,0,129,2]
["Armd Inf 44",96,"Company HQ","Armored Infantry Company HQ 1944",0,0,0,17,2,2,1,0,5,0,53,51,0,0,0]
[null,97,"Platoon HQ","Armored Infantry Platoon HQ Squad - Command Team",0,0,0,19,2,2,1,0,5,0,47,51,4,0,0]
[null,98,"Rifle Team","Armored Infantry Platoon HQ Squad - Rifle Team",0,1,0,18,2,2,1,0,5,0,77,0,0,0,0]
[null,99,"Rifle Team","Armored Infantry Squad - Rifle Team with Squad Leader",0,1,0,18,2,2,1,0,5,0,40,4,0,0,0]
["5xM3A1 .50",100,"Rifle Team","Armored Infantry Squad - Rifle Team",0,1,0,18,2,2,1,0,5,0,77,0,0,0,0]
["4xM3A1 .30",101,"60mm Mortar","Armored Infantry Light Mortar Team",0,9,0,18,2,2,1,0,5,0,40,12,16,20,20]
["2xJeep",102,".30 cal MMG","Armored Infantry Medium Machine Gun Team with Squad Leader",0,5,0,18,2,2,1,0,5,0,40,10,16,18,18]
[null,103,".30 cal MMG","Armored Infantry Medium Machine Gun Team",0,5,0,18,2,2,1,0,5,0,33,10,16,18,18]
[null,104,"Platoon HQ","Armored Infantry Anti-Tank Platoon HQ",0,0,0,19,2,2,1,0,2,0,47,51]
[null,105,"57mm AT Gun","Armored Infantry Light Anti-Tank Gun",0,13,0,6,2,2,1,0,5,1,40,13,16,19,19,19]
[null,106,"Recon Team","Armored Infantry Battalion Recon Squad - Recon Team with Squad Leader",0,3,0,49,2,2,1,0,3,0,40,0,0]
[null,107,"Recon Team","Armored Infantry Battalion Recon Squad - Recon Team",0,3,0,49,2,2,1,0,3,0,33,0,0]
[null,108,".30 cal HMG","Armored Infantry Heavy Machine Gun Team",0,5,0,14,2,2,1,0,5,0,33,63,16,20,20]
["Armd Inf 42",109,"Company HQ","Armored Infantry Company HQ 1942",0,0,0,17,1,2,1,0,5,0,53,51,23,23,1]
[null,110,"Platoon HQ","Armored Infantry Platoon HQ Squad - Command Team",0,0,0,19,1,2,1,0,4,0,47,44,0,0]
[null,111,"Rifle Team","Armored Infantry Platoon HQ Squad - Rifle Team",0,1,0,18,1,2,1,0,4,0,36,0,0,0]
[null,112,"Rifle Team","Armored Infantry Squad - Rifle Team with Squad Leader",0,1,0,18,1,2,1,0,5,0,36,0,0,0,0]
["(Spt Unit:)",113,"Rifle Team","Armored Infantry Squad - Rifle Team",0,1,0,18,1,2,1,0,4,0,52,0,0,0]
["(4 x M3 HT)",114,"60mm Mortar","Armored Infantry Light Mortar Team",0,9,0,18,1,2,1,0,5,0,39,12,17,20,20]
["(2 x M2 HT)",115,".30 cal MMG","Armored Infantry Medium Machine Gun Team with Squad Leader",0,5,0,18,1,2,1,0,4,0,39,10,16,20]
["(1 x jeep)",116,".30 cal MMG","Armored Infantry Medium Machine Gun Team",0,5,0,18,1,2,1,0,4,0,32,10,16,20]
["(3 x AT Gun)",117,"37mm AT Gun","Armored Infantry Light Anti-Tank Gun Team",0,13,0,6,1,2,1,0,3,1,14,16,1,18]
[null,118,"Recon Team","Armored Infantry Recon Squad - Recon Team with Squad Leader",0,3,0,49,1,2,1,0,3,0,137,135,135]
[null,119,"Recon Team","Armored Infantry Recon Squad - Recon Team",0,3,0,49,1,2,1,0,3,0,136,135,135]
[null,120,".30 cal HMG","Armored Infantry Battalion MG Platoon - Heavy Machine Gun Team",0,5,0,14,1,2,1,0,4,0,140,63,17,20]
["Spt Units",121,"M3 Light Tank","M3 \"Stuart\" Light Tank",0,22,0,34,1,2,1,0,4,1,60,56,55,116,0]
[null,122,"M5A1 Light Tank","M5A1 \"Stuart\" Light Tank",0,22,0,39,1,2,1,0,4,1,60,56,55,116,26]
[null,123,"M3 Medium Tank","M3 \"Lee\" Medium Tank",0,23,0,32,1,2,1,0,7,1,60,59,58,57,56,55,54,1]
[null,124,"M4 Medium Tank","M4 \"Sherman\" Medium Tank",0,23,0,35,1,2,1,0,5,1,60,56,58,55,116,2]
[null,125,"M4A1 Medium Tank","M4A1 \"Sherman\" Medium Tank",0,23,0,38,1,2,1,0,5,1,60,56,58,55,116,3]
[null,126,"M4A1(76) Medium Tank","M4A1(76) \"Sherman\" Medium Tank",0,23,0,37,1,2,1,0,5,1,60,56,58,55,116,27]
[null,127,"M4(105) Medium Tank","M4(105) \"Sherman\" Medium Tank",0,25,0,36,1,2,1,0,5,1,60,56,58,55,116,28]
[null,128,"M3 Tank Destroyer","M3 75mm Gun Motor Carriage",0,32,0,30,1,2,1,0,5,1,60,56,58,58,55,4]
[null,129,"M10 Tank Destroyer","M10 3-Inch Gun Motor Carriage",0,26,0,26,1,2,1,0,5,1,60,56,58,58,55,5]
[null,{"$f":"B132+1","v":130},"M2 Halftrack (.30 cal)","M2 Halftrack with .30 cal Machine Gun",0,28,0,28,1,2,1,0,2,1,55,56,6]
[null,131,"M2A1 Halftrack (.30 cal MG)","M2A1 Halftrack with .30 cal Machine Gun",0,28,0,31,1,2,1,0,2,1,55,56,7]
[null,132,"M3 Halftrack (.30 cal MG)","M3 Halftrack with .30 cal Machine Gun",0,28,0,28,1,2,1,0,2,1,55,56,8]
[null,133,"M3A1 Halftrack (.30 cal MG)","M3A1 Halftrack with .30 cal Machine Gun",0,28,0,31,1,2,1,0,2,1,55,56,9]
[null,134,"M2 Halftrack (.50 cal MG)","M2 Halftrack with .50 cal Machine Gun",0,28,0,28,1,2,1,0,2,1,55,56,6]
[null,135,"M2A1 Halftrack (.50 cal MG)","M2A1 Halftrack with .50 cal Machine Gun",0,28,0,31,1,2,1,0,2,1,55,56,7]
[null,136,"M3 Halftrack (.50 cal MG)","M3 Halftrack with .50 cal Machine Gun",0,28,0,28,1,2,1,0,2,1,55,56,8]
[null,137,"M3A1 Halftrack (.50 cal MG)","M3A1 Halftrack with .50 cal Machine Gun",0,28,0,31,1,2,1,0,2,1,55,56,9]
[null,138,"T19 105mm HMC","T19 105mm Howitzer Motor Carriage",0,31,0,53,1,2,1,0,6,1,60,56,58,55,116,59,10]
[null,139,"T30 75mm HMC","T30 75mm Howitzer Motor Carriage",0,31,0,54,1,2,1,0,5,1,60,56,58,55,59,11]
[null,140,"3/4 Ton Truck","3/4 Ton Weapons Carrier",0,27,0,56,1,2,1,0,1,1,24,12]
[null,141,"2 1/2 Ton Truck","2 1/2 Ton Truck",0,27,0,55,1,2,1,0,1,1,24,13]
[null,142,"Jeep","The 1/4 ton \"Jeep\" is the standard US Army light transport vehicle. It can carry up to 5 men and tow a light gun.",0,27,0,25,1,2,1,0,1,1,24,14]
[null,143,"Jeep (.30 cal MG)","An unarmored recon jeep mounting an M1919A4 .30 cal machine gun for emergency self-defense.",0,29,0,43,1,2,1,0,2,1,24,14,24]
[null,144,"Jeep (.50 cal MG)","An unarmored recon jeep mounting an M2 .50 cal machine gun. This is an improvised vehicle intended to give recon units some additional anit-aircraft defense. The .50 cal machine gun was found to be too heavy for the small vehicle and they were phased out later in the war as the M8 Armored Car became available.",0,29,0,44,1,2,1,0,2,1,24,14,25]
[null,145,"M3A1 Scout Car","M3A1 Scout Car",0,29,0,33,1,2,1,0,3,1,24,14,14,15]
[null,146,"M20 Scout Car","M20 Armored Utility Car is an M8 armored car without the turret, mounting an M2 .50 caliber machine gun.  It is primarily used in Tank Destroyer units for recon and transportion.",0,29,0,27,1,2,1,0,2,1,55,56,16]
[null,147,"M8 Armored Car","M8 \"Greyhound\" Armored Car",0,30,0,40,1,2,1,0,4,1,60,56,58,55,17]
[null,148,"3-Inch AT Gun","3-Inch Gun M5",0,14,0,29,1,2,1,0,5,1,32,14,16,19,19,20]
[null,149,"105mm Howitzer","105mm Howitzer, Divisional Artillery Battalion",0,17,0,29,1,2,1,0,6,1,41,14,16,16,19,19,21]
[null,150,"T12 75mm HMC","T12 75mm Howitzer Motor Carriage",0,31,0,30,1,2,1,0,4,1,60,56,58,55,22]
[null,151,"3/4 Ton Truck (.50cal MG)","3/4 Ton Weapons Carrier w/ .50cal HMG",0,27,0,56,1,2,1,0,1,1,24,14,23]
["Mech Rcn 42",152,"Recon Troop HQ","Troop Cmdr, Mech Cav 1942",0,0,3,47,1,2,1,0,3,0,53,22,1]
[null,153,"Recon Platoon HQ","Platoon Leader, Mech Cav 1942",0,0,2,47,1,2,1,0,3,0,47,71,1]
[null,154,"Recon Section HQ","Scout Section Leader, Mech Cav 1942",0,0,1,47,1,2,1,0,3,0,137,22,134]
[null,155,"Recon Team","Recon Team - Squad Leader, Mech Cav 1942",0,3,0,48,1,2,1,0,3,0,136,135,135]
[null,156,"Recon Team","Recon Team, Mech Cav 1942",0,3,0,48,1,2,1,0,3,0,134,135,135]
[null,157,"Recon Pioneer Team","Pioneer Squad, Mechanized Cavalry Troop 1942",0,4,0,23,1,2,1,1,3,0,118,131,130]
[null,158,"Recon 81mm Mortar","Mortar Squad, Mechanized Cavalry Troop 1942",0,9,0,46,1,2,1,0,3,0,8,68,87]
["Mech Rcn 44",159,"Recon Troop HQ","Troop Cmdr, Mech Cav 1944",0,9,0,47,2,2,1,0,4,0,53,51,2,2]
[null,160,"Recon Platoon HQ","Recon Platoon HQ 1944",0,9,0,47,2,2,1,0,3,0,47,2,2]
[null,161,"Recon Section HQ","Recon Section Leader",0,3,0,48,2,2,1,0,2,0,42,139]
[null,162,"Recon Team","Recon Team with Squad Leader",0,3,0,48,2,2,1,0,3,0,35,139,2]
[null,163,"60mm Mortar","Recon Light Mortar Team",0,9,0,45,2,2,1,0,3,0,138,12,16]
[null,164,"Bazooka","Recon Bazooka Team",0,21,0,45,2,2,1,0,2,0,129,2]
["Armd Inf 44",165,"Company HQ","Armored Infantry Company HQ 1944",0,0,0,17,2,2,1,0,5,0,53,51,0,0,0]
[null,166,"Platoon HQ","Armored Infantry Platoon HQ Squad - Command Team",0,0,0,19,2,2,1,0,5,0,47,51,4,0,0]
[null,167,"Rifle Team","Armored Infantry Platoon HQ Squad - Rifle Team",0,1,0,18,2,2,1,0,5,0,77,0,0,0,0]
[null,168,"Rifle Team","Armored Infantry Squad - Rifle Team with Squad Leader",0,1,0,18,2,2,1,0,5,0,40,4,0,0,0]
["5xM3A1 .50",169,"Rifle Team","Armored Infantry Squad - Rifle Team",0,1,0,18,2,2,1,0,5,0,77,0,0,0,0]
["4xM3A1 .30",170,"60mm Mortar","Armored Infantry Light Mortar Team",0,9,0,18,2,2,1,0,5,0,40,12,16,20,20]
["2xJeep",171,".30 cal MMG","Armored Infantry Medium Machine Gun Team with Squad Leader",0,5,0,18,2,2,1,0,5,0,40,10,16,18,18]
[null,172,".30 cal MMG","Armored Infantry Medium Machine Gun Team",0,5,0,18,2,2,1,0,5,0,33,10,16,18,18]
[null,173,"Platoon HQ","Armored Infantry Anti-Tank Platoon HQ",0,0,0,19,2,2,1,0,2,0,47,51]
[null,174,"57mm AT Gun","Armored Infantry Light Anti-Tank Gun",0,13,0,6,2,2,1,0,5,1,40,13,16,19,19,19]
[null,175,"Recon Team","Armored Infantry Battalion Recon Squad - Recon Team with Squad Leader",0,3,0,49,2,2,1,0,3,0,40,0,0]
[null,176,"Recon Team","Armored Infantry Battalion Recon Squad - Recon Team",0,3,0,49,2,2,1,0,3,0,33,0,0]
[null,177,".30 cal HMG","Armored Infantry Heavy Machine Gun Team",0,5,0,14,2,2,1,0,5,0,33,63,16,20,20]
["Armd Inf 42",178,"Company HQ","Armored Infantry Company HQ 1942",0,0,0,17,1,2,1,0,5,0,53,51,23,23,1]
[null,179,"Platoon HQ","Armored Infantry Platoon HQ Squad - Command Team",0,0,0,19,1,2,1,0,4,0,47,44,0,0]
[null,180,"Rifle Team","Armored Infantry Platoon HQ Squad - Rifle Team",0,1,0,18,1,2,1,0,4,0,36,0,0,0]
[null,181,"Rifle Team","Armored Infantry Squad - Rifle Team with Squad Leader",0,1,0,18,1,2,1,0,5,0,36,0,0,0,0]
["(Spt Unit:)",182,"Rifle Team","Armored Infantry Squad - Rifle Team",0,1,0,18,1,2,1,0,4,0,52,0,0,0]
["(4 x M3 HT)",183,"60mm Mortar","Armored Infantry Light Mortar Team",0,9,0,18,1,2,1,0,5,0,39,12,17,20,20]
["(2 x M2 HT)",184,".30 cal MMG","Armored Infantry Medium Machine Gun Team with Squad Leader",0,5,0,18,1,2,1,0,4,0,39,10,16,20]
["(1 x jeep)",185,".30 cal MMG","Armored Infantry Medium Machine Gun Team",0,5,0,18,1,2,1,0,4,0,32,10,16,20]
["(3 x AT Gun)",186,"37mm AT Gun","Armored Infantry Light Anti-Tank Gun Team",0,13,0,6,1,2,1,0,3,1,14,16,1,18]
[null,187,"Recon Team","Armored Infantry Recon Squad - Recon Team with Squad Leader",0,3,0,49,1,2,1,0,3,0,137,135,135]
[null,188,"Recon Team","Armored Infantry Recon Squad - Recon Team",0,3,0,49,1,2,1,0,3,0,136,135,135]
[null,189,".30 cal HMG","Armored Infantry Battalion MG Platoon - Heavy Machine Gun Team",0,5,0,14,1,2,1,0,4,0,140,63,17,20]
[null,190,".30 cal HMG","Heavy Machine Gun Team",0,6,0,14,1,2,1,0,4,0,140,63,17,20]
[null,191,".50 cal HMG","Heavy Machine Gun Team",0,6,0,14,1,2,1,0,4,0,140,11,17,20]
[null,192,"37mm AT Gun","Light Anti-Tank Gun",0,13,0,6,1,2,1,0,3,1,14,16,20,18]
[null,193,"RESERVED","RESERVED",0,0,0,0,0,0,0,0,0,0]
[null,{"$f":"B196+1","v":194},"RESERVED","RESERVED",0,0,0,0,0,0,0,0,0,0]
[null,195,"RESERVED","RESERVED",0,0,0,0,0,0,0,0,0,0]
[null,196,"RESERVED","RESERVED",0,0,0,0,0,0,0,0,0,0]
[null,197,"RESERVED","RESERVED",0,0,0,0,0,0,0,0,0,0]
[null,198,"RESERVED","RESERVED",0,0,0,0,0,0,0,0,0,0]
[null,199,"RESERVED","RESERVED",0,0,0,0,0,0,0,0,0,0]
[null,200,"Kompanieführer","Rifle Company HQ",1,0,3,109,1,2,0,0,4,0,{"$f":"SOLDIERS!$B$207","v":204},{"$f":"SOLDIERS!$B$189","v":186},171,{"$f":"SOLDIERS!$B$174","v":171}]
["16,17,19,20",201,"Zugführer","Rifle Platoon HQ",1,0,2,132,1,2,0,0,3,0,{"$f":"SOLDIERS!$B$199","v":196},{"$f":"SOLDIERS!$B$174","v":171},{"$f":"SOLDIERS!$B$174","v":171}]
[null,202,"Schutzen (MG)","Rifle Squad - Squad Leader and Light Machine Gun",1,2,0,121,1,2,0,0,5,0,{"$f":"SOLDIERS!$B$198","v":195},{"$f":"SOLDIERS!$B$162","v":159},{"$f":"SOLDIERS!$B$169","v":166},169,{"$f":"SOLDIERS!$B$159","v":156}]
[null,203,"Schützen","Rifle Squad - Rifle Team",1,1,0,121,1,2,0,0,5,0,180,{"$f":"SOLDIERS!$B$159","v":156},{"$f":"SOLDIERS!$B$159","v":156},{"$f":"SOLDIERS!$B$159","v":156},{"$f":"SOLDIERS!$B$159","v":156}]
[null,204,"Schutzen (MG)","Rifle Squad - Light Machine Gun Team",1,2,0,121,1,2,0,0,5,0,180,{"$f":"SOLDIERS!$B$162","v":159},{"$f":"SOLDIERS!$B$169","v":166},169,{"$f":"SOLDIERS!$B$159","v":156}]
[null,205,"sMG 34","Medium Machine Gun Team with Section Leader",1,5,0,127,1,2,0,0,7,0,{"$f":"SOLDIERS!$B$202","v":199},188,{"$f":"SOLDIERS!$B$163","v":160},{"$f":"SOLDIERS!$B$169","v":166},169,169,{"$f":"SOLDIERS!$B$159","v":156}]
[null,206,"sMG 34","Medium Machine Gun Team",1,5,0,127,1,2,0,0,6,0,188,160,166,169,{"$f":"SOLDIERS!$B$159","v":156},{"$f":"SOLDIERS!$B$159","v":156}]
[null,207,"8cm Granatwerfer","Medium Mortar Team with Section Leader",1,9,0,101,1,2,0,0,7,0,{"$f":"SOLDIERS!$B$202","v":199},188,{"$f":"SOLDIERS!$B$168","v":165},{"$f":"SOLDIERS!$B$169","v":166},{"$f":"SOLDIERS!$B$172","v":169},{"$f":"SOLDIERS!$B$172","v":169},169]
[null,208,"8cm Granatwerfer","Medium Mortar Team",1,9,0,101,1,2,0,0,6,0,188,{"$f":"SOLDIERS!$B$168","v":165},{"$f":"SOLDIERS!$B$169","v":166},{"$f":"SOLDIERS!$B$172","v":169},{"$f":"SOLDIERS!$B$172","v":169},{"$f":"SOLDIERS!$B$159","v":156}]
[null,209,"PzB 39 AT Rifle","7.92mm Panzerbüchse 39 Anti-Tank Rifle",1,7,0,144,1,2,0,0,2,0,221,170]
[null,210,"Kompanieführer","Rifle Company HQ",1,0,3,109,2,2,1,0,6,0,206,{"$f":"SOLDIERS!$B$194","v":191},{"$f":"SOLDIERS!$B$174","v":171},{"$f":"SOLDIERS!$B$174","v":171},{"$f":"SOLDIERS!$B$174","v":171},{"$f":"SOLDIERS!$B$174","v":171}]
["15,23",211,"Zugführer","Rifle Platoon HQ",1,0,2,132,2,2,1,0,4,0,{"$f":"SOLDIERS!$B$201","v":198},{"$f":"SOLDIERS!$B$193","v":190},{"$f":"SOLDIERS!$B$174","v":171},{"$f":"SOLDIERS!$B$174","v":171}]
[null,212,"Schutzen (MG)","Rifle Squad - Squad Leader and Light Machine Gun",1,2,0,121,2,2,1,0,5,0,{"$f":"SOLDIERS!$B$198","v":195},{"$f":"SOLDIERS!$B$162","v":159},{"$f":"SOLDIERS!$B$169","v":166},169,{"$f":"SOLDIERS!$B$159","v":156}]
[null,213,"Schützen","Rifle Squad - Rifle Team",1,1,0,121,2,2,1,0,5,0,180,156,156,156,{"$f":"SOLDIERS!$B$159","v":156}]
[null,214,"8cm Granatwerfer","Medium Mortar Team with Section Leader",1,9,0,101,2,2,1,0,7,0,{"$f":"SOLDIERS!$B$205","v":202},188,{"$f":"SOLDIERS!$B$168","v":165},{"$f":"SOLDIERS!$B$169","v":166},169,169,169]
[null,215,"8cm Granatwerfer","Medium Mortar Team",1,9,0,101,2,2,1,0,6,0,{"$f":"SOLDIERS!$B$191","v":188},{"$f":"SOLDIERS!$B$168","v":165},{"$f":"SOLDIERS!$B$169","v":166},{"$f":"SOLDIERS!$B$179","v":176},{"$f":"SOLDIERS!$B$172","v":169},{"$f":"SOLDIERS!$B$172","v":169}]
[null,216,"Panzerjäger","Close Assault Anti-Tank Team",1,7,0,144,2,2,1,0,2,0,327,328]
["(FROM BN MG KP)",217,"sMG 34","Medium Machine Gun Team",1,5,0,127,2,2,1,0,6,0,191,{"$f":"SOLDIERS!$B$163","v":160},{"$f":"SOLDIERS!$B$169","v":166},{"$f":"SOLDIERS!$B$172","v":169},{"$f":"SOLDIERS!$B$172","v":169},{"$f":"SOLDIERS!$B$172","v":169}]
[null,218,"Kompanieführer","Company HQ",1,0,3,109,2,2,1,0,5,0,204,{"$f":"SOLDIERS!$B$194","v":191},{"$f":"SOLDIERS!$B$174","v":171},{"$f":"SOLDIERS!$B$174","v":171},{"$f":"SOLDIERS!$B$180","v":177}]
[40,219,"Zugführer","Platoon HQ",1,0,2,132,2,2,1,0,5,0,{"$f":"SOLDIERS!$B$201","v":198},{"$f":"SOLDIERS!$B$193","v":190},{"$f":"SOLDIERS!$B$224","v":221},171,{"$f":"SOLDIERS!$B$174","v":171}]
[null,220,"s.Zugführer","Heavy Weapons Platoon HQ",1,0,2,132,2,2,1,0,5,0,{"$f":"SOLDIERS!$B$201","v":198},{"$f":"SOLDIERS!$B$191","v":188},171,{"$f":"SOLDIERS!$B$174","v":171},{"$f":"SOLDIERS!$B$174","v":171}]
[null,221,"Kradschutzen (MG)","Motorcycle Squad - Squad Leader and Light Machine Gun",1,2,0,121,2,2,1,0,4,0,{"$f":"SOLDIERS!$B$198","v":195},{"$f":"SOLDIERS!$B$162","v":159},166,156]
[null,222,"Kradschutzen (MG)","Motorcycle Squad - Light Machine Gun Team",1,2,0,121,2,2,1,0,4,0,180,159,166,156]
[null,223,"sMG 34","Medium Machine Gun Team with Section Leader",1,5,0,127,2,2,1,0,7,0,{"$f":"SOLDIERS!$B$202","v":199},{"$f":"SOLDIERS!$B$189","v":186},{"$f":"SOLDIERS!$B$163","v":160},{"$f":"SOLDIERS!$B$169","v":166},{"$f":"SOLDIERS!$B$172","v":169},{"$f":"SOLDIERS!$B$172","v":169},169]
[null,224,"sMG 34","Medium Machine Gun Team",1,5,0,127,2,2,1,0,6,0,{"$f":"SOLDIERS!$B$189","v":186},{"$f":"SOLDIERS!$B$163","v":160},{"$f":"SOLDIERS!$B$169","v":166},{"$f":"SOLDIERS!$B$172","v":169},{"$f":"SOLDIERS!$B$172","v":169},{"$f":"SOLDIERS!$B$172","v":169}]
[null,225,"8cm Granatwerfer","Medium Mortar Team with Section Leader",1,9,0,101,2,2,1,0,7,0,{"$f":"SOLDIERS!$B$205","v":202},{"$f":"SOLDIERS!$B$191","v":188},{"$f":"SOLDIERS!$B$168","v":165},{"$f":"SOLDIERS!$B$169","v":166},{"$f":"SOLDIERS!$B$172","v":169},{"$f":"SOLDIERS!$B$172","v":169},169]
[null,226,"8cm Granatwerfer","Medium Mortar Team",1,9,0,101,2,2,1,0,6,0,{"$f":"SOLDIERS!$B$191","v":188},{"$f":"SOLDIERS!$B$168","v":165},{"$f":"SOLDIERS!$B$169","v":166},{"$f":"SOLDIERS!$B$172","v":169},{"$f":"SOLDIERS!$B$172","v":169},{"$f":"SOLDIERS!$B$172","v":169}]
["18,21",227,"Kompanieführer","Motorized Infantry Company HQ",1,0,3,103,1,2,0,0,7,0,{"$f":"SOLDIERS!$B$207","v":204},{"$f":"SOLDIERS!$B$189","v":186},{"$f":"SOLDIERS!$B$187","v":184},{"$f":"SOLDIERS!$B$174","v":171},{"$f":"SOLDIERS!$B$180","v":177},{"$f":"SOLDIERS!$B$159","v":156},{"$f":"SOLDIERS!$B$159","v":156}]
[null,228,"Zugführer","Motorized Infantry Platoon HQ",1,0,2,107,1,2,0,0,7,0,{"$f":"SOLDIERS!$B$199","v":196},{"$f":"SOLDIERS!$B$174","v":171},{"$f":"SOLDIERS!$B$174","v":171},{"$f":"SOLDIERS!$B$159","v":156},{"$f":"SOLDIERS!$B$159","v":156},{"$f":"SOLDIERS!$B$159","v":156},{"$f":"SOLDIERS!$B$159","v":156}]
[null,229,"Schutzen (MG)","Motorized Infantry Squad - Squad Leader and Light Machine Gun",1,2,0,104,1,2,0,0,5,0,195,{"$f":"SOLDIERS!$B$162","v":159},{"$f":"SOLDIERS!$B$169","v":166},{"$f":"SOLDIERS!$B$172","v":169},{"$f":"SOLDIERS!$B$159","v":156}]
[null,230,"Schutzen (MG)","Motorized Infantry Squad - Light Machine Gun Team",1,2,0,104,1,2,0,0,5,0,180,{"$f":"SOLDIERS!$B$162","v":159},{"$f":"SOLDIERS!$B$169","v":166},{"$f":"SOLDIERS!$B$172","v":169},{"$f":"SOLDIERS!$B$159","v":156}]
[null,231,"sMG 34","Medium Machine Gun Team with Section Leader",1,5,0,106,1,2,0,0,7,0,{"$f":"SOLDIERS!$B$202","v":199},183,{"$f":"SOLDIERS!$B$163","v":160},{"$f":"SOLDIERS!$B$169","v":166},{"$f":"SOLDIERS!$B$172","v":169},{"$f":"SOLDIERS!$B$172","v":169},{"$f":"SOLDIERS!$B$159","v":156}]
[null,232,"sMG 34","Medium Machine Gun Team",1,5,0,106,1,2,0,0,6,0,{"$f":"SOLDIERS!$B$186","v":183},{"$f":"SOLDIERS!$B$163","v":160},{"$f":"SOLDIERS!$B$169","v":166},{"$f":"SOLDIERS!$B$172","v":169},{"$f":"SOLDIERS!$B$172","v":169},{"$f":"SOLDIERS!$B$159","v":156}]
[null,233,"8cm Granatwerfer","Medium Mortar Tream",1,9,0,102,1,2,0,0,6,0,199,165,{"$f":"SOLDIERS!$B$169","v":166},{"$f":"SOLDIERS!$B$172","v":169},{"$f":"SOLDIERS!$B$172","v":169},169]
[null,234,"5cm PAK 38","Light Anti-Tank Gun",1,13,0,129,1,2,0,0,5,1,{"$f":"SOLDIERS!$B$217","v":214},{"$f":"SOLDIERS!$B$219","v":216},{"$f":"SOLDIERS!$B$220","v":217},{"$f":"SOLDIERS!$B$222","v":219},{"$f":"SOLDIERS!$B$172","v":169},60]
[null,235,"PzGr. Kompanieführer","Panzergrenadier Company HQ",1,0,3,103,3,2,1,0,7,0,{"$f":"SOLDIERS!$B$207","v":204},{"$f":"SOLDIERS!$B$189","v":186},{"$f":"SOLDIERS!$B$187","v":184},{"$f":"SOLDIERS!$B$174","v":171},{"$f":"SOLDIERS!$B$180","v":177},{"$f":"SOLDIERS!$B$159","v":156},{"$f":"SOLDIERS!$B$159","v":156}]
["32,33",236,"PzGr. Zugführer","Panzergrenadier Platoon HQ",1,0,2,107,3,2,1,0,7,0,{"$f":"SOLDIERS!$B$199","v":196},{"$f":"SOLDIERS!$B$174","v":171},{"$f":"SOLDIERS!$B$174","v":171},{"$f":"SOLDIERS!$B$159","v":156},{"$f":"SOLDIERS!$B$159","v":156},{"$f":"SOLDIERS!$B$159","v":156},{"$f":"SOLDIERS!$B$159","v":156}]
["DAK",237,"Pz.Grenadier (MG)","Panzergrenadier Squad - Squad Leader and Light Machine Guns",1,2,0,104,3,2,1,0,5,0,195,{"$f":"SOLDIERS!$B$162","v":159},167,159,167]
[null,238,"leMG 34","Panzergrenadier Light Machine Gun Team",1,2,0,104,3,2,1,0,2,0,159,167]
[null,239,"sMG 34","Medium Machine Gun Team with Section Leader",1,5,0,106,3,2,1,0,7,0,{"$f":"SOLDIERS!$B$202","v":199},183,{"$f":"SOLDIERS!$B$163","v":160},{"$f":"SOLDIERS!$B$169","v":166},{"$f":"SOLDIERS!$B$172","v":169},{"$f":"SOLDIERS!$B$172","v":169},{"$f":"SOLDIERS!$B$159","v":156}]
[null,240,"sMG 34","Medium Machine Gun Team",1,5,0,106,3,2,1,0,6,0,{"$f":"SOLDIERS!$B$186","v":183},{"$f":"SOLDIERS!$B$163","v":160},{"$f":"SOLDIERS!$B$169","v":166},{"$f":"SOLDIERS!$B$172","v":169},{"$f":"SOLDIERS!$B$172","v":169},{"$f":"SOLDIERS!$B$159","v":156}]
[null,241,"8cm Granatwerfer","Panzergrenadier Medium Mortar Tream",1,9,0,102,3,2,1,0,6,0,199,165,{"$f":"SOLDIERS!$B$169","v":166},{"$f":"SOLDIERS!$B$172","v":169},{"$f":"SOLDIERS!$B$172","v":169},169]
[null,242,"PzGr. Kompanieführer","Armored Panzergrenadier Company HQ",1,0,3,103,2,2,1,0,5,0,{"$f":"SOLDIERS!$B$208","v":205},{"$f":"SOLDIERS!$B$189","v":186},{"$f":"SOLDIERS!$B$187","v":184},{"$f":"SOLDIERS!$B$174","v":171},171]
["30,34,36",243,"PzGr. Zugführer","Armored Panzergrenadier Platoon HQ",1,0,2,107,2,2,1,0,4,0,{"$f":"SOLDIERS!$B$201","v":198},{"$f":"SOLDIERS!$B$187","v":184},171,171]
[null,244,"PzGr. s.Zugführer","Armored Panzergrenadier Heavy Weapons Platoon HQ",1,0,2,132,2,2,1,0,4,0,{"$f":"SOLDIERS!$B$201","v":198},183,171,171]
[null,245,"Pz.Grenadier (MG)","Armored Panzergrenadier Squad - Squad Leader and Light Machine Gun",1,2,0,104,2,2,1,0,5,0,{"$f":"SOLDIERS!$B$198","v":195},{"$f":"SOLDIERS!$B$162","v":159},{"$f":"SOLDIERS!$B$169","v":166},{"$f":"SOLDIERS!$B$172","v":169},{"$f":"SOLDIERS!$B$159","v":156}]
[null,246,"Pz.Grenadier (MG)","Armored Panzergrenadier Squad - Light Machine Gun Team",1,2,0,104,2,2,1,0,5,0,180,{"$f":"SOLDIERS!$B$162","v":159},{"$f":"SOLDIERS!$B$169","v":166},{"$f":"SOLDIERS!$B$172","v":169},{"$f":"SOLDIERS!$B$159","v":156}]
[null,247,"sMG 34","Armored Panzergrenadier Medium Machine Gun Team",1,5,0,106,2,2,1,0,5,0,{"$f":"SOLDIERS!$B$198","v":195},{"$f":"SOLDIERS!$B$163","v":160},{"$f":"SOLDIERS!$B$169","v":166},{"$f":"SOLDIERS!$B$172","v":169},{"$f":"SOLDIERS!$B$172","v":169}]
[null,248,"SdKfz 251/1","Armored Panzergrenadier Transport Halftrack with Machine Gun",1,28,0,155,2,2,1,0,2,1,173,156,46]
[null,249,"SdKfz 251/2","Armored Panzergrenadier Mortar Halftrack",1,28,0,155,2,2,1,0,7,1,{"$f":"SOLDIERS!$B$186","v":183},216,217,219,173,169,177,70]
[null,250,"SdKfz 251/10","Armored Panzergrenadier Light Anti-Tank Gun on Platoon Command Halftrack",1,28,0,156,2,2,1,0,3,1,173,221,156,48]
[null,251,"PzGr. Kompanieführer","Motorized Panzergrenadier Company HQ",1,0,3,103,2,2,1,0,5,0,{"$f":"SOLDIERS!$B$208","v":205},{"$f":"SOLDIERS!$B$189","v":186},{"$f":"SOLDIERS!$B$187","v":184},{"$f":"SOLDIERS!$B$174","v":171},171]
["31,35,37",252,"PzGr. Zugführer","Motorized Panzergrenadier Platoon HQ",1,0,2,107,2,2,1,0,4,0,{"$f":"SOLDIERS!$B$201","v":198},{"$f":"SOLDIERS!$B$186","v":183},{"$f":"SOLDIERS!$B$224","v":221},171]
[null,253,"PzGr. s.Zugführer","Motorized Panzergrenadier Heavy Weapons Platoon HQ",1,0,2,132,2,2,1,0,4,0,{"$f":"SOLDIERS!$B$201","v":198},{"$f":"SOLDIERS!$B$186","v":183},171,171]
[null,254,"Pz.Grenadier (MG)","Motorized Panzergrenadier Squad - Squad Leader and Light Machine Gun",1,2,0,104,2,2,1,0,5,0,{"$f":"SOLDIERS!$B$198","v":195},{"$f":"SOLDIERS!$B$162","v":159},{"$f":"SOLDIERS!$B$169","v":166},{"$f":"SOLDIERS!$B$172","v":169},156]
[null,255,"Pz.Grenadier (MG)","Motorized Panzergrenadier Squad - Light Machine Gun Team",1,2,0,104,2,2,1,0,5,0,180,{"$f":"SOLDIERS!$B$162","v":159},{"$f":"SOLDIERS!$B$169","v":166},{"$f":"SOLDIERS!$B$172","v":169},{"$f":"SOLDIERS!$B$159","v":156}]
[null,256,"sMG 34","Motorized Panzergrenadier Medium Machine Gun Team",1,5,0,106,2,2,1,0,6,0,195,{"$f":"SOLDIERS!$B$163","v":160},{"$f":"SOLDIERS!$B$169","v":166},{"$f":"SOLDIERS!$B$172","v":169},169,169]
[null,257,"8cm Granatwerfer","Medium Mortar Team with Section Leader",1,9,0,101,2,2,1,0,7,0,202,183,165,166,166,169,169]
[null,{"$f":"B260+1","v":258},"8cm Granatwerfer","Medium Mortar Team",1,9,0,101,2,2,1,0,6,0,183,165,166,166,169,169]
["ADD GL to 43 orgs for sicily",259,"FJ Kompanieführer","Parachute Company HQ",1,0,3,111,2,3,1,0,6,0,{"$f":"SOLDIERS!$B$322","v":319},{"$f":"SOLDIERS!$B$310","v":307},{"$f":"SOLDIERS!$B$309","v":306},{"$f":"SOLDIERS!$B$298","v":295},{"$f":"SOLDIERS!$B$298","v":295},295]
["26,27,28",260,"FJ Zugführer","Parachute Platoon HQ",1,0,2,111,2,3,1,0,5,0,{"$f":"SOLDIERS!$B$319","v":316},{"$f":"SOLDIERS!$B$309","v":306},{"$f":"SOLDIERS!$B$298","v":295},{"$f":"SOLDIERS!$B$298","v":295},{"$f":"SOLDIERS!$B$298","v":295}]
[null,261,"Fallschirmjäger (MG)","Parachute Squad - Squad Leader and Light Machine Gun",1,2,0,115,2,3,1,0,6,0,{"$f":"SOLDIERS!$B$317","v":314},{"$f":"SOLDIERS!$B$287","v":284},{"$f":"SOLDIERS!$B$301","v":298},{"$f":"SOLDIERS!$B$305","v":302},{"$f":"SOLDIERS!$B$284","v":281},280]
[null,262,"Fallschirmjäger (MG)","Parachute Squad - Light Machine Gun Team",1,2,0,115,2,3,1,0,6,0,{"$f":"SOLDIERS!$B$309","v":306},{"$f":"SOLDIERS!$B$287","v":284},{"$f":"SOLDIERS!$B$301","v":298},{"$f":"SOLDIERS!$B$305","v":302},{"$f":"SOLDIERS!$B$283","v":280},280]
[null,263,"FJ sMG 34","Parachute Medium Machine Gun Team with Section Leader",1,5,1,112,2,3,1,0,6,0,{"$f":"SOLDIERS!$B$315","v":312},305,{"$f":"SOLDIERS!$B$288","v":285},{"$f":"SOLDIERS!$B$301","v":298},{"$f":"SOLDIERS!$B$305","v":302},{"$f":"SOLDIERS!$B$305","v":302}]
[null,264,"FJ sMG 34","Parachute Medium Machine Gun Team",1,5,1,112,2,3,1,0,5,0,{"$f":"SOLDIERS!$B$308","v":305},{"$f":"SOLDIERS!$B$288","v":285},{"$f":"SOLDIERS!$B$301","v":298},{"$f":"SOLDIERS!$B$305","v":302},{"$f":"SOLDIERS!$B$305","v":302}]
[null,265,"FJ 5cm Granatwerfer","Parachute Light Mortar Team",1,8,1,110,2,3,1,0,3,0,305,{"$f":"SOLDIERS!$B$299","v":296},{"$f":"SOLDIERS!$B$301","v":298}]
[null,266,"FJ 8cm Granatwerfer","Parachute Medium Mortar Team with Section Leader",1,9,1,110,2,3,1,0,7,0,{"$f":"SOLDIERS!$B$315","v":312},305,{"$f":"SOLDIERS!$B$300","v":297},{"$f":"SOLDIERS!$B$301","v":298},{"$f":"SOLDIERS!$B$305","v":302},{"$f":"SOLDIERS!$B$305","v":302},{"$f":"SOLDIERS!$B$283","v":280}]
[null,267,"FJ 8cm Granatwerfer","Parachute Medium Mortar Team",1,9,1,110,2,3,1,0,6,0,{"$f":"SOLDIERS!$B$308","v":305},{"$f":"SOLDIERS!$B$300","v":297},{"$f":"SOLDIERS!$B$301","v":298},{"$f":"SOLDIERS!$B$305","v":302},{"$f":"SOLDIERS!$B$305","v":302},{"$f":"SOLDIERS!$B$283","v":280}]
[null,268,"Geb.Jg. Kompanieführer","Mountain Infantry Company HQ",1,0,3,109,2,2,1,0,6,0,{"$f":"SOLDIERS!$B$208","v":205},{"$f":"SOLDIERS!$B$187","v":184},171,{"$f":"SOLDIERS!$B$174","v":171},{"$f":"SOLDIERS!$B$174","v":171},{"$f":"SOLDIERS!$B$174","v":171}]
[25,269,"Geb.Jg. Zugführer","Mountain Infantry Platoon HQ",1,0,2,132,2,2,1,0,7,0,{"$f":"SOLDIERS!$B$201","v":198},{"$f":"SOLDIERS!$B$191","v":188},171,{"$f":"SOLDIERS!$B$174","v":171},{"$f":"SOLDIERS!$B$174","v":171},{"$f":"SOLDIERS!$B$174","v":171},{"$f":"SOLDIERS!$B$174","v":171}]
[null,270,"Gebirgsjäger (MG)","Mountain Infantry Squad - Squad Leader and Light Machine Gun",1,2,0,121,2,2,1,0,5,0,195,{"$f":"SOLDIERS!$B$162","v":159},{"$f":"SOLDIERS!$B$169","v":166},{"$f":"SOLDIERS!$B$173","v":170},156]
[null,271,"Gebirgsjäger","Mountain Infantry Squad - Rifle Team",1,1,0,121,2,2,1,0,5,0,180,{"$f":"SOLDIERS!$B$159","v":156},{"$f":"SOLDIERS!$B$159","v":156},{"$f":"SOLDIERS!$B$159","v":156},{"$f":"SOLDIERS!$B$159","v":156}]
[null,272,"Geb.Jg. 5cm Granatwerfer","Mountain Infantry Light Mortar Team",1,8,1,101,2,2,1,0,3,0,190,{"$f":"SOLDIERS!$B$167","v":164},{"$f":"SOLDIERS!$B$169","v":166}]
[null,273,"Geb.Jg. 8cm Granatwerfer","Mountain Infantry Medium Mortar Team with Section Leader",1,9,1,101,2,2,1,0,6,0,{"$f":"SOLDIERS!$B$202","v":199},{"$f":"SOLDIERS!$B$180","v":177},{"$f":"SOLDIERS!$B$168","v":165},{"$f":"SOLDIERS!$B$169","v":166},{"$f":"SOLDIERS!$B$172","v":169},{"$f":"SOLDIERS!$B$172","v":169}]
[null,274,"Geb.Jg. 8cm Granatwerfer","Mountain Infantry Medium Mortar Team",1,9,1,101,2,2,1,0,6,0,{"$f":"SOLDIERS!$B$191","v":188},{"$f":"SOLDIERS!$B$191","v":188},{"$f":"SOLDIERS!$B$180","v":177},{"$f":"SOLDIERS!$B$172","v":169},{"$f":"SOLDIERS!$B$172","v":169},{"$f":"SOLDIERS!$B$159","v":156}]
[null,275,"Geb.Jg. Panzerbusche 39","Mountain Infantry Anti-Tank Rifle Team",1,7,0,144,2,2,0,0,2,0,221,170]
["(BN MG KP)",276,"Geb.Jg. sMG34","Mountain Infantry Medium Machine Gun Team",1,5,0,106,2,2,1,0,6,0,195,{"$f":"SOLDIERS!$B$163","v":160},{"$f":"SOLDIERS!$B$169","v":166},{"$f":"SOLDIERS!$B$172","v":169},169,169]
[null,277,"PzAufkl Kompanieführer","Armored Recon Company HQ",1,0,3,146,3,2,1,0,5,0,{"$f":"SOLDIERS!$B$208","v":205},186,{"$f":"SOLDIERS!$B$180","v":177},171,{"$f":"SOLDIERS!$B$180","v":177}]
[41,278,"PzAufkl Zugführer","Armored Recon Platoon HQ",1,0,2,150,3,2,1,0,3,0,{"$f":"SOLDIERS!$B$201","v":198},{"$f":"SOLDIERS!$B$193","v":190},156]
[null,279,"Pz.Aufklärungs (MG)","Armored Recon Squad - Squad Leader with Light Machine Gun",1,3,0,149,3,2,1,0,4,0,{"$f":"SOLDIERS!$B$198","v":195},159,166,169]
[null,280,"Pz.Aufklärungs (MG)","Armored Recon Squad - Light Machine Gun Team",1,3,0,149,3,2,1,0,4,0,184,159,166,169]
[null,281,"SdKfz 250/1","Armored Recon Transport Halftrack with Machine Gun",1,28,0,152,3,2,1,0,2,1,173,156,55]
[null,282,"SdKfz 250/7","Armored Recon Mortar Halftrack",1,28,0,152,3,2,1,0,5,1,182,216,217,219,173,71]
[null,283,"SdKfz 250/8","Armored Recon Light Artillery on Halftrack",1,28,0,154,3,2,1,0,3,1,215,216,172,56]
[null,284,"Pi. Kompanieführer","Combat Engineer Company HQ",1,0,3,109,2,2,1,1,7,0,{"$f":"SOLDIERS!$B$207","v":204},{"$f":"SOLDIERS!$B$205","v":202},{"$f":"SOLDIERS!$B$191","v":188},{"$f":"SOLDIERS!$B$174","v":171},{"$f":"SOLDIERS!$B$174","v":171},{"$f":"SOLDIERS!$B$174","v":171},171]
[44,285,"Pi. Zugführer","Combat Engineer Platoon HQ",1,0,2,132,2,2,1,1,6,0,{"$f":"SOLDIERS!$B$201","v":198},{"$f":"SOLDIERS!$B$186","v":183},{"$f":"SOLDIERS!$B$191","v":188},{"$f":"SOLDIERS!$B$174","v":171},{"$f":"SOLDIERS!$B$174","v":171},{"$f":"SOLDIERS!$B$174","v":171}]
[null,286,"Pioniere (MG)","Combat Engineer Squad - Squad Leader and Light Machine Gun",1,4,0,104,2,2,1,1,5,0,{"$f":"SOLDIERS!$B$198","v":195},{"$f":"SOLDIERS!$B$162","v":159},{"$f":"SOLDIERS!$B$169","v":166},168,225]
[null,287,"Pioniere","Combat Engineer Squad - Engineer Team",1,4,0,104,2,2,1,1,6,0,{"$f":"SOLDIERS!$B$185","v":182},{"$f":"SOLDIERS!$B$227","v":224},225,225,225,225]
[null,288,"sMG 34","Medium Machine Gun Team with Section Leader",1,5,0,106,2,2,1,0,6,0,{"$f":"SOLDIERS!$B$205","v":202},183,{"$f":"SOLDIERS!$B$163","v":160},{"$f":"SOLDIERS!$B$169","v":166},{"$f":"SOLDIERS!$B$173","v":170},170]
[null,289,"sMG 34","Medium Machine Gun Team",1,5,0,106,2,2,1,0,5,0,{"$f":"SOLDIERS!$B$186","v":183},{"$f":"SOLDIERS!$B$163","v":160},{"$f":"SOLDIERS!$B$169","v":166},{"$f":"SOLDIERS!$B$173","v":170},170]
[null,290,"Kompanieführer","Rifle Company HQ",1,null,3,109,2,2,1,0,5,0,{"$f":"SOLDIERS!$B$209","v":206},{"$f":"SOLDIERS!$B$190","v":187},171,{"$f":"SOLDIERS!$B$174","v":171},{"$f":"SOLDIERS!$B$174","v":171}]
["22,24",291,"Zugführer","Rifle Platoon HQ (Officer)",1,0,2,132,1,2,0,0,4,0,198,{"$f":"SOLDIERS!$B$174","v":171},{"$f":"SOLDIERS!$B$174","v":171},{"$f":"SOLDIERS!$B$174","v":171}]
[null,292,"Zugführer","Rifle Platoon HQ",1,0,2,132,1,2,0,0,4,0,331,{"$f":"SOLDIERS!$B$174","v":171},{"$f":"SOLDIERS!$B$174","v":171},{"$f":"SOLDIERS!$B$174","v":171}]
["GL DONE",293,"Grenadier (MG)","Rifle Squad - Squad Leader and Light Machine Gun",1,2,0,121,2,2,1,0,4,0,{"$f":"SOLDIERS!$B$198","v":195},161,{"$f":"SOLDIERS!$B$170","v":167},{"$f":"SOLDIERS!$B$173","v":170}]
[null,294,"Grenadier","Rifle Squad - Rifle Team with Panzerfaust",1,1,0,121,2,2,1,0,5,0,329,222,157,{"$f":"SOLDIERS!$B$159","v":156},{"$f":"SOLDIERS!$B$159","v":156}]
[null,295,"Grenadier (MG)","Rifle Squad - Light Machine Gun Team with Panzerfaust",1,2,0,121,2,2,1,0,5,0,329,162,222,157,156]
[null,296,"sMG 42","Medium Machine Gun Team with Section Leader",1,5,1,127,2,2,1,0,7,0,{"$f":"SOLDIERS!$B$205","v":202},182,{"$f":"SOLDIERS!$B$166","v":163},{"$f":"SOLDIERS!$B$169","v":166},{"$f":"SOLDIERS!$B$173","v":170},{"$f":"SOLDIERS!$B$173","v":170},{"$f":"SOLDIERS!$B$173","v":170}]
[null,297,"sMG 42","Medium Machine Gun Team",1,5,1,127,2,2,1,0,6,0,182,{"$f":"SOLDIERS!$B$166","v":163},{"$f":"SOLDIERS!$B$169","v":166},{"$f":"SOLDIERS!$B$173","v":170},{"$f":"SOLDIERS!$B$173","v":170},{"$f":"SOLDIERS!$B$173","v":170}]
[null,298,"FJ Kompanieführer","Parachute Company HQ",1,0,3,111,3,3,1,0,6,0,{"$f":"SOLDIERS!$B$322","v":319},{"$f":"SOLDIERS!$B$310","v":307},{"$f":"SOLDIERS!$B$309","v":306},{"$f":"SOLDIERS!$B$298","v":295},{"$f":"SOLDIERS!$B$298","v":295},295]
[29,299,"FJ Zugführer","Parachute Platoon HQ",1,0,2,115,3,3,1,0,5,0,{"$f":"SOLDIERS!$B$319","v":316},{"$f":"SOLDIERS!$B$309","v":306},{"$f":"SOLDIERS!$B$298","v":295},{"$f":"SOLDIERS!$B$298","v":295},{"$f":"SOLDIERS!$B$298","v":295}]
["GL DONE",300,"Fallschirmjäger (MG)","Parachute Squad - Squad Leader and Light Machine Gun",1,2,0,115,3,3,1,0,5,0,{"$f":"SOLDIERS!$B$317","v":314},{"$f":"SOLDIERS!$B$289","v":286},{"$f":"SOLDIERS!$B$301","v":298},{"$f":"SOLDIERS!$B$305","v":302},{"$f":"SOLDIERS!$B$284","v":281}]
[null,301,"Fallschirmjäger (MG)","Parachute Squad - Light Machine Gun Team",1,2,0,115,3,3,1,0,5,0,{"$f":"SOLDIERS!$B$306","v":303},{"$f":"SOLDIERS!$B$291","v":288},302,{"$f":"SOLDIERS!$B$305","v":302},{"$f":"SOLDIERS!$B$284","v":281}]
[null,302,"FJ Panzerschreck","Parachute Anti-Tank Rocket Launcher Team",1,7,0,110,3,3,1,0,2,0,291,299]
[null,303,"FJ 8cm Granatwerfer","Parachute Medium Mortar Team with Section Leader",1,9,0,110,3,3,1,0,6,0,{"$f":"SOLDIERS!$B$315","v":312},{"$f":"SOLDIERS!$B$308","v":305},{"$f":"SOLDIERS!$B$300","v":297},{"$f":"SOLDIERS!$B$301","v":298},{"$f":"SOLDIERS!$B$305","v":302},{"$f":"SOLDIERS!$B$305","v":302}]
[null,304,"FJ 8cm Granatwerfer","Parachute Medium Mortar Team",1,9,0,110,3,3,1,0,5,0,{"$f":"SOLDIERS!$B$308","v":305},{"$f":"SOLDIERS!$B$300","v":297},{"$f":"SOLDIERS!$B$301","v":298},{"$f":"SOLDIERS!$B$305","v":302},{"$f":"SOLDIERS!$B$305","v":302}]
[null,305,"PzAufkl Kompanieführer","Motorized Recon Company HQ",1,0,3,146,2,2,1,0,6,0,{"$f":"SOLDIERS!$B$208","v":205},186,{"$f":"SOLDIERS!$B$180","v":177},{"$f":"SOLDIERS!$B$174","v":171},{"$f":"SOLDIERS!$B$174","v":171},{"$f":"SOLDIERS!$B$174","v":171}]
[42,306,"PzAufkl Zugführer","Motorized Recon Platoon HQ (Officer)",1,0,2,150,2,2,1,0,5,0,{"$f":"SOLDIERS!$B$201","v":198},186,{"$f":"SOLDIERS!$B$174","v":171},{"$f":"SOLDIERS!$B$174","v":171},{"$f":"SOLDIERS!$B$174","v":171}]
[null,307,"PzAufkl Zugführer","Motorized Recon Platoon HQ",1,0,2,150,2,2,1,0,5,0,331,186,{"$f":"SOLDIERS!$B$174","v":171},{"$f":"SOLDIERS!$B$174","v":171},{"$f":"SOLDIERS!$B$174","v":171}]
["GL DONE",308,"PzAufkl s.Zugführer","Motorized Recon Heavy Weapons Platoon HQ",1,0,2,132,2,2,1,0,4,0,{"$f":"SOLDIERS!$B$201","v":198},{"$f":"SOLDIERS!$B$186","v":183},171,171]
[null,309,"Pz.Aufklärungs (MG)","Motorized Recon Squad - Squad Leader with Light Machine Gun",1,3,0,149,2,2,1,0,4,0,{"$f":"SOLDIERS!$B$198","v":195},{"$f":"SOLDIERS!$B$164","v":161},{"$f":"SOLDIERS!$B$169","v":166},157]
[null,310,"Pz.Aufklärungs (MG)","Motorized Recon Squad - Light Machine Gun Team with Panzerfaust",1,3,0,149,2,2,1,0,4,0,329,162,166,222]
[null,311,"sMG 42","Medium Machine Gun Team with Section Leader",1,5,0,127,2,2,1,0,6,0,{"$f":"SOLDIERS!$B$202","v":199},191,{"$f":"SOLDIERS!$B$166","v":163},{"$f":"SOLDIERS!$B$170","v":167},{"$f":"SOLDIERS!$B$172","v":169},{"$f":"SOLDIERS!$B$172","v":169}]
[null,312,"sMG 42","Medium Machine Gun Team",1,5,0,127,2,2,1,0,5,0,191,{"$f":"SOLDIERS!$B$166","v":163},{"$f":"SOLDIERS!$B$170","v":167},{"$f":"SOLDIERS!$B$172","v":169},{"$f":"SOLDIERS!$B$172","v":169}]
[null,313,"8 cm Granatwerfer","Medium Mortar Team with Section Leader",1,9,0,145,2,2,1,0,6,0,{"$f":"SOLDIERS!$B$205","v":202},191,{"$f":"SOLDIERS!$B$168","v":165},{"$f":"SOLDIERS!$B$169","v":166},{"$f":"SOLDIERS!$B$172","v":169},{"$f":"SOLDIERS!$B$172","v":169}]
[null,314,"8 cm Granatwerfer","Medium Mortar Team",1,9,0,145,2,2,1,0,5,0,191,{"$f":"SOLDIERS!$B$168","v":165},{"$f":"SOLDIERS!$B$169","v":166},{"$f":"SOLDIERS!$B$172","v":169},{"$f":"SOLDIERS!$B$172","v":169}]
[null,315,"Pi. Kompanieführer","Combat Engineer Company HQ",1,0,3,109,2,2,1,0,6,0,205,{"$f":"SOLDIERS!$B$205","v":202},{"$f":"SOLDIERS!$B$191","v":188},{"$f":"SOLDIERS!$B$174","v":171},{"$f":"SOLDIERS!$B$174","v":171},{"$f":"SOLDIERS!$B$174","v":171}]
[45,316,"Pi. Zugführer","Combat Engineer Platoon HQ (Officer)",1,0,2,132,2,2,1,0,5,0,{"$f":"SOLDIERS!$B$201","v":198},186,{"$f":"SOLDIERS!$B$174","v":171},{"$f":"SOLDIERS!$B$174","v":171},{"$f":"SOLDIERS!$B$174","v":171}]
[null,317,"Pi. Zugführer","Combat Engineer Platoon HQ",1,0,2,132,2,2,1,0,5,0,331,186,{"$f":"SOLDIERS!$B$174","v":171},{"$f":"SOLDIERS!$B$174","v":171},{"$f":"SOLDIERS!$B$174","v":171}]
[null,318,"Pioniere (MG)","Combat Engineer Squad - Squad Leader and Light Machine Gun",1,4,0,104,2,2,1,0,5,0,{"$f":"SOLDIERS!$B$198","v":195},{"$f":"SOLDIERS!$B$164","v":161},166,225,225]
[null,319,"Pioniere","Combat Engineer Squad - Engineer Team",1,4,0,104,2,2,1,0,6,0,{"$f":"SOLDIERS!$B$183","v":180},{"$f":"SOLDIERS!$B$227","v":224},225,225,225,225]
[null,320,"sMG 42","Medium Machine Gun Team with Section Leader",1,5,1,106,2,2,1,0,7,0,199,191,163,{"$f":"SOLDIERS!$B$169","v":166},{"$f":"SOLDIERS!$B$173","v":170},170,170]
[null,321,"sMG 42","Medium Machine Gun Team",1,5,1,106,2,2,1,0,6,0,191,{"$f":"SOLDIERS!$B$166","v":163},{"$f":"SOLDIERS!$B$169","v":166},{"$f":"SOLDIERS!$B$173","v":170},170,170]
[null,{"$f":"B324+1","v":322},"8cm Granatwerfer","Medium Mortar Team with Section Leader",1,9,1,101,2,2,1,0,7,0,{"$f":"SOLDIERS!$B$205","v":202},{"$f":"SOLDIERS!$B$191","v":188},{"$f":"SOLDIERS!$B$168","v":165},{"$f":"SOLDIERS!$B$169","v":166},{"$f":"SOLDIERS!$B$172","v":169},{"$f":"SOLDIERS!$B$172","v":169},{"$f":"SOLDIERS!$B$172","v":169}]
[null,323,"8cm Granatwerfer","Medium Mortar Team",1,9,1,101,2,2,1,0,6,0,{"$f":"SOLDIERS!$B$191","v":188},{"$f":"SOLDIERS!$B$168","v":165},{"$f":"SOLDIERS!$B$169","v":166},{"$f":"SOLDIERS!$B$172","v":169},{"$f":"SOLDIERS!$B$172","v":169},{"$f":"SOLDIERS!$B$172","v":169}]
[null,324,"PzGr. Kompanieführer","Armored Panzergrenadier Company HQ",1,0,3,103,2,2,1,0,6,0,{"$f":"SOLDIERS!$B$208","v":205},{"$f":"SOLDIERS!$B$190","v":187},{"$f":"SOLDIERS!$B$180","v":177},{"$f":"SOLDIERS!$B$174","v":171},{"$f":"SOLDIERS!$B$174","v":171},{"$f":"SOLDIERS!$B$174","v":171}]
[38,325,"PzGr. Zugführer","Armored Panzergrenadier Platoon HQ (Officer)",1,0,2,150,2,2,1,0,5,0,{"$f":"SOLDIERS!$B$201","v":198},186,171,171,171]
[null,326,"PzGr. Zugführer","Armored Panzergrenadier Platoon HQ",1,0,2,150,2,2,1,0,5,0,331,186,171,171,171]
["GL DONE",327,"PzGr. S.Zugführer","Armored Panzergrenadier Heavy Weapons Platoon HQ",1,0,2,150,2,2,1,0,4,0,{"$f":"SOLDIERS!$B$201","v":198},186,171,171]
["2pzschreck",328,"Pz.Grenadier (MG)","Armored Panzergrenadier Squad - Squad Leader and Light Machine Gun",1,2,0,104,2,2,1,0,5,0,{"$f":"SOLDIERS!$B$198","v":195},{"$f":"SOLDIERS!$B$164","v":161},{"$f":"SOLDIERS!$B$169","v":166},{"$f":"SOLDIERS!$B$173","v":170},157]
["SdKfz 251/1",329,"Pz.Grenadier (MG)","Armored Panzergrenadier Squad - Light Machine Gun Team with Panzerfaust",1,2,0,104,2,2,1,0,5,0,330,162,{"$f":"SOLDIERS!$B$169","v":166},222,{"$f":"SOLDIERS!$B$159","v":156}]
["SdKfz 251/2",330,"Panzerschreck","Anti-Tank Rocket Launcher Team",1,7,0,108,2,2,1,0,2,0,223,156]
["ABOVE",331,"sMG 42","Medium Machine Gun Team",1,5,0,106,2,2,1,0,5,0,{"$f":"SOLDIERS!$B$198","v":195},163,{"$f":"SOLDIERS!$B$169","v":166},{"$f":"SOLDIERS!$B$172","v":169},{"$f":"SOLDIERS!$B$172","v":169}]
[null,332,"SdKfz 251/9","Light Artillery on Halftrack",1,31,0,157,2,2,1,0,3,1,{"$f":"SOLDIERS!$B$205","v":202},182,173]
[39,333,"PzGr. Kompanieführer","Motorized Panzergrenadier Company HQ",1,0,3,103,2,2,1,0,6,0,{"$f":"SOLDIERS!$B$208","v":205},{"$f":"SOLDIERS!$B$190","v":187},{"$f":"SOLDIERS!$B$180","v":177},{"$f":"SOLDIERS!$B$174","v":171},{"$f":"SOLDIERS!$B$174","v":171},{"$f":"SOLDIERS!$B$174","v":171}]
["GL DONE",334,"PzGr. Zugführer","Motorized Panzergrenadier Platoon HQ (Officer)",1,0,2,150,2,2,1,0,5,0,{"$f":"SOLDIERS!$B$201","v":198},184,171,171,171]
[null,335,"PzGr. Zugführer","Motorized Panzergrenadier Platoon HQ",1,0,2,150,2,2,1,0,5,0,331,184,171,171,171]
["2PzSchreck",336,"PzGr. S.Zugführer","Motorized Panzergrenadier Heavy Weapons Platoon HQ",1,0,2,150,2,2,1,0,4,0,{"$f":"SOLDIERS!$B$201","v":198},186,171,171]
["Trucks",337,"Pz.Grenadier (MG)","Motorized Panzergrenadier Squad - Squad Leader and Light Machine Gun",1,2,0,104,2,2,1,0,5,0,{"$f":"SOLDIERS!$B$198","v":195},{"$f":"SOLDIERS!$B$164","v":161},{"$f":"SOLDIERS!$B$169","v":166},{"$f":"SOLDIERS!$B$173","v":170},157]
[null,338,"Pz.Grenadier (MG)","Motorized Panzergrenadier Squad - Light Machine Gun Team with Panzerfaust",1,2,0,104,2,2,1,0,6,0,330,162,{"$f":"SOLDIERS!$B$169","v":166},222,{"$f":"SOLDIERS!$B$159","v":156},{"$f":"SOLDIERS!$B$159","v":156}]
[null,339,"sMG 42","Medium Machine Gun Team",1,5,0,106,2,2,1,0,6,0,{"$f":"SOLDIERS!$B$198","v":195},163,{"$f":"SOLDIERS!$B$169","v":166},{"$f":"SOLDIERS!$B$172","v":169},{"$f":"SOLDIERS!$B$172","v":169},{"$f":"SOLDIERS!$B$173","v":170}]
[null,340,"8 cm Granatwerfer","Medium Mortar Team with Section Leader",1,9,0,145,2,2,1,0,7,0,202,190,{"$f":"SOLDIERS!$B$168","v":165},{"$f":"SOLDIERS!$B$169","v":166},{"$f":"SOLDIERS!$B$172","v":169},{"$f":"SOLDIERS!$B$172","v":169},{"$f":"SOLDIERS!$B$172","v":169}]
[null,341,"8 cm Granatwerfer","Medium Mortar Team",1,9,0,145,2,2,1,0,6,0,190,{"$f":"SOLDIERS!$B$168","v":165},{"$f":"SOLDIERS!$B$169","v":166},{"$f":"SOLDIERS!$B$172","v":169},{"$f":"SOLDIERS!$B$172","v":169},{"$f":"SOLDIERS!$B$172","v":169}]
[null,342,"PzAufkl Kompanieführer","Armored Recon Company HQ",1,0,3,146,2,2,1,0,6,0,{"$f":"SOLDIERS!$B$208","v":205},186,{"$f":"SOLDIERS!$B$180","v":177},{"$f":"SOLDIERS!$B$174","v":171},{"$f":"SOLDIERS!$B$174","v":171},{"$f":"SOLDIERS!$B$174","v":171}]
[43,343,"PzAufkl Zugführer","Armored Recon Platoon HQ (Officer)",1,0,2,150,2,2,1,0,5,0,{"$f":"SOLDIERS!$B$201","v":198},186,{"$f":"SOLDIERS!$B$174","v":171},{"$f":"SOLDIERS!$B$174","v":171},{"$f":"SOLDIERS!$B$174","v":171}]
[null,344,"PzAufkl Zugführer","Armored Recon Platoon HQ",1,0,2,150,2,2,1,0,5,0,331,186,{"$f":"SOLDIERS!$B$174","v":171},{"$f":"SOLDIERS!$B$174","v":171},{"$f":"SOLDIERS!$B$174","v":171}]
["GL DONE",345,"PzAufkl s.Zugführer","Armored Recon Heavy Weapons Platoon HQ",1,0,2,132,2,2,1,0,4,0,{"$f":"SOLDIERS!$B$201","v":198},{"$f":"SOLDIERS!$B$186","v":183},171,171]
["sdkfz250/1,7,8",346,"Pz.Aufklärungs (MG)","Armored Recon Squad - Squad Leader with Light Machine Gun",1,3,0,149,2,2,1,0,4,0,{"$f":"SOLDIERS!$B$198","v":195},{"$f":"SOLDIERS!$B$164","v":161},{"$f":"SOLDIERS!$B$169","v":166},157]
["2pzsck",347,"Pz.Aufklärungs (MG)","Armored Recon Squad - Light Machine Gun Team with Panzerfaust",1,3,0,149,2,2,1,0,4,0,329,162,166,222]
[null,348,"sMG 42","Medium Machine Gun Team with Section Leader",1,5,0,127,2,2,1,0,6,0,{"$f":"SOLDIERS!$B$202","v":199},191,{"$f":"SOLDIERS!$B$166","v":163},{"$f":"SOLDIERS!$B$170","v":167},{"$f":"SOLDIERS!$B$172","v":169},{"$f":"SOLDIERS!$B$172","v":169}]
[null,349,"sMG 42","Medium Machine Gun Team",1,5,0,127,2,2,1,0,5,0,191,{"$f":"SOLDIERS!$B$166","v":163},{"$f":"SOLDIERS!$B$170","v":167},{"$f":"SOLDIERS!$B$172","v":169},{"$f":"SOLDIERS!$B$172","v":169}]
[46,350,"PzGr. Kompanieführer","SS Motorized Panzergrenadier Company HQ",1,0,3,103,2,3,1,0,5,0,{"$f":"SOLDIERS!$B$267","v":264},{"$f":"SOLDIERS!$B$266","v":263},{"$f":"SOLDIERS!$B$247","v":244},{"$f":"SOLDIERS!$B$246","v":243},{"$f":"SOLDIERS!$B$246","v":243}]
[null,351,"PzGr. Zugführer","SS Motorized Panzergrenadier Platoon HQ",1,0,2,107,2,3,1,0,4,0,325,261,256,326]
[null,352,"PzGr. s.Zugführer","SS Motorized Panzergrenadier Heavy Weapons Platoon HQ",1,0,0,107,2,3,1,0,4,0,325,261,243,243]
[null,353,"Panzerschreck","SS Anti-Tank Rocket Launcher Team",1,7,0,108,2,3,1,0,2,0,{"$f":"SOLDIERS!$B$260","v":257},{"$f":"SOLDIERS!$B$252","v":249}]
[null,354,"Pz.Grenadier (MG)","SS Motorized Panzergrenadier Squad - Squad Leader and Light Machine Gun",1,2,0,104,2,3,1,0,5,0,{"$f":"SOLDIERS!$B$263","v":260},{"$f":"SOLDIERS!$B$254","v":251},{"$f":"SOLDIERS!$B$258","v":255},{"$f":"SOLDIERS!$B$251","v":248},{"$f":"SOLDIERS!$B$245","v":242}]
[null,355,"Pz.Grenadier (MG)","SS Motorized Panzergrenadier Squad - Light Machine Gun Team with Panzerfaust",1,2,0,104,2,3,1,0,5,0,{"$f":"SOLDIERS!$B$262","v":259},{"$f":"SOLDIERS!$B$253","v":250},{"$f":"SOLDIERS!$B$259","v":256},{"$f":"SOLDIERS!$B$251","v":248},326]
[null,356,"sMG 42","SS Medium Machine Gun",1,5,1,106,2,3,1,0,6,0,{"$f":"SOLDIERS!$B$265","v":262},{"$f":"SOLDIERS!$B$255","v":252},{"$f":"SOLDIERS!$B$257","v":254},{"$f":"SOLDIERS!$B$251","v":248},{"$f":"SOLDIERS!$B$251","v":248},{"$f":"SOLDIERS!$B$251","v":248}]
[null,357,"8 cm Granatwerfer","SS Medium Mortar Team",1,9,1,102,2,3,1,0,6,0,262,{"$f":"SOLDIERS!$B$256","v":253},{"$f":"SOLDIERS!$B$257","v":254},{"$f":"SOLDIERS!$B$257","v":254},{"$f":"SOLDIERS!$B$251","v":248},{"$f":"SOLDIERS!$B$251","v":248}]
[null,358,"Flammenwerfer","SS Flamethrower Team",1,12,0,104,2,3,1,0,2,0,{"$f":"SOLDIERS!$B$276","v":273},{"$f":"SOLDIERS!$B$277","v":274}]
[null,359,"Pioniere (MG)","SS Combat Engineer Squad - Squad Leader with Light Machine Gun",1,4,0,104,2,3,1,0,4,0,260,{"$f":"SOLDIERS!$B$254","v":251},{"$f":"SOLDIERS!$B$257","v":254},248]
[null,360,"Pioniere","SS Combat Engineer Squad - Engineer Team",1,4,0,104,2,3,1,0,5,0,{"$f":"SOLDIERS!$B$278","v":275},{"$f":"SOLDIERS!$B$275","v":272},{"$f":"SOLDIERS!$B$275","v":272},{"$f":"SOLDIERS!$B$275","v":272},{"$f":"SOLDIERS!$B$275","v":272}]
[null,361,"Pz.Aufklärungs (MG)","SS Motorized Recon Squad - Squad Leader with Light Machine Gun",1,3,0,149,2,3,1,0,4,0,{"$f":"SOLDIERS!$B$263","v":260},{"$f":"SOLDIERS!$B$254","v":251},{"$f":"SOLDIERS!$B$258","v":255},{"$f":"SOLDIERS!$B$251","v":248}]
[null,362,"Pz.Aufklärungs (MG)","SS Motorized Recon Squad - Light Machine Gun Team",1,3,0,149,2,3,1,0,4,0,261,{"$f":"SOLDIERS!$B$253","v":250},{"$f":"SOLDIERS!$B$251","v":248},{"$f":"SOLDIERS!$B$245","v":242}]
[null,363,"7.5cm Pak 40","SS Anti-Tank Gun",1,14,0,130,2,2,1,0,5,1,266,267,270,248,248,61]
[null,364,"7.5cm leIG","SS Light Artillery",1,16,0,122,2,2,1,0,6,1,266,267,270,248,248,248,63]
[null,365,"SS Scharfschütze","SS Sniper",1,11,0,158,2,3,1,0,1,0,332]
[null,366,"FJ Scharfschütze","Parachute Sniper",1,11,0,118,2,3,1,0,1,0,333]
[null,367,"Scharfschütze","Sniper",1,11,0,158,2,3,1,0,1,0,178]
[null,368,"5cm Granatwerfer","Light Mortar Team",1,8,0,101,1,2,1,0,3,0,190,164,166]
[null,369,"7.62cm Pak 36(r)","Anti-Tank Gun",1,14,0,130,2,2,1,0,5,1,{"$f":"SOLDIERS!$B$217","v":214},{"$f":"SOLDIERS!$B$219","v":216},219,169,169,73]
[null,370,"RESERVED","RESERVED",1,0,0,0,0,0,0,0,0,0]
[null,371,"RESERVED","RESERVED",1,0,0,0,0,0,0,0,0,0]
[null,372,"RESERVED","RESERVED",1,0,0,0,0,0,0,0,0,0]
[null,373,"RESERVED","RESERVED",1,0,0,0,0,0,0,0,0,0]
["ITALIAN",374,"Comando Compagnia","Rifle Company HQ",2,0,3,205,2,2,1,0,5,0,364,379,363,363,363]
["AS41",375,"Comando Plotone","Rifle Platoon HQ",2,0,2,205,2,2,1,0,4,0,{"$f":"SOLDIERS!$B$386","v":383},{"$f":"SOLDIERS!$B$382","v":379},363,363]
["AS41",376,"Fucilieri (MG)","Rifle Squad, Squad Leader with Light Machine Gun",2,2,0,207,2,2,1,0,5,0,381,{"$f":"SOLDIERS!$B$370","v":367},{"$f":"SOLDIERS!$B$376","v":373},377,377]
["AS41",377,"Fucilieri (MG)","Rifle Squad, Light Macine Gun Team",2,2,0,207,2,2,1,0,4,0,{"$f":"SOLDIERS!$B$370","v":367},{"$f":"SOLDIERS!$B$376","v":373},{"$f":"SOLDIERS!$B$380","v":377},{"$f":"SOLDIERS!$B$380","v":377}]
["AS41",378,"Fucilieri","Rifle Squad - Rifle Team",2,1,0,207,2,2,1,0,8,0,361,359,{"$f":"SOLDIERS!$B$368","v":365},{"$f":"SOLDIERS!$B$368","v":365},{"$f":"SOLDIERS!$B$368","v":365},{"$f":"SOLDIERS!$B$368","v":365},{"$f":"SOLDIERS!$B$368","v":365},{"$f":"SOLDIERS!$B$368","v":365}]
["AS41",379,"Esploratori","Scout Squad – Squad Leader and Scout Team",2,3,0,213,2,2,1,0,4,0,382,{"$f":"SOLDIERS!$B$397","v":394},{"$f":"SOLDIERS!$B$397","v":394},{"$f":"SOLDIERS!$B$397","v":394}]
["AS41",380,"Esploratori","Scout Squad – Asst. Leader and Scout Team",2,3,0,213,2,2,1,0,4,0,358,{"$f":"SOLDIERS!$B$397","v":394},{"$f":"SOLDIERS!$B$397","v":394},{"$f":"SOLDIERS!$B$397","v":394}]
["AS41",381,"Esploratori","Scout Squad – Scout Team",2,3,0,213,2,2,1,0,4,0,378,{"$f":"SOLDIERS!$B$397","v":394},{"$f":"SOLDIERS!$B$397","v":394},{"$f":"SOLDIERS!$B$397","v":394}]
["AS41",382,"mitr. Breda 37","Medum Machine Gun Team with Squad Leader",2,5,1,209,2,2,1,0,5,0,381,{"$f":"SOLDIERS!$B$369","v":366},{"$f":"SOLDIERS!$B$375","v":372},{"$f":"SOLDIERS!$B$378","v":375},{"$f":"SOLDIERS!$B$380","v":377}]
["AS41",383,"mitr. Breda 37","Medum Machine Gun Team",2,5,1,209,2,2,1,0,4,0,{"$f":"SOLDIERS!$B$369","v":366},{"$f":"SOLDIERS!$B$375","v":372},{"$f":"SOLDIERS!$B$378","v":375},{"$f":"SOLDIERS!$B$380","v":377}]
["AS41",384,"mitr. Fiat 35","Medum Machine Gun Team with Squad Leader",2,5,1,209,2,2,1,0,5,0,381,396,{"$f":"SOLDIERS!$B$375","v":372},{"$f":"SOLDIERS!$B$378","v":375},{"$f":"SOLDIERS!$B$380","v":377}]
["AS41",385,"mitr. Fiat 35","Medum Machine Gun Team",2,5,1,209,2,2,1,0,4,0,396,{"$f":"SOLDIERS!$B$375","v":372},{"$f":"SOLDIERS!$B$378","v":375},{"$f":"SOLDIERS!$B$380","v":377}]
["AS41",{"$f":"B388+1","v":386},"Mortaio da 45","Light Mortar Team with Squad Leader",2,8,1,210,2,2,1,0,3,0,381,384,372,377]
["AS41",387,"Mortaio da 45","Light Mortar Team",2,8,1,210,2,2,1,0,3,0,384,372,377]
["AS41",388,"Mortaio da 81","Medium Mortar Team",2,9,1,210,2,2,1,0,5,0,382,{"$f":"SOLDIERS!$B$388","v":385},{"$f":"SOLDIERS!$B$375","v":372},377,{"$f":"SOLDIERS!$B$380","v":377}]
["AS41",389,"Cannone da 47/32","Light Anti-Tank Gun",2,0,1,203,2,2,1,0,6,1,382,{"$f":"SOLDIERS!$B$383","v":380},369,371,{"$f":"SOLDIERS!$B$380","v":377},{"$f":"SOLDIERS!$B$380","v":377},82]
["AS41/42",390,"Comando Plotone","Machine Gun Platoon Command Team",2,2,2,205,2,2,1,0,2,0,383,379]
["AS41/42",391,"Comando Plotone","Support Platoon Command Team",2,2,2,205,2,2,1,0,3,0,383,379,363]
["AS42",392,"Fucilieri (MG)","Rifle Squad, Squad Leader with Light Machine Gun",2,2,0,207,2,2,1,0,5,0,381,{"$f":"SOLDIERS!$B$370","v":367},{"$f":"SOLDIERS!$B$376","v":373},{"$f":"SOLDIERS!$B$380","v":377},{"$f":"SOLDIERS!$B$380","v":377}]
["AS42",393,"Fucilieri (MG)","Rifle Squad, Light Macine Gun Team",2,2,0,207,2,2,1,0,5,0,{"$f":"SOLDIERS!$B$370","v":367},{"$f":"SOLDIERS!$B$376","v":373},{"$f":"SOLDIERS!$B$380","v":377},{"$f":"SOLDIERS!$B$380","v":377},{"$f":"SOLDIERS!$B$368","v":365}]
["AS42",394,"mitr. Breda 37","Breda Model 37 Medum Machine Gun Team",2,5,0,209,2,2,1,0,7,0,{"$f":"SOLDIERS!$B$384","v":381},{"$f":"SOLDIERS!$B$369","v":366},{"$f":"SOLDIERS!$B$375","v":372},377,377,{"$f":"SOLDIERS!$B$380","v":377},377]
["AS42",395,"Fucile Controcarro da 20","20mm Solothurn Anti-Tank Rifle Team",2,7,0,204,2,2,1,0,3,0,{"$f":"SOLDIERS!$B$381","v":378},{"$f":"SOLDIERS!$B$389","v":386},377]
["AS42",396,"Cannone da 47/32","Light Anti-Tank Gun",2,0,1,203,2,2,1,0,5,1,382,369,371,{"$f":"SOLDIERS!$B$380","v":377},{"$f":"SOLDIERS!$B$380","v":377},82]
["AS41/42",397,"Bers. Comando Compagnia","Bersaglieri Company HQ",2,0,3,205,2,2,1,0,5,0,397,402,406,406,406]
["AS41/42",398,"Bers. Comando Plotone","Bersaglieri Platoon HQ",2,0,2,205,2,2,1,0,4,0,398,402,406,406]
["AS41/42",399,"Bers. Comando Plotone","Bersaglieri Machine Gun Platoon Command Team",2,2,2,205,2,2,1,0,2,0,398,402]
["AS41/42",400,"Bers. Comando Plotone","Bersaglieri Support Platoon Command Team",2,2,2,205,2,2,1,0,3,0,398,402,406]
["AS41",401,"Bersaglieri (MG)","Bersaglieri Rifle Squad, Squad Leader with Light Machine Gun",2,2,0,207,2,2,1,0,7,0,399,402,404,409,411,411]
["AS41",402,"Bersaglieri","Bersaglieri Rifle Squad, Rifle Team",2,1,0,207,2,2,1,0,8,0,400,402,407,407,407,407,407,407]
["AS42",403,"Bersaglieri (MG)","Bersaglieri Rifle Squad, Squad Leader with Light Machine Gun",2,2,0,207,2,2,1,0,5,0,399,404,409,411,411]
["AS42",404,"Bersaglieri (MG)","Bersaglieri Rifle Squad, Light Macine Gun Team",2,2,0,207,2,2,1,0,5,0,404,409,411,411,407]
["AS41",405,"Bers. Breda 37","Bersaglieri Breda Model 37 Medum Machine Gun Team",2,5,1,209,2,2,1,0,5,0,400,403,409,410,411]
["AS42",406,"Bers. Breda 37","Bersaglieri Breda Model 37 Medum Machine Gun Team",2,5,0,209,2,2,1,0,7,0,399,403,409,411,411,411,411]
["AS42",407,"Bers. Fucile Controcarro da 20","Bersaglieri 20mm Solothurn Anti-Tank Rifle Team",2,7,0,204,2,2,1,0,3,0,401,412,411]
["AS42",408,"Bers. Cannone da 47/32","Bersaglieri Light Anti-Tank Gun",2,0,1,203,2,2,1,0,5,1,399,405,409,411,411,82]
["COASTAL",409,"Comando Compagnia","Coastal Company HQ",2,0,3,205,1,1,1,0,5,0,364,379,363,363,363]
["COASTAL",410,"Comando Plotone","Coastal Rifle Platoon HQ",2,0,2,205,1,1,1,0,4,0,{"$f":"SOLDIERS!$B$386","v":383},{"$f":"SOLDIERS!$B$382","v":379},363,363]
["COASTAL",411,"Fucilieri (MG)","Coastal Squad, Squad Leader with Light Machine Gun",2,2,0,207,1,1,1,0,8,0,381,{"$f":"SOLDIERS!$B$370","v":367},{"$f":"SOLDIERS!$B$376","v":373},377,377,{"$f":"SOLDIERS!$B$368","v":365},{"$f":"SOLDIERS!$B$368","v":365},{"$f":"SOLDIERS!$B$368","v":365}]
["COASTAL",412,"Fucilieri","Coastal Squad - Rifle Team",2,1,0,207,1,1,1,0,8,0,361,359,{"$f":"SOLDIERS!$B$368","v":365},{"$f":"SOLDIERS!$B$368","v":365},{"$f":"SOLDIERS!$B$368","v":365},{"$f":"SOLDIERS!$B$368","v":365},{"$f":"SOLDIERS!$B$368","v":365},{"$f":"SOLDIERS!$B$368","v":365}]
["COASTAL",413,"Fiat 35 MMG","Coastal Medum Machine Gun Team",2,5,1,209,1,1,1,0,4,0,396,{"$f":"SOLDIERS!$B$375","v":372},{"$f":"SOLDIERS!$B$378","v":375},{"$f":"SOLDIERS!$B$380","v":377}]
["Support",414,"Tiratore scelto","Sniper",2,11,0,215,2,2,1,0,1,0,395]
[null,415,"Cannone Mitragliera da 20","20mm Breda Model 35 Light Anti-Aircraft Gun",2,19,0,202,2,2,1,0,4,1,361,{"$f":"SOLDIERS!$B$371","v":368},{"$f":"SOLDIERS!$B$375","v":372},{"$f":"SOLDIERS!$B$380","v":377},83]
[null,416,"Carro M14/41","Medium Tank 47mm main gun and thin armor",2,23,0,208,2,2,1,0,4,1,{"$f":"SOLDIERS!$B$390","v":387},{"$f":"SOLDIERS!$B$392","v":389},{"$f":"SOLDIERS!$B$396","v":393},{"$f":"SOLDIERS!$B$393","v":390},81]
[null,417,"Semovente 75/18","75mm Assault Gun",2,25,0,214,2,2,1,0,3,1,{"$f":"SOLDIERS!$B$390","v":387},{"$f":"SOLDIERS!$B$396","v":393},{"$f":"SOLDIERS!$B$393","v":390},84]
[null,418,"Carro R-35","French Light Tank with low velocity 37mm gun.",2,22,0,212,2,2,1,0,2,1,{"$f":"SOLDIERS!$B$392","v":389},{"$f":"SOLDIERS!$B$393","v":390},85]
[null,419,"Fiat SPA 38","Truck",2,27,0,216,2,2,1,0,1,1,365,86]
[null,420,"RESERVED","RESERVED",0,0,0,0,0,0,0,0,0,0]
[null,421,"RESERVED","RESERVED",0,0,0,0,0,0,0,0,0,0]
[null,422,"RESERVED","RESERVED",0,0,0,0,0,0,0,0,0,0]
[null,423,"RESERVED","RESERVED",0,0,0,0,0,0,0,0,0,0]
[null,424,"RESERVED","RESERVED",0,0,0,0,0,0,0,0,0,0]
[null,425,"RESERVED","RESERVED",0,0,0,0,0,0,0,0,0,0]
[null,426,"RESERVED","RESERVED",0,0,0,0,0,0,0,0,0,0]
[null,427,"RESERVED","RESERVED",0,0,0,0,0,0,0,0,0,0]
[null,428,"RESERVED","RESERVED",0,0,0,0,0,0,0,0,0,0]
[null,429,"RESERVED","RESERVED",0,0,0,0,0,0,0,0,0,0]
[null,430,"RESERVED","RESERVED",0,0,0,0,0,0,0,0,0,0]
["Spt Teams",431,"SdKfz 251/10","Armored Recon Light Anti-Tank Gun on Platoon Command Halftrack",1,28,0,153,2,2,1,0,3,1,173,221,156,57]
[null,432,"JgPz IV","JgPz IV Tank Destroyer",1,26,0,123,2,2,1,0,4,1,{"$f":"SOLDIERS!$B$216","v":213},{"$f":"SOLDIERS!$B$210","v":207},{"$f":"SOLDIERS!$B$213","v":210},{"$f":"SOLDIERS!$B$215","v":212},40]
[null,433,"Pz VIE Tiger","Pz VIE Tiger Heavy Tank",1,24,0,143,2,2,1,0,5,1,{"$f":"SOLDIERS!$B$216","v":213},{"$f":"SOLDIERS!$B$210","v":207},{"$f":"SOLDIERS!$B$213","v":210},{"$f":"SOLDIERS!$B$215","v":212},{"$f":"SOLDIERS!$B$211","v":208},41]
[null,434,"Pz VA Panther","Pz VA Panther Medium Tank",1,23,0,142,2,2,1,0,5,1,{"$f":"SOLDIERS!$B$216","v":213},{"$f":"SOLDIERS!$B$210","v":207},{"$f":"SOLDIERS!$B$213","v":210},{"$f":"SOLDIERS!$B$215","v":212},{"$f":"SOLDIERS!$B$211","v":208},42]
[null,435,"Panzer IIF","Panzer IIF Light Tank",1,22,0,135,2,2,1,0,3,1,{"$f":"SOLDIERS!$B$216","v":213},{"$f":"SOLDIERS!$B$210","v":207},208,43]
[null,436,"Panzer IVF1","Panzer IVF1 Medium Tank",1,23,0,139,2,2,1,0,5,1,{"$f":"SOLDIERS!$B$216","v":213},{"$f":"SOLDIERS!$B$210","v":207},{"$f":"SOLDIERS!$B$213","v":210},{"$f":"SOLDIERS!$B$215","v":212},{"$f":"SOLDIERS!$B$211","v":208},44]
[null,437,"Panzer IVG","Panzer IVG",1,23,0,140,2,2,1,0,5,1,{"$f":"SOLDIERS!$B$216","v":213},{"$f":"SOLDIERS!$B$210","v":207},{"$f":"SOLDIERS!$B$213","v":210},{"$f":"SOLDIERS!$B$215","v":212},{"$f":"SOLDIERS!$B$211","v":208},45]
[null,438,"Panzer IVH","Panzer IVH",1,23,0,141,2,2,1,0,5,1,{"$f":"SOLDIERS!$B$216","v":213},{"$f":"SOLDIERS!$B$210","v":207},{"$f":"SOLDIERS!$B$213","v":210},{"$f":"SOLDIERS!$B$215","v":212},{"$f":"SOLDIERS!$B$211","v":208},65]
[null,439,"StuG IIIF","Sturmgeschütz IIIF",1,25,0,159,2,2,1,0,4,1,{"$f":"SOLDIERS!$B$216","v":213},{"$f":"SOLDIERS!$B$210","v":207},{"$f":"SOLDIERS!$B$213","v":210},{"$f":"SOLDIERS!$B$215","v":212},49]
[null,440,"StuG IIIG","Sturmgeschütz IIIG",1,25,0,159,2,2,1,0,4,1,{"$f":"SOLDIERS!$B$216","v":213},{"$f":"SOLDIERS!$B$210","v":207},{"$f":"SOLDIERS!$B$213","v":210},{"$f":"SOLDIERS!$B$215","v":212},50]
[null,441,"Kubelwagon","Light Truck",1,27,0,124,2,2,1,0,1,1,{"$f":"SOLDIERS!$B$175","v":172},51]
[null,442,"Opel Blitz","Truck",1,27,0,128,2,2,1,0,1,1,{"$f":"SOLDIERS!$B$176","v":173},52]
[null,443,"PSW 222","Light Armored Car",1,30,0,133,2,2,1,0,3,1,213,209,212,53]
[null,444,"PSW 232","Medium Armored Car",1,30,0,134,2,2,1,0,4,1,213,209,212,208,54]
[null,445,"2cm Flak 38","Light Anti-Aircraft Gun",1,19,0,119,2,2,1,0,4,1,{"$f":"SOLDIERS!$B$217","v":214},{"$f":"SOLDIERS!$B$219","v":216},219,169,58]
[null,446,"3.7cm Pak 36","Light Anti-Tank Gun",1,13,0,129,2,2,1,0,4,1,{"$f":"SOLDIERS!$B$217","v":214},{"$f":"SOLDIERS!$B$219","v":216},219,169,59]
[null,447,"5cm Pak 38","Light Anti-Tank Gun",1,13,0,114,2,2,1,0,5,1,{"$f":"SOLDIERS!$B$217","v":214},{"$f":"SOLDIERS!$B$219","v":216},219,169,169,60]
[null,448,"7.5cm Pak 40","Medium Anti-Tank Gun",1,14,0,130,2,2,1,0,5,1,{"$f":"SOLDIERS!$B$217","v":214},{"$f":"SOLDIERS!$B$219","v":216},219,169,169,61]
[null,449,"8.8cm Flak","88mm Anti-Aircraft Gun",1,21,0,131,2,2,1,0,6,1,{"$f":"SOLDIERS!$B$217","v":214},{"$f":"SOLDIERS!$B$219","v":216},{"$f":"SOLDIERS!$B$220","v":217},{"$f":"SOLDIERS!$B$222","v":219},169,169,62]
[null,{"$f":"B452+1","v":450},"7.5cm IG","75mm Infantry Gun",1,16,0,122,2,2,1,0,6,1,{"$f":"SOLDIERS!$B$217","v":214},{"$f":"SOLDIERS!$B$219","v":216},219,169,169,169,63]
[null,451,"Panzer IIIJ long","Panzer IIIJ long",1,23,0,136,2,2,1,0,5,1,{"$f":"SOLDIERS!$B$216","v":213},{"$f":"SOLDIERS!$B$210","v":207},{"$f":"SOLDIERS!$B$213","v":210},{"$f":"SOLDIERS!$B$215","v":212},{"$f":"SOLDIERS!$B$211","v":208},64]
[null,452,"Panzer IIIJ short","Panzer IIIJ short",1,23,0,137,2,2,1,0,5,1,{"$f":"SOLDIERS!$B$216","v":213},{"$f":"SOLDIERS!$B$210","v":207},{"$f":"SOLDIERS!$B$213","v":210},{"$f":"SOLDIERS!$B$215","v":212},{"$f":"SOLDIERS!$B$211","v":208},66]
[null,453,"Panzer IIIN","Panzer IIIN",1,23,0,138,2,2,1,0,5,1,{"$f":"SOLDIERS!$B$216","v":213},{"$f":"SOLDIERS!$B$210","v":207},{"$f":"SOLDIERS!$B$213","v":210},{"$f":"SOLDIERS!$B$215","v":212},{"$f":"SOLDIERS!$B$211","v":208},68]
[null,454,"Marder IIIH","Marder IIIH",1,26,0,125,2,2,1,0,4,1,{"$f":"SOLDIERS!$B$216","v":213},{"$f":"SOLDIERS!$B$210","v":207},{"$f":"SOLDIERS!$B$213","v":210},208,67]
[null,455,"2.8cm sPzB 41","Light Anti-Tank Gun",1,13,0,129,2,2,1,0,3,1,{"$f":"SOLDIERS!$B$217","v":214},{"$f":"SOLDIERS!$B$219","v":216},219,72]

{"sheet":"TEAM TYPES","index":9,"n_rows":40,"n_cols":4,"rows_kept":40,"cut":false,"hidden":false,"merged":[]}
[null,"Type","Generic Type","Team Use (0 = None, 1 = sniper, 2 = crew, 3 = command, 4 = infantry, 5 = machine gun, 6 = mortar, 7 = anti-tank, 8 = anti-aircraft, 9 = artillery, 10 = armor, 11 = recon, 12 = transport, 13 = flamethrower \n  TeamType_Sniper,\n  TeamType_Crew,\n  TeamType_Command,\n  TeamType_Infantry,\n  TeamType_MachineGun,\n  TeamType_Mortar,\n  TeamType_AntiTank,\n  TeamType_AntiAircraft,\n  TeamType_Artillery,\n  TeamType_Armor,\n  TeamType_Recon,\n  TeamType_Transport,\n  TeamType_Flamethrower,\n"]
["Count:",33]
[0,"Command Team",0,3]
[1,"Rifle Team",0,4]
[2,"Heavy Rifle Team",0,4]
[3,"Recon Team",0,11]
[4,"Engineer Team",0,4]
[5,"Machine Gun",0,5]
[6,"Heavy Machine Gun",0,5]
[7,"Anti-Tank Team",0,7]
[8,"Light Mortar",0,6]
[9,"Mortar",0,6]
[10,"Heavy Mortar",0,6]
[11,"Sniper",0,1]
[12,"Flamethrower",0,13]
[13,"Light Anti-Tank Gun",1,7]
[14,"Anti-Tank Gun",1,7]
[15,"Heavy Anti-Tank Gun",1,7]
[16,"Light Artillery",1,9]
[17,"Artillery",1,9]
[18,"Heavy Artillery",1,9]
[19,"Light Anti-Aircraft Gun",1,5]
[20,"Anti-Aircraft Gun",1,7]
[21,"Heavy Anti-Aircraft Gun",1,7]
[22,"Light Tank",2,11]
[23,"Medium Tank",2,10]
[24,"Heavy Tank",2,10]
[25,"Assault Gun",2,10]
[26,"Tank Destroyer",2,7]
[27,"Transport",3,12]
[28,"Halftrack",3,12]
[29,"Scout Car",3,11]
[30,"Armored Car",3,11]
[31,"Artillery",3,9]
[32,"Tank Destroyer",3,7]
["Count:",4]
[0,"Infantry"]
[1,"Gun"]
[2,"Armor"]
[3,"Vehicle"]

{"sheet":"SOLDIERS","index":10,"n_rows":548,"n_cols":30,"rows_kept":548,"cut":false,"hidden":false,"merged":[]}
["(notes)",null,"Position\nName","Nation","Branch","Uniform","Min Rank","Max Rank","Loc0 Chance","Loc1 Chance","Loc0 Armor","Loc1 Armor","Weapon0","Weapon1","Weapon2","Weapon3","Weapon4","Weapon5","Num Ammo Pools","Ammo0 Type","Ammo0 Rounds","Ammo1 Type","Ammo1 Rounds","Ammo2 Type","Ammo2 Rounds","Ammo3 Type","Ammo3 Rounds","Ammo4 Type","Ammo4 Rounds","etc"]
[null,"count:","413"]
["US Rifleman / M1 Garand",0,20,0,0,0,0,1,28,100,3,0,0,24,-1,-1,-1,-1,2,9,96,5,2]
["US Basic",{"$f":"B3+1","v":1},27,0,0,0,0,0,28,100,3,0,0,-1,-1,-1,-1,-1,1,9,96]
["US Rifleman / Carbine",{"$f":"B4+1","v":2},20,0,0,0,0,1,28,100,3,0,30,24,-1,-1,-1,-1,2,11,75,5,2]
["US Rifleman / M1903A1 w/GL",3,29,0,0,0,0,1,28,100,3,0,31,32,24,-1,-1,-1,4,9,60,7,3,8,2,5,2]
["US Rifleman / M1 Garand w/GL",4,29,0,0,0,0,1,28,100,3,0,0,24,-1,-1,-1,-1,4,9,96,7,3,8,2,5,2]
["US Automatic Rifleman",5,26,0,0,0,0,1,28,100,3,0,1,24,-1,-1,-1,-1,2,9,320,5,2]
["US Asst. Auto Rifleman",6,26,0,0,0,0,1,28,100,3,0,0,24,-1,-1,-1,-1,2,9,96,5,2]
["US Pioneer / M1 Carbine",7,21,0,0,0,0,1,28,100,3,0,30,24,-1,-1,-1,-1,2,11,75,5,2]
["US Cpl Pioneer Sqd. Ldr. / Carbine",8,14,0,0,0,3,3,28,100,3,0,30,24,-1,-1,-1,-1,2,11,75,5,2]
["US Sniper",9,28,0,0,0,1,1,28,100,3,0,51,-1,-1,-1,-1,-1,1,9,60]
["US .30 MMG Gunner",10,1,0,0,0,0,1,28,100,3,0,29,26,-1,-1,-1,-1,2,9,2500,12,21]
["US .50 HMG Gunner",11,1,0,0,0,0,1,28,100,3,0,90,26,-1,-1,-1,-1,3,13,200,14,100,12,21]
["US 60mm Mrtr. Gunner",12,1,0,0,0,0,1,28,100,3,0,28,26,-1,-1,-1,-1,2,23,24,12,21]
["US Cpl Gunner / Pistol",13,1,0,0,0,3,3,28,100,3,0,26,-1,-1,-1,-1,-1,1,12,21]
["US Gunner / Carbine",14,1,0,0,0,0,1,28,100,3,0,30,-1,-1,-1,-1,-1,1,11,60]
["US Asst. Gunner / Pistol",15,5,0,0,0,0,1,28,100,3,0,26,-1,-1,-1,-1,-1,1,12,21]
["US Asst. Gunner / Carbine",16,5,0,0,0,0,1,28,100,3,0,30,-1,-1,-1,-1,-1,1,11,60]
["US Loader / Pistol",17,3,0,0,0,0,1,28,100,3,0,26,-1,-1,-1,-1,-1,1,12,21]
["US Ammo Bearer / M1 Garand",18,8,0,0,0,0,1,28,100,3,0,0,24,-1,-1,-1,-1,2,9,96,5,2]
["US Ammo Bearer / Carbine -",19,8,0,0,0,0,1,28,100,3,0,30,-1,-1,-1,-1,-1,1,11,75]
["US Ammo Bearer / Carbine",20,8,0,0,0,0,1,28,100,3,0,30,24,-1,-1,-1,-1,2,11,75,5,2]
["US Plt Guide Sgt / M1 Garand",21,18,0,0,0,4,4,28,100,3,0,0,24,-1,-1,-1,-1,2,9,96,5,2]
["US Messenger / M1 Garand",22,19,0,0,0,0,1,28,100,3,0,0,24,-1,-1,-1,-1,2,9,96,5,2]
["US Messenger / Carbine",23,19,0,0,0,0,1,28,100,3,0,30,24,-1,-1,-1,-1,2,11,75,5,2]
["US Driver / Carbine",24,0,0,0,0,0,1,28,100,3,0,30,-1,-1,-1,-1,-1,1,11,75]
["US Driver / Carbine w/GL",25,0,0,0,0,0,1,28,100,3,0,98,99,-1,-1,-1,-1,2,11,75,7,5]
["US Driver / M1 Garand",26,0,0,0,0,0,1,28,100,3,0,0,-1,-1,-1,-1,-1,1,9,96]
["US Driver / M1 Garand w/GL",27,0,0,0,0,0,1,28,100,3,0,21,97,-1,-1,-1,-1,2,9,80,7,5]
["US Driver / BAR",28,0,0,0,0,0,1,28,100,3,0,1,-1,-1,-1,-1,-1,2,9,60,10,60]
["US Driver / BAR +",29,26,0,0,0,0,1,28,100,3,0,1,24,-1,-1,-1,-1,2,9,320,5,2]
["US Cpl Asst. Ldr. / M1903 w/GL",30,15,0,0,0,3,3,28,100,3,0,31,32,24,-1,-1,-1,4,9,60,7,3,8,2,5,2]
["US Cpl Asst. Ldr. / M1 Garand w/GL",31,15,0,0,0,3,3,28,100,3,0,21,97,24,-1,-1,-1,4,9,96,7,3,8,2,5,2]
["US Cpl Team Ldr. / Carbine",32,16,0,0,0,3,3,28,100,3,0,30,48,-1,-1,-1,-1,2,11,75,6,1]
["US Sgt Team Ldr. / M1 Garand",33,14,0,0,0,4,4,28,100,3,0,0,24,-1,-1,-1,-1,2,9,96,5,2]
["US Cpl Sqd. Ldr. / M1903A1 w/GL",34,14,0,0,0,3,3,28,100,3,0,31,32,24,-1,-1,-1,4,9,60,7,3,8,2,5,2]
["US Cpl Sqd. Ldr. / M1 Garand -",35,14,0,0,0,3,3,28,100,3,0,0,-1,-1,-1,-1,-1,1,9,96]
["US Sgt Sqd. Ldr. / M1 Garand",36,14,0,0,0,4,4,28,100,3,0,0,24,48,-1,-1,-1,3,9,96,5,2,6,1]
["US Cpl Sqd. Ldr. / M1 Garand +",37,14,0,0,0,3,3,28,100,3,0,21,24,-1,-1,-1,-1,3,9,96,5,2,6,1]
["US Cpl Sqd. Ldr. / M1 Garand w/GL",38,14,0,0,0,3,3,28,100,3,0,21,97,24,-1,-1,-1,4,9,96,7,3,8,2,5,2]
["US Sgt Sqd. Ldr. / Carbine",39,14,0,0,0,4,4,28,100,3,0,30,24,48,-1,-1,-1,3,11,75,5,2,6,1]
["US SSgt Sqd Ldr / Garand",40,14,0,0,0,5,5,28,100,3,0,0,24,48,-1,-1,-1,3,9,96,5,2,6,1]
["US Sgt Sct. Ldr. / Carbine",41,13,0,0,0,4,4,28,100,3,0,30,24,48,-1,-1,-1,3,11,75,5,2,6,1]
["US Sgt Sct. Ldr. / M1 Garand",42,13,0,0,0,4,4,28,100,3,0,0,24,48,-1,-1,-1,3,9,96,5,2,6,1]
["US Sgt Sct. Ldr. / M1 Garand w/GL",43,13,0,0,0,4,4,28,100,3,0,21,97,24,48,-1,-1,5,9,96,7,3,8,2,5,2,6,1]
["US Platoon Sgt. / Carbine",44,17,0,0,0,5,5,28,100,3,0,30,24,-1,-1,-1,-1,2,11,75,5,2]
["US Platoon Sgt. / Carbine, Pistol",45,17,0,0,0,5,5,28,100,3,0,30,26,24,-1,-1,-1,3,11,75,12,21,5,2]
["US Platoon Sgt. / M1 Garand",46,17,0,0,0,5,5,28,100,3,0,0,24,-1,-1,-1,-1,2,9,96,5,2]
["US Platoon Cdr. / Carbine",47,12,0,0,0,9,10,28,100,3,0,30,26,24,48,-1,-1,4,11,75,12,21,5,2,6,1]
["US Co HQ Comms. Sgt. / M1 Garand",48,30,0,0,0,4,4,28,100,3,0,0,24,-1,-1,-1,-1,2,9,96,5,2]
["US Co HQ Comms. SSG / M1 Garand",49,30,0,0,0,5,5,28,100,3,0,0,24,-1,-1,-1,-1,2,9,96,5,2]
["US Co HQ First Sgt. / Carbine",50,31,0,0,0,5,5,28,100,3,0,30,24,-1,-1,-1,-1,2,11,75,5,2]
["US Co HQ SSgt. / Carbine",51,31,0,0,0,5,5,28,100,3,0,30,24,-1,-1,-1,-1,2,11,75,5,2]
["US Cpl Asst. Ldr / Garand",52,15,0,0,0,3,3,28,100,3,0,0,24,-1,-1,-1,-1,2,9,96,5,2]
["US Co HQ Commander / Carbine",53,11,0,0,0,11,11,28,100,3,0,30,26,24,48,-1,-1,4,11,75,12,21,5,2,6,1]
["US Tank Crew",54,25,0,0,1,0,1,28,100,1,0,26,-1,-1,-1,-1,-1,1,12,21]
["US Tank Crew Driver",55,25,0,0,1,0,1,28,100,1,0,26,-1,-1,-1,-1,-1,1,12,21]
["US Tank Crew Gunner",56,1,0,0,1,3,3,28,100,1,0,26,-1,-1,-1,-1,-1,1,12,21]
["US Tank Crew Asst. Gunner",57,25,0,0,1,0,1,28,100,1,0,26,-1,-1,-1,-1,-1,1,12,21]
["US Tank Crew Loader",58,25,0,0,1,0,1,28,100,1,0,26,-1,-1,-1,-1,-1,1,12,21]
["US Tank Crew Asst. Loader",59,25,0,0,1,0,1,28,100,1,0,26,-1,-1,-1,-1,-1,1,12,21]
["US Tank Commander",60,2,0,0,1,4,4,28,100,1,0,26,-1,-1,-1,-1,-1,1,12,21]
["US Sgt Sqd. Ldr. / Carbine",61,14,0,0,0,4,4,28,100,3,0,30,24,48,-1,-1,-1,3,11,75,5,2,6,1]
["US Cpl Team Ldr. / M1903A1 w/GL",62,16,0,0,0,3,3,28,100,3,0,31,32,24,-1,-1,-1,4,9,60,7,3,8,2,5,2]
["US .30 HMG Gunner",63,1,0,0,0,0,1,28,100,3,0,64,26,-1,-1,-1,-1,2,9,2500,12,21]
["US Sgt Sct. Ldr. / M1903A1 w/GL",64,13,0,0,0,4,4,28,100,3,0,31,32,24,48,-1,-1,5,9,60,7,3,8,2,5,2,6,1]
["US Cpl Asst. Ldr. / Carbine",65,15,0,0,0,3,3,28,100,3,0,30,48,-1,-1,-1,-1,2,11,75,5,2]
["US Driver / M1903A1 w/GL",{"$f":"B68+1","v":66},0,0,0,0,0,1,28,100,3,0,31,32,24,-1,-1,-1,3,9,96,7,5,5,2]
["US Engineer / M1 Garand",67,22,0,0,0,0,1,28,100,3,0,0,24,-1,-1,-1,-1,2,9,96,5,2]
["US 81mm Mrtr. Gunner",68,1,0,0,0,0,1,28,100,3,0,41,26,-1,-1,-1,-1,3,12,21,36,21,38,3]
["US Driver / Pistol",69,0,0,0,0,1,2,28,100,3,0,26,-1,-1,-1,-1,-1,1,12,21]
["US Platoon Sgt. / Pistol",70,17,0,0,0,5,5,28,100,3,0,26,-1,-1,-1,-1,-1,1,12,21]
["US Platoon Sgt. / SMG",71,17,0,0,1,5,5,28,100,3,0,65,24,-1,-1,-1,-1,2,12,100,5,2]
["US Driver / SMG",72,0,0,0,0,0,1,28,100,3,0,65,-1,-1,-1,-1,-1,1,12,100]
["US Sgt Tank Cmdr / Carbine",73,14,0,0,1,4,4,28,100,3,0,30,24,48,-1,-1,-1,3,11,75,5,2,6,1]
["US Sgt Tank Cmdr / Pistol",74,2,0,0,1,4,4,28,100,1,0,26,-1,-1,-1,-1,-1,1,12,21]
["US Cpl Asst. Ldr. / M1 Garand w/GL",75,15,0,0,0,3,3,28,100,3,0,21,97,24,-1,-1,-1,4,9,96,7,3,8,2,5,2]
["US M1A1 Bazooka Gunner",76,1,0,0,0,0,1,28,100,3,0,66,0,-1,-1,-1,-1,2,21,5,9,96]
["US Sgt Asst. Ldr. / M1 Garand w/GL",77,15,0,0,0,4,4,28,100,3,0,21,97,24,-1,-1,-1,4,9,96,7,3,8,2,5,2]
["US Platoon Sgt. / M1 Garand w/GL",78,17,0,0,0,5,5,28,100,3,0,21,97,24,-1,-1,-1,4,9,96,7,3,8,2,5,2]
["US Sgt Team Ldr / M1 Garand w/GL",79,16,0,0,0,4,4,28,100,3,0,21,97,24,-1,-1,-1,4,9,96,7,3,8,2,5,2]
["US SSgt Sct. Leader / M1 Garand w/GL",80,13,0,0,0,5,5,28,100,3,0,21,97,24,48,-1,-1,5,9,96,7,3,8,2,5,2,6,1]
["US SSgt Sct. Ldr. / M1 Garand",81,13,0,0,0,5,5,28,100,3,0,0,24,48,-1,-1,-1,3,9,96,5,2,6,1]
["US Co HQ Comms. Sgt. / M1 Garand w/GL",82,30,0,0,0,4,4,28,100,3,0,21,97,24,-1,-1,-1,4,9,96,7,3,8,2,5,2]
["US Rifleman / Carbine w/GL",83,20,0,0,0,0,1,28,100,3,0,98,99,24,-1,-1,-1,4,11,75,7,3,8,2,5,2]
["US Cpl Gunner / Pistol",84,1,0,0,0,3,3,28,100,3,0,26,-1,-1,-1,-1,-1,1,12,21]
["US Messenger / Carbine w/GL",85,19,0,0,0,0,1,28,100,3,0,98,99,24,-1,-1,-1,4,11,75,7,3,8,2,5,2]
["US Sgt Sqd. Ldr. / M1 Garand",86,14,0,0,0,4,4,28,100,3,0,0,24,48,-1,-1,-1,3,9,96,5,2,6,1]
["US Pioneer / Carbine",87,21,0,0,0,0,1,28,100,3,0,30,24,-1,-1,-1,-1,2,11,75,5,2]
["US .50 HMG Gunner",88,1,0,0,0,0,1,28,100,3,0,90,26,-1,-1,-1,-1,3,12,21,13,200,14,100]
["US AB Radioman / Carbine",89,4,0,0,2,3,3,28,100,3,0,30,24,-1,-1,-1,-1,2,11,75,5,2]
["US AB Co HQ Cmdr. / Carbine",90,11,0,0,2,11,11,28,100,3,0,30,26,24,48,-1,-1,4,11,75,12,21,5,2,6,1]
["US AB Co HQ 1st Sgt. / Thompson",91,31,0,0,2,5,5,28,100,3,0,65,24,-1,-1,-1,-1,2,12,300,5,2]
["US AB Co HQ Comms. Sgt / M1 Garand",92,30,0,0,2,4,4,28,100,3,0,0,24,-1,-1,-1,-1,2,9,96,5,2]
["US AB Messenger / M1 Garand",93,19,0,0,2,0,1,28,100,3,0,0,24,-1,-1,-1,-1,2,9,96,5,2]
["US AB Platoon Cdr. / Carbine",94,12,0,0,2,9,10,28,100,3,0,30,26,24,48,-1,-1,4,11,75,12,21,5,2,6,1]
["US AB .30 MMG Gunner Cpl",95,1,0,0,2,3,3,28,100,3,0,29,26,-1,-1,-1,-1,2,9,2500,12,21]
["US AB Rifleman / Carbine",96,20,0,0,2,0,1,28,100,3,0,30,24,-1,-1,-1,-1,2,11,75,5,2]
["US AB M1A1 Bazooka Gunner",97,1,0,0,2,0,1,28,100,3,0,66,0,-1,-1,-1,-1,2,21,5,9,96]
["US AB Asst. Gunner / Carbine",98,5,0,0,2,0,1,28,100,3,0,30,-1,-1,-1,-1,-1,1,11,75]
["US AB Rifleman / M1 Garand",99,27,0,0,2,0,1,28,100,3,0,0,24,-1,-1,-1,-1,2,9,96,5,2]
["US AB SSG Squad Ldr / Garand",100,14,0,0,2,5,5,28,100,3,0,0,24,48,-1,-1,-1,3,9,96,5,2,6,1]
["US AB Sgt Asst. Ldr. / SMG",101,15,0,0,2,4,4,28,100,3,0,65,24,-1,-1,-1,-1,2,12,300,5,2]
["US AB Sgt Squad Ldr / Garand",102,14,0,0,2,4,4,28,100,3,0,0,48,24,-1,-1,-1,3,9,96,5,2,6,1]
["US AB Automatic Rifleman / BAR",103,26,0,0,2,0,1,28,100,3,0,1,24,-1,-1,-1,-1,2,9,320,5,2]
["US AB Asst. Auto Rifleman / Garand",104,26,0,0,2,0,1,28,100,3,0,0,24,-1,-1,-1,-1,2,9,96,5,2]
["US AB Cpl Asst. Sqd. Ldr. / SMG",105,15,0,0,2,3,3,28,100,3,0,65,24,-1,-1,-1,-1,2,12,300,5,2]
["US AB .30 MMG Gunner",106,1,0,0,2,0,1,28,100,3,0,29,26,-1,-1,-1,-1,2,9,2500,12,21]
["US AB Ammo Bearer / Carbine",107,8,0,0,2,0,1,28,100,3,0,30,24,-1,-1,-1,-1,2,11,75,5,2]
["US AB 60mm Mortar Gunner",108,1,0,0,2,0,1,28,100,3,0,28,26,-1,-1,-1,-1,2,23,30,12,21]
["US AB Radioman / M1 Garand",109,4,0,0,2,3,3,28,100,3,0,0,24,-1,-1,-1,-1,2,9,96,5,2]
["US AB Sgt Sqd. Ldr. / Thompson",110,14,0,0,2,4,4,28,100,3,0,65,24,48,-1,-1,-1,3,12,300,5,2,6,1]
["US AB Co HQ Comms. SSG / Thompson",111,30,0,0,2,5,5,28,100,3,0,65,24,-1,-1,-1,-1,2,12,300,5,2]
["US AB Platoon Sgt. / Thompson",112,17,0,0,2,5,5,28,100,3,0,65,24,-1,-1,-1,-1,2,12,300,5,2]
["US AB Asst. Gunner / M1 Garand",113,5,0,0,2,0,1,28,100,3,0,0,24,-1,-1,-1,-1,2,9,96,5,2]
["US AB Ammo Bearer / M1 Garand",114,8,0,0,2,0,1,28,100,3,0,0,24,-1,-1,-1,-1,2,9,96,5,2]
["US AB Sniper / M1C Garand",115,27,0,0,2,1,1,28,100,3,0,67,-1,-1,-1,-1,-1,1,9,96]
["US Tank Crew Asst. Driver",116,7,0,0,1,0,1,28,100,1,0,26,-1,-1,-1,-1,-1,1,12,21]
["US Engineer / M1 Garand / Demo",117,22,0,0,0,0,1,28,100,3,0,0,24,80,-1,-1,-1,3,9,96,5,2,4,1]
["US Cpl Pio Sqd. Ldr. / M1 Garand / Demo",118,14,0,0,0,4,4,28,100,3,0,0,24,48,80,-1,-1,4,9,96,5,2,6,1,4,1]
["US Engineer / M1 Garand GL",119,22,0,0,0,0,1,28,100,3,0,21,97,24,-1,-1,-1,3,9,96,7,5,5,2]
["US Pioneer / Carbine / Demo",120,21,0,0,0,0,1,28,100,3,0,30,24,80,-1,-1,-1,3,11,75,5,2,4,1]
["US Pioneer Platoon Cdr. / Carbine / Demo",121,12,0,0,0,9,10,28,100,3,0,30,26,24,48,80,-1,5,11,75,12,21,5,2,6,1,4,1]
["US Pioneer Platoon Sgt. / Carbine / Demo",122,17,0,0,0,5,5,28,100,3,0,30,24,80,-1,-1,-1,3,11,75,5,2,4,1]
["US Pioneer Sqd Ldr. Sgt / M1 Garand",123,14,0,0,0,4,4,28,100,3,0,0,24,48,-1,-1,-1,3,9,96,5,2,6,1]
["US Pioneer Asst. Ldr. Cpl / Carbine",124,16,0,0,0,3,3,28,100,3,0,30,-1,-1,-1,-1,-1,1,11,75]
["US Pioneer / M1903A1 w/GL",125,21,0,0,0,0,1,28,100,3,0,31,32,24,-1,-1,-1,3,9,96,7,5,5,2]
["US Engineer Sqd. Ldr. Sgt / Carbine",126,14,0,0,0,4,4,28,100,3,0,30,24,48,-1,-1,-1,3,11,75,5,2,6,1]
["US Engineer Asst. Ldr. Cpl / M1 Garand",127,15,0,0,0,3,3,28,100,3,0,21,97,24,48,-1,-1,4,9,96,7,5,5,2,6,1]
["US Asst. Gunner / M1 Garand",128,5,0,0,0,0,1,28,100,3,0,0,24,-1,-1,-1,-1,2,9,96,5,2]
["US M9 Bazooka Gunner",129,1,0,0,0,0,1,28,100,3,0,87,0,-1,-1,-1,-1,2,22,5,9,96]
["US Pioneer / M1 Garand",{"$f":"B132+1","v":130},21,0,0,0,0,1,28,100,3,0,0,24,-1,-1,-1,-1,2,9,96,5,2]
["US Pioneer / Garand / Demo",131,21,0,0,0,0,1,28,100,3,0,0,24,80,-1,-1,-1,3,9,96,5,2,4,1]
["US Engineer Sqd. Ldr. Sgt / Garand",132,14,0,0,0,4,4,28,100,3,0,0,24,48,-1,-1,-1,3,9,96,5,2,6,1]
["US Messenger / SMG",133,19,0,0,0,0,1,28,100,3,0,65,-1,-1,-1,-1,-1,1,12,100]
["US Scout / Carbine",134,24,0,0,0,0,1,28,100,3,0,30,24,-1,-1,-1,-1,2,11,75,5,2]
["US Scout / Rifle",135,24,0,0,0,0,1,28,100,3,0,0,24,-1,-1,-1,-1,2,9,96,5,2]
["US Cpl Rcn Sqd Ldr / Rifle",136,14,0,0,0,3,3,28,100,3,0,0,24,48,-1,-1,-1,3,9,96,5,2,6,1]
["US Sgt Rcn Sct Ldr / Rifle",137,13,0,0,0,4,4,28,100,3,0,65,24,48,-1,-1,-1,3,12,300,5,2,6,1]
["US Rcn Mortar Team Leader / SMG",138,16,0,0,0,1,1,28,100,3,0,65,24,-1,-1,-1,-1,2,12,300,5,2]
["US Rcn Asst. Leader / SMG",139,15,0,0,0,1,1,28,100,3,0,65,24,-1,-1,-1,-1,2,12,300,5,2]
["US Cpl Team Leader / Carbine",140,16,0,0,0,0,1,28,100,3,0,30,24,-1,-1,-1,-1,2,11,75,5,2]
["US Replacement",141,27,0,0,0,0,0,28,100,0,0,-1,-1,-1,-1,-1,-1,0]
["(RESERVED)",142,0,0,0,0,0,0,0,0,0,0,-1,-1,-1,-1,-1,-1,0]
["(RESERVED)",143,0,0,0,0,0,0,0,0,0,0,-1,-1,-1,-1,-1,-1,0]
["(RESERVED)",144,0,0,0,0,0,0,0,0,0,0,-1,-1,-1,-1,-1,-1,0]
["(RESERVED)",145,0,0,0,0,0,0,0,0,0,0,-1,-1,-1,-1,-1,-1,0]
["(RESERVED)",146,0,0,0,0,0,0,0,0,0,0,-1,-1,-1,-1,-1,-1,0]
["(RESERVED)",147,0,0,0,0,0,0,0,0,0,0,-1,-1,-1,-1,-1,-1,0]
["(RESERVED)",148,0,0,0,0,0,0,0,0,0,0,-1,-1,-1,-1,-1,-1,0]
["(RESERVED)",149,0,0,0,0,0,0,0,0,0,0,-1,-1,-1,-1,-1,-1,0]
["(RESERVED)",150,0,0,0,0,0,0,0,0,0,0,-1,-1,-1,-1,-1,-1,0]
["(RESERVED)",151,0,0,0,0,0,0,0,0,0,0,-1,-1,-1,-1,-1,-1,0]
["(RESERVED)",152,0,0,0,0,0,0,0,0,0,0,-1,-1,-1,-1,-1,-1,0]
["(RESERVED)",153,0,0,0,0,0,0,0,0,0,0,-1,-1,-1,-1,-1,-1,0]
["(RESERVED)",154,0,0,0,0,0,0,0,0,0,0,-1,-1,-1,-1,-1,-1,0]
["(RESERVED)",155,0,0,0,0,0,0,0,0,0,0,-1,-1,-1,-1,-1,-1,0]
["Rifleman / 98k",156,20,1,0,8,0,1,28,100,3,0,10,25,-1,-1,-1,-1,2,47,80,51,2]
["Rifle Grenadier / 98k w/GL",157,29,1,0,8,0,1,28,100,3,0,49,96,25,-1,-1,-1,4,47,80,51,2,54,3,53,2]
["SMG / MP40",158,26,1,0,8,0,1,28,100,3,0,11,25,-1,-1,-1,-1,2,50,192,51,2]
["leMG34 Gunner",159,1,1,0,8,0,2,28,100,3,0,12,27,-1,-1,-1,-1,2,47,1250,50,24]
["sMG34 Gunner",160,1,1,0,8,0,2,28,100,3,0,33,27,-1,-1,-1,-1,2,47,2000,50,24]
["leMG42 Gunner",161,1,1,0,8,0,2,28,100,3,0,76,27,-1,-1,-1,-1,2,47,2000,50,24]
["Sturm leMG42 Gunner",162,1,1,0,8,0,2,28,100,3,0,78,27,-1,-1,-1,-1,2,47,1200,50,24]
["sMG42 Gunner",163,1,1,0,8,0,2,28,100,3,0,70,27,-1,-1,-1,-1,2,47,3000,50,24]
["5cm Mtr. Gunner / P38",164,1,1,0,8,0,2,28,100,3,0,74,27,-1,-1,-1,-1,2,67,30,50,24]
["8cm Mtr. Gunner",165,1,1,0,8,0,2,28,100,3,0,42,27,-1,-1,-1,-1,3,81,21,82,3,50,24]
["Asst. Gunner / P38",166,5,1,0,8,0,1,28,100,3,0,27,-1,-1,-1,-1,-1,1,50,24]
["Asst. Gunner / 98k",167,5,1,0,8,0,1,28,100,3,0,10,25,-1,-1,-1,-1,2,47,80,51,2]
["Ammo Bearer / P38",168,8,1,0,8,0,1,28,100,3,0,27,-1,-1,-1,-1,-1,1,50,24]
["Ammo Bearer / 98k",169,8,1,0,8,0,1,28,100,3,0,10,-1,-1,-1,-1,-1,1,47,80]
["Ammo Bearer / 98k +",170,8,1,0,8,0,1,28,100,3,0,10,25,-1,-1,-1,-1,2,47,80,51,2]
["Messenger / 98k",171,19,1,0,8,0,1,28,100,3,0,10,25,-1,-1,-1,-1,2,47,80,51,2]
["Driver / P38",172,0,1,0,8,0,1,28,100,3,0,27,-1,-1,-1,-1,-1,1,50,24]
["Driver / 98k",173,0,1,0,8,0,1,28,100,3,0,10,-1,-1,-1,-1,-1,1,47,80]
["Driver / 98k +",174,0,1,0,8,0,1,28,100,3,0,10,25,-1,-1,-1,-1,2,47,80,51,2]
["Asst. Driver / 98k",175,0,1,0,8,0,1,28,100,3,0,10,-1,-1,-1,-1,-1,1,47,80]
["Radioman / P38",176,4,1,0,8,0,1,28,100,3,0,27,-1,-1,-1,-1,-1,1,50,24]
["Radioman / 98k",177,4,1,0,8,0,1,28,100,3,0,10,-1,-1,-1,-1,-1,1,47,80]
["Sniper / 98k w/scope",178,28,1,0,8,0,1,28,100,3,0,50,-1,-1,-1,-1,-1,1,47,80]
["Sniper / G43 w/scope",179,28,1,0,8,0,1,28,100,3,0,75,-1,-1,-1,-1,-1,1,47,80]
["Asst. Leader / 98k",180,15,1,0,8,1,2,28,100,3,0,10,25,-1,-1,-1,-1,2,47,80,51,2]
["Asst. Ldr. / 98k PzF30",181,15,1,0,8,1,2,28,100,3,0,10,25,72,-1,-1,-1,3,47,80,51,2,90,1]
["Asst. Leader Ogefr / MP40",182,15,1,0,8,3,3,28,100,3,0,11,25,-1,-1,-1,-1,2,50,192,51,2]
["Asst. Leader / P38",183,15,1,0,8,1,2,28,100,3,0,27,25,-1,-1,-1,-1,2,50,24,51,2]
["Asst. Leader Ogefr / 98k",184,15,1,0,8,3,3,28,100,3,0,10,25,-1,-1,-1,-1,2,47,80,51,2]
["Asst. Leader / 98k w/scope",185,15,1,0,8,1,2,28,100,3,0,50,25,-1,-1,-1,-1,2,47,80,51,2]
["Asst. Leader Ufw / MP40",186,15,1,0,8,5,5,28,100,3,0,11,25,-1,-1,-1,-1,2,50,192,51,2]
["Asst. Ldr. Stabsfw / MP40",187,16,1,0,8,8,8,28,100,3,0,11,-1,-1,-1,-1,-1,1,50,192]
["Team Ldr. / P38",188,16,1,0,8,3,4,28,100,3,0,27,-1,-1,-1,-1,-1,2,50,24,52,1]
["Team Ldr. Pvt. / 98k",189,16,1,0,8,1,2,28,100,3,0,10,25,-1,-1,-1,-1,2,47,80,51,2]
["Team Ldr. Cpl. / 98k",190,16,1,0,8,3,3,28,100,3,0,10,25,-1,-1,-1,-1,2,47,80,51,2]
["Team Ldr. / MP40",191,16,1,0,8,3,4,28,100,3,0,11,25,-1,-1,-1,-1,2,50,192,51,2]
["Squad Leader Sgt. / 98k",192,14,1,0,8,3,4,28,100,3,0,10,25,68,-1,-1,-1,3,47,80,51,2,52,1]
["Squad Leader S/Sgt. / 98k",193,14,1,0,8,5,5,28,100,3,0,10,25,68,-1,-1,-1,3,47,80,51,2,52,1]
["Squad Leader / G43",{"$f":"B196+1","v":194},14,1,0,8,3,4,28,100,3,0,79,25,68,-1,-1,-1,3,47,100,51,2,52,1]
["Squad Leader / MP40",195,14,1,0,8,3,4,28,100,3,0,11,25,68,-1,-1,-1,3,50,192,51,2,52,1]
["Platoon Commander / P38",196,12,1,0,8,9,10,28,100,3,0,27,68,-1,-1,-1,-1,2,50,24,52,1]
["Platoon Commander - / MP40",197,12,1,0,8,9,10,28,100,3,0,11,25,68,-1,-1,-1,3,50,192,51,2,52,1]
["Platoon Commander / MP40 P38",198,12,1,0,8,9,10,28,100,3,0,11,27,25,68,-1,-1,4,50,192,50,24,51,2,52,1]
["Section Ldr. / P38",199,13,1,0,8,4,5,28,100,3,0,27,-1,-1,-1,-1,-1,2,50,24,52,1]
["Section Ldr. / 98k",200,13,1,0,8,4,5,28,100,3,0,10,25,-1,-1,-1,-1,2,47,80,51,2]
["Section Ldr.Uffz / MP40",201,13,1,0,8,4,4,28,100,3,0,11,25,-1,-1,-1,-1,2,50,192,51,2]
["Section Ldr. / MP40",202,13,1,0,8,4,5,28,100,3,0,11,25,-1,-1,-1,-1,2,50,192,51,2]
["Comms. Sgt. / P38",203,30,1,0,8,3,5,28,100,3,0,27,25,-1,-1,-1,-1,2,50,24,51,2]
["Company Cdr. / P38",204,11,1,0,8,11,11,28,100,3,0,27,68,-1,-1,-1,-1,2,50,24,52,1]
["Company Cdr. / MP40",205,11,1,0,8,11,11,28,100,3,0,11,25,68,-1,-1,-1,3,50,192,52,2,51,1]
["Company Cdr. / MP40 P38",206,11,1,0,8,11,11,28,100,3,0,11,68,27,25,-1,-1,4,50,192,50,24,52,2,51,1]
["Armor Driver / P38",207,0,1,0,9,3,4,128,0,0,0,27,-1,-1,-1,-1,-1,1,50,24]
["Armor Radioman / P38",208,4,1,0,9,0,1,128,0,0,0,27,-1,-1,-1,-1,-1,1,50,24]
["Armor Driver Pvt / P38",209,0,1,0,9,0,1,128,0,0,0,27,-1,-1,-1,-1,-1,1,50,24]
["Armor Gunner / P38",210,1,1,0,9,3,4,128,0,0,0,27,-1,-1,-1,-1,-1,1,50,24]
["Armor Asst. Gunner / P38",211,5,1,0,9,0,1,128,0,0,0,27,-1,-1,-1,-1,-1,1,50,24]
["Armor Loader / P38",212,3,1,0,9,0,1,128,0,0,0,27,-1,-1,-1,-1,-1,1,50,24]
["Armor Commander / P38",213,2,1,0,9,4,5,128,0,0,0,27,-1,-1,-1,-1,-1,1,50,24]
["Gun Crew Cdr. / 98k",214,2,1,0,8,3,4,28,100,3,0,10,-1,-1,-1,-1,-1,1,47,80]
["Gun Crew Cdr. / MP40",215,2,1,0,8,3,4,28,100,3,0,11,25,-1,-1,-1,-1,2,50,192,52,2]
["Gun Crew Gunner / P38",216,1,1,0,8,1,2,28,100,3,0,27,-1,-1,-1,-1,-1,1,50,24]
["Gun Crew Asst. Gunner / P38",217,5,1,0,8,0,1,28,100,3,0,27,-1,-1,-1,-1,-1,1,50,24]
["Gun Crew Asst. Gunner / 98k",218,5,1,0,8,0,1,28,100,3,0,10,-1,-1,-1,-1,-1,1,47,80]
["Gun Crew Loader / P38",219,3,1,0,8,0,1,28,100,3,0,27,-1,-1,-1,-1,-1,1,50,24]
["Gun Crew Loader / 98k",220,3,1,0,8,0,1,28,100,3,0,10,-1,-1,-1,-1,-1,1,47,80]
["AT Rifleman / Pzb. 39",221,1,1,0,8,0,1,28,100,3,0,69,27,-1,-1,-1,-1,2,49,40,50,24]
["AT Rifleman / 98k PzF30",222,20,1,0,8,0,1,28,100,3,0,10,25,72,-1,-1,-1,3,47,80,51,2,90,1]
["Panzerschreck / 98k RkPzB 54",223,20,1,0,8,0,1,28,100,3,0,73,27,-1,-1,-1,-1,2,91,5,50,24]
["Pionier / 98k / Demo",224,22,1,0,8,0,1,28,100,3,0,10,25,81,-1,-1,-1,3,47,80,51,2,4,1]
["Pioniere Rifleman / 98k",225,20,1,0,8,0,1,28,100,3,0,10,-1,-1,-1,-1,-1,1,47,80]
["Pioniere Rifleman AT / 98k w/GL",226,29,1,0,8,0,1,28,100,3,0,49,96,-1,-1,-1,-1,2,47,80,54,5]
["Pioniere Rifleman / 98k FT",227,20,1,0,8,0,1,28,100,3,0,10,-1,-1,-1,-1,-1,1,47,80]
["Pioniere Pioneer / 98k",228,21,1,0,8,0,1,28,100,3,0,10,-1,-1,-1,-1,-1,1,47,80]
["Pioniere sMG34 Gunner",229,26,1,0,8,0,1,28,100,3,0,33,27,-1,-1,-1,-1,2,47,2000,50,24]
["Pioniere Engineer / 98k",230,22,1,0,8,0,1,28,100,3,0,10,-1,-1,-1,-1,-1,1,47,80]
["Pioniere Messenger / 98k",231,19,1,0,8,0,1,28,100,3,0,10,-1,-1,-1,-1,-1,1,47,80]
["Pioniere Radioman / 98k",232,4,1,0,8,0,1,28,100,3,0,10,-1,-1,-1,-1,-1,1,47,80]
["Pioniere Driver / P38",233,0,1,0,8,0,1,28,100,3,0,27,-1,-1,-1,-1,-1,1,50,24]
["Pioniere Sct.  Ldr. / MP40",234,13,1,0,8,4,5,28,100,3,0,11,-1,-1,-1,-1,-1,1,50,192]
["Pioniere Sqd. Ldr. / P38",235,14,1,0,8,3,4,28,100,3,0,27,68,-1,-1,-1,-1,2,50,24,52,1]
["Pioniere Sqd. Ldr. / 98k Demo",236,14,1,0,8,3,4,28,100,3,0,10,27,68,81,-1,-1,4,47,80,50,24,52,1,4,1]
["Pioniere Sqd. Ldr. / MP40 Demo",237,14,1,0,8,3,4,28,100,3,0,11,27,68,81,-1,-1,4,50,192,50,24,52,1,4,1]
["Pioniere Pltn. Cdr. / P38",238,12,1,0,8,9,10,28,100,3,0,27,68,-1,-1,-1,-1,2,50,24,52,1]
["Pioniere Platoon Cdr. / MP40",239,12,1,0,8,9,10,28,100,3,0,11,27,68,-1,-1,-1,3,50,192,50,24,52,1]
["Pioniere Co. Cdr. / MP40",240,11,1,0,8,11,11,28,100,3,0,11,27,68,-1,-1,-1,3,50,192,50,24,52,1]
["Pioniere Flamethrower / 98k",241,22,1,0,12,0,1,28,100,3,0,82,27,-1,-1,-1,-1,2,3,6,50,24]
["SS Pz.Gr. Rifleman / 98k",242,20,1,0,11,0,1,28,100,3,0,10,25,-1,-1,-1,-1,2,47,80,51,2]
["SS Pz.Gr. Messenger / 98k",243,19,1,0,11,0,1,28,100,3,0,10,25,-1,-1,-1,-1,2,47,80,51,2]
["SS Pz.Gr. Radioman / 98k",244,4,1,0,11,0,1,28,100,3,0,10,-1,-1,-1,-1,-1,1,47,80]
["SS Pz.Gr. Driver / P38",245,0,1,0,11,0,1,28,100,3,0,27,-1,-1,-1,-1,-1,1,50,24]
["SS Pz.Gr. Driver / 98k",246,0,1,0,11,0,1,28,100,3,0,10,-1,-1,-1,-1,-1,1,47,80]
["SS Pz.Gr. Driver / 98k +",247,0,1,0,11,0,1,28,100,3,0,10,25,-1,-1,-1,-1,2,47,80,51,2]
["SS Pz.Gr. Ammo Bearer / 98k +",248,8,1,0,11,0,1,28,100,3,0,10,25,-1,-1,-1,-1,2,47,80,51,2]
["SS Pz.Gr. SMG / MP40",249,26,1,0,11,0,1,28,100,3,0,11,25,-1,-1,-1,-1,2,50,192,51,2]
["SS Pz.Gr. Sturm leMG42 Gunner",250,1,1,0,11,1,2,28,100,3,0,78,27,-1,-1,-1,-1,2,47,1200,50,24]
["SS Pz.Gr. leMG42 Gunner",251,1,1,0,11,1,2,28,100,3,0,76,27,-1,-1,-1,-1,2,47,2000,50,24]
["SS Pz.Gr. sMG42 Gunner",252,1,1,0,11,1,2,28,100,3,0,70,27,-1,-1,-1,-1,2,47,3000,50,24]
["SS Pz.Gr. 8cm Mtr. Gunner",253,1,1,0,11,1,2,28,100,3,0,42,27,-1,-1,-1,-1,3,81,21,82,3,50,24]
["SS Pz.Gr. Asst. Gunner / P38",254,5,1,0,11,0,1,28,100,3,0,27,-1,-1,-1,-1,-1,1,50,24]
["SS Pz.Gr. Asst. Gunner / 98k",255,5,1,0,11,0,1,28,100,3,0,10,25,-1,-1,-1,-1,2,47,80,51,2]
["SS Pz.Gr. AT Rifleman / 98k PzF30",256,20,1,0,11,0,1,28,100,3,0,10,25,72,-1,-1,-1,3,47,80,51,2,90,1]
["SS Pz.Gr. Panzerschreck / 98k RkPzB 54",257,20,1,0,11,0,1,28,100,3,0,73,27,-1,-1,-1,-1,3,91,5,50,24]
["SS Pz.Gr. Team Leader / 98k",{"$f":"B260+1","v":258},16,1,0,11,3,4,28,100,3,0,10,25,-1,-1,-1,-1,2,47,80,51,2]
["SS Pz.Gr. Asst. Leader / G43",259,15,1,0,11,3,4,28,100,3,0,79,25,-1,-1,-1,-1,2,47,100,51,2]
["SS Pz.Gr. Sqd Ldr. / MP40",260,14,1,0,11,4,5,28,100,3,0,11,25,-1,-1,-1,-1,2,50,192,51,2]
["SS Pz.Gr. Asst. Ldr. / MP40",261,15,1,0,11,3,4,28,100,3,0,11,25,-1,-1,-1,-1,2,50,192,51,2]
["SS Pz.Gr. Team Ldr. / MP40",262,16,1,0,11,3,4,28,100,3,0,11,25,-1,-1,-1,-1,2,50,192,51,2]
["SS Pz.Gr. Asst. Ldr. Stabsfw / MP40",263,16,1,0,11,8,8,28,100,3,0,11,-1,-1,-1,-1,-1,1,50,192]
["SS Pz.Gr. Company Cdr. / MP40 P38",264,11,1,0,11,11,11,28,100,3,0,11,68,27,25,-1,-1,4,50,192,52,1,50,24,51,2]
["SS Pz.Gr. Gun Crew Cdr. / 98k",265,2,1,0,11,3,4,28,100,3,0,10,-1,-1,-1,-1,-1,1,47,80]
["SS Pz.Gr. Gun Crew Cdr. / MP40",266,2,1,0,11,3,4,28,100,3,0,11,25,-1,-1,-1,-1,2,50,192,51,2]
["SS Pz.Gr. Gun Crew Gunner / P38",267,1,1,0,11,1,2,28,100,3,0,27,-1,-1,-1,-1,-1,1,50,24]
["SS Pz.Gr. Gun Crew Asst. Gunner / P38",268,5,1,0,11,0,1,28,100,3,0,27,-1,-1,-1,-1,-1,1,50,24]
["SS Pz.Gr. Gun Crew Asst. Gunner / 98k",269,5,1,0,11,0,1,28,100,3,0,10,-1,-1,-1,-1,-1,1,47,80]
["SS Pz.Gr. Gun Crew Loader / P38",270,3,1,0,11,0,1,28,100,3,0,27,-1,-1,-1,-1,-1,1,50,24]
["SS Pz.Gr. Gun Crew Loader / 98k",271,3,1,0,11,0,1,28,100,3,0,10,-1,-1,-1,-1,-1,1,47,80]
["SS Pz.Gr. Pi. Rifleman / 98k",272,20,1,0,11,0,1,28,100,3,0,10,-1,-1,-1,-1,-1,1,47,80]
["SS Pz.Gr. Pi. Flamethrower / P38",273,22,1,0,14,0,1,28,100,3,0,82,27,-1,-1,-1,-1,2,3,6,50,24]
["SS Pz.Gr. Pi. SMG / MP40",274,21,1,0,11,0,1,28,100,3,0,11,25,-1,-1,-1,-1,2,50,192,51,2]
["SS Pz.Gr. Pi. Asst. Ldr. / 98k Demo",275,15,1,0,11,3,4,28,100,3,0,10,27,81,-1,-1,-1,3,47,80,50,24,4,1]
["SS Pz.Gr. Pi. Team Ldr. / MP40 Demo",276,14,1,0,11,3,4,28,100,3,0,11,27,81,-1,-1,-1,3,50,192,50,24,4,1]
["SS Pz.Gr. Pi. leMG42 Gunner",277,1,1,0,11,0,1,28,100,3,0,76,27,-1,-1,-1,-1,2,47,2000,50,24]
["SS Pz.Gr. Pi. Asst. Gunner / P38",278,5,1,0,11,0,1,28,100,3,0,27,-1,-1,-1,-1,-1,1,50,24]
["SS Pz.Gr. Pi. Panzerschreck / 98k RkPzB 54",279,20,1,0,11,0,1,28,100,3,0,73,27,-1,-1,-1,-1,2,91,5,50,24]
["FJ Rifleman / 98k",280,20,1,0,10,0,1,28,100,3,0,10,25,-1,-1,-1,-1,3,47,80,51,2]
["FJ Riflegrenadier / 98k w/GL",281,30,1,0,10,0,1,28,100,3,0,49,96,25,-1,-1,-1,4,47,80,51,2,54,3,53,2]
["FJ Sub-machinegun / MP40",282,15,1,0,10,0,1,28,100,3,0,11,25,-1,-1,-1,-1,2,50,192,51,2]
["FJ AT Rifleman / Pzb. 39",283,1,1,0,10,0,1,28,100,3,0,69,27,-1,-1,-1,-1,2,49,40,50,24]
["FJ leMG34 Gunner / P38",284,1,1,0,10,1,2,28,100,3,0,12,27,-1,-1,-1,-1,2,47,1250,50,24]
["FJ sMG34 Gunner / P38",285,1,1,0,10,1,2,28,100,3,0,33,27,-1,-1,-1,-1,2,47,2000,50,24]
["FJ leMG42 Gunner / P38",286,1,1,0,10,1,2,28,100,3,0,76,27,-1,-1,-1,-1,2,47,2000,50,24]
["FJ sMG42 Gunner / P38",287,1,1,0,10,1,2,28,100,3,0,70,27,-1,-1,-1,-1,2,47,3000,50,24]
["FJ FG42 Gunner / P38",288,1,1,0,10,1,2,28,100,3,0,84,27,25,-1,-1,-1,2,47,300,50,24,51,2]
["FJ Panzerfaust 30kl / 98k",289,20,1,0,10,0,1,28,100,3,0,10,71,-1,-1,-1,-1,3,47,80,89,1]
["FJ Panzerfaust 30 / 98k",290,20,1,0,10,0,1,28,100,3,0,10,72,-1,-1,-1,-1,3,47,80,90,1]
["FJ Panzerschreck / 98k",291,20,1,0,10,0,1,28,100,3,0,73,27,-1,-1,-1,-1,2,91,5,50,24]
["FJ Driver / 98k",292,0,1,0,10,0,1,28,100,3,0,10,-1,-1,-1,-1,-1,1,47,80]
["FJ Asst. Driver / 98k",293,7,1,0,10,0,1,28,100,3,0,10,-1,-1,-1,-1,-1,1,47,80]
["FJ Radioman / 98k",294,4,1,0,10,0,1,28,100,3,0,10,25,-1,-1,-1,-1,2,47,80,51,2]
["FJ Messenger / 98k",295,19,1,0,10,0,1,28,100,3,0,10,25,-1,-1,-1,-1,2,47,80,51,2]
["FJ 5cm Mtr. Gunner / P38",296,1,1,0,10,0,1,28,100,3,0,74,27,-1,-1,-1,-1,2,67,24,50,24]
["FJ 8cm Mtr. Gunner / P38",297,1,1,0,10,0,1,28,100,3,0,42,27,-1,-1,-1,-1,3,81,21,82,3,50,24]
["FJ Asst. Gunner / P38",298,5,1,0,10,0,1,28,100,3,0,27,-1,-1,-1,-1,-1,1,50,24]
["FJ Asst. Gunner / 98k",299,5,1,0,10,0,1,28,100,3,0,10,-1,-1,-1,-1,-1,1,47,80]
["FJ Asst. Gunner / MP40",300,5,1,0,10,0,1,28,100,3,0,11,-1,-1,-1,-1,-1,1,50,192]
["FJ Ammo Bearer / P38",301,8,1,0,10,0,1,28,100,3,0,27,-1,-1,-1,-1,-1,1,50,24]
["FJ Ammo Bearer / 98k",302,8,1,0,10,0,1,28,100,3,0,10,25,-1,-1,-1,-1,2,47,80,51,2]
["FJ Asst. Leader Ogefr / MP40",303,15,1,0,10,3,3,28,100,3,0,11,25,-1,-1,-1,-1,2,50,192,51,2]
["FJ Asst. Leader Fw / P38",304,15,1,0,10,6,6,28,100,3,0,27,25,-1,-1,-1,-1,2,50,24,51,2]
["FJ Asst. Leader Gefr / 98k",305,15,1,0,10,2,2,28,100,3,0,10,25,-1,-1,-1,-1,2,47,80,51,2]
["FJ Asst. Leader Fw / 98k",306,15,1,0,10,6,6,28,100,3,0,10,25,-1,-1,-1,-1,2,47,80,51,2]
["FJ Asst. Leader Fw / MP40",307,15,1,0,10,6,6,28,100,3,0,11,25,-1,-1,-1,-1,2,50,192,51,2]
["FJ Team Ldr. / P38",308,16,1,0,10,1,2,28,100,3,0,27,-1,-1,-1,-1,-1,1,50,24]
["FJ Team Ldr. / 98k / Pvt.",309,16,1,0,10,1,2,28,100,3,0,10,-1,-1,-1,-1,-1,1,47,80]
["FJ Team Ldr. / 98k / Cpl.",310,16,1,0,10,3,3,28,100,3,0,10,-1,-1,-1,-1,-1,1,47,80]
["FJ Section Ldr. / P38",311,13,1,0,10,4,5,28,100,3,0,27,-1,-1,-1,-1,-1,1,50,24]
["FJ Section Ldr. / MP40",312,13,1,0,10,4,5,28,100,3,0,11,-1,-1,-1,-1,-1,1,50,192]
["FJ Squad Ldr. Uffz / MP40",313,14,1,0,10,4,4,28,100,3,0,11,68,-1,-1,-1,-1,2,50,192,52,1]
["FJ Squad Ldr. Ufw / MP40",314,14,1,0,10,5,5,28,100,3,0,11,68,-1,-1,-1,-1,2,50,192,52,1]
["FJ Platoon Cdr. / P38",315,12,1,0,10,9,10,28,100,3,0,27,68,-1,-1,-1,-1,2,50,24,52,1]
["FJ Platoon Cdr. / MP40",316,12,1,0,10,9,10,28,100,3,0,11,68,-1,-1,-1,-1,2,50,192,52,1]
["FJ Co. Team Ldr. / MP40",317,16,1,0,10,3,4,28,100,3,0,11,-1,-1,-1,-1,-1,1,50,192]
["FJ Co. Cdr. / P38",318,11,1,0,10,11,11,28,100,3,0,27,68,-1,-1,-1,-1,2,50,24,52,1]
["FJ Co. Cdr. Ldr. / MP40",319,11,1,0,10,11,11,28,100,3,0,11,68,-1,-1,-1,-1,2,50,192,52,1]
["FJ Gun Cdr. / 98k",320,2,1,0,10,3,4,28,100,3,0,10,-1,-1,-1,-1,-1,1,47,80]
["FJ Gun Cdr. / P38",321,2,1,0,10,3,4,28,100,3,0,27,-1,-1,-1,-1,-1,1,50,24]
["FJ AT Gunner / P38",{"$f":"B324+1","v":322},1,1,0,10,1,2,28,100,3,0,27,-1,-1,-1,-1,-1,1,50,24]
["FJ AT Asst. Gunner / P38",323,1,1,0,10,0,1,28,100,3,0,27,-1,-1,-1,-1,-1,1,50,24]
["FJ Loader / P38",324,3,1,0,10,0,1,28,100,3,0,27,-1,-1,-1,-1,-1,1,50,24]
["SS Platoon Commander / MP40 P38",325,12,1,0,11,9,10,28,100,3,0,11,27,25,68,-1,-1,4,50,192,13,24,51,2,52,1]
["SS Rifle Grenadier / 98k w/GL",326,29,1,0,11,0,1,28,100,3,0,49,96,-1,-1,-1,-1,3,47,80,54,3,53,2]
["Panzerjäger (Grenade Bundle)",327,20,1,0,8,1,2,28,100,3,0,10,102,-1,-1,-1,-1,0,47,80,56,1]
["Panzerjäger (Smoke)",328,20,1,0,8,0,1,28,100,3,0,11,25,68,-1,-1,-1,0,50,192,51,2,52,1]
["Asst. Leader Pvt / MP40",329,15,1,0,8,1,2,28,100,3,0,11,25,-1,-1,-1,-1,2,50,192,51,2]
["Asst. Leader / G43",330,15,1,0,8,3,4,28,100,3,0,79,25,-1,-1,-1,-1,3,47,100,51,2]
["Platoon Commander NCO - / MP40",331,12,1,0,8,5,5,28,100,3,0,11,25,68,-1,-1,-1,3,50,192,51,2,52,1]
["SS Sniper G43",332,28,1,0,11,1,2,28,100,3,0,75,-1,-1,-1,-1,-1,1,47,80]
["FJ Sniper G43",333,28,1,0,10,1,2,28,100,3,0,75,-1,-1,-1,-1,-1,1,47,80]
["GE Replacement",334,27,1,0,8,0,0,28,100,0,0,-1,-1,-1,-1,-1,-1,0]
["(RESERVED)",335,0,1,0,0,0,0,0,0,0,0,-1,-1,-1,-1,-1,-1,0]
["(RESERVED)",336,0,1,0,0,0,0,0,0,0,0,-1,-1,-1,-1,-1,-1,0]
["(RESERVED)",337,0,1,0,0,0,0,0,0,0,0,-1,-1,-1,-1,-1,-1,0]
["(RESERVED)",338,0,1,0,0,0,0,0,0,0,0,-1,-1,-1,-1,-1,-1,0]
["(RESERVED)",339,0,1,0,0,0,0,0,0,0,0,-1,-1,-1,-1,-1,-1,0]
["(RESERVED)",340,0,1,0,0,0,0,0,0,0,0,-1,-1,-1,-1,-1,-1,0]
["(RESERVED)",341,0,1,0,0,0,0,0,0,0,0,-1,-1,-1,-1,-1,-1,0]
["(RESERVED)",342,0,1,0,0,0,0,0,0,0,0,-1,-1,-1,-1,-1,-1,0]
["(RESERVED)",343,0,1,0,0,0,0,0,0,0,0,-1,-1,-1,-1,-1,-1,0]
["(RESERVED)",344,0,1,0,0,0,0,0,0,0,0,-1,-1,-1,-1,-1,-1,0]
["(RESERVED)",345,0,1,0,0,0,0,0,0,0,0,-1,-1,-1,-1,-1,-1,0]
["(RESERVED)",346,0,1,0,0,0,0,0,0,0,0,-1,-1,-1,-1,-1,-1,0]
["(RESERVED)",347,0,1,0,0,0,0,0,0,0,0,-1,-1,-1,-1,-1,-1,0]
["(RESERVED)",348,0,1,0,0,0,0,0,0,0,0,-1,-1,-1,-1,-1,-1,0]
["(RESERVED)",349,0,1,0,0,0,0,0,0,0,0,-1,-1,-1,-1,-1,-1,0]
["(RESERVED)",350,0,1,0,0,0,0,0,0,0,0,-1,-1,-1,-1,-1,-1,0]
["(RESERVED)",351,0,1,0,0,0,0,0,0,0,0,-1,-1,-1,-1,-1,-1,0]
["(RESERVED)",352,0,1,0,0,0,0,0,0,0,0,-1,-1,-1,-1,-1,-1,0]
["(RESERVED)",353,0,1,0,0,0,0,0,0,0,0,-1,-1,-1,-1,-1,-1,0]
["(RESERVED)",354,0,1,0,0,0,0,0,0,0,0,-1,-1,-1,-1,-1,-1,0]
["(RESERVED)",355,0,1,0,0,0,0,0,0,0,0,-1,-1,-1,-1,-1,-1,0]
["(RESERVED)",356,0,1,0,0,0,0,0,0,0,0,-1,-1,-1,-1,-1,-1,0]
["IT Replacement",357,27,2,0,16,0,0,28,100,0,0,-1,-1,-1,-1,-1,-1,0]
["IT Asst. Leader Sgt / M91 Carbine",358,15,2,0,16,4,4,28,100,3,0,53,85,-1,-1,-1,-1,2,92,60,97,2]
["IT Team Leader Cpl / M91",359,16,2,0,16,2,2,28,100,3,0,52,85,-1,-1,-1,-1,2,92,60,97,2]
["IT Team Leader Cpl+ / M91",360,16,2,0,16,3,3,28,100,3,0,52,85,-1,-1,-1,-1,2,92,60,97,2]
["IT Asst. Leader Sgt / M91",361,15,2,0,16,4,4,28,100,3,0,52,85,-1,-1,-1,-1,2,92,60,97,2]
["IT Squad Leader Sgt / M91",362,14,2,0,16,4,4,28,100,3,0,52,85,-1,-1,-1,-1,2,92,60,97,2]
["IT Messenger / M91",363,20,2,0,16,0,0,28,100,3,0,52,85,-1,-1,-1,-1,2,92,60,97,2]
["IT Company Cdr. / Baretta 34",364,11,2,0,16,11,11,28,100,3,0,62,86,-1,-1,-1,-1,2,95,21,98,1]
["IT Rifleman / M91",365,20,2,0,16,0,0,28,100,3,0,52,85,-1,-1,-1,-1,2,92,60,97,2]
["IT Breda Mod 37 Gunner Cpl / Revolver",366,1,2,0,16,2,3,28,100,3,0,55,61,-1,-1,-1,-1,2,93,2400,96,18]
["IT Breda Mod 30 Gunner Cpl / Revolver",367,1,2,0,16,2,3,28,100,3,0,54,61,-1,-1,-1,-1,2,92,300,96,18]
["IT Gunner / Revolver",368,1,2,0,16,0,1,28,100,3,0,61,-1,-1,-1,-1,-1,1,96,18]
["IT Gunner / M91",369,1,2,0,16,2,3,28,100,3,0,52,-1,-1,-1,-1,-1,1,92,60]
["IT Asst. Gunner / Revolver",370,5,2,0,16,0,0,28,100,3,0,61,-1,-1,-1,-1,-1,1,96,18]
["IT Asst. Gunner / M91",371,5,2,0,16,0,0,28,100,3,0,52,-1,-1,-1,-1,-1,1,92,60]
["IT Loader / Revolver",372,3,2,0,16,0,1,28,100,3,0,61,-1,-1,-1,-1,-1,1,96,18]
["IT Loader / M91",373,3,2,0,16,0,1,28,100,3,0,52,-1,-1,-1,-1,-1,2,92,60]
["IT Asst. Loader / Revolver",374,6,2,0,16,0,0,28,100,3,0,61,-1,-1,-1,-1,-1,1,96,18]
["IT Asst. Loader / M91",375,6,2,0,16,0,0,28,100,3,0,52,-1,-1,-1,-1,-1,2,92,60]
["IT Gun Cdr. / Pistol",376,28,2,0,16,4,5,28,100,3,0,62,-1,-1,-1,-1,-1,1,95,21]
["IT Ammo Bearer / M91",377,8,2,0,16,0,0,28,100,3,0,52,85,-1,-1,-1,-1,2,92,60,97,2]
["IT Team Leader Cpl / M91 Carbine",378,16,2,0,16,2,3,28,100,3,0,53,85,-1,-1,-1,-1,3,92,60,97,2]
["IT Asst. Leader Cpl / M91",379,15,2,0,16,2,3,28,100,3,0,52,85,-1,-1,-1,-1,2,92,60,97,2]
["IT Asst. Leader Cpl / M91 Carbine",380,15,2,0,16,2,3,28,100,3,0,53,85,-1,-1,-1,-1,2,92,60,97,2]
["IT Squad Leader Sgt / M91",381,14,2,0,16,5,5,28,100,3,0,52,85,-1,-1,-1,-1,2,92,60,97,2]
["IT Squad Leader Sgt / M91 Carbine",382,14,2,0,16,5,5,28,100,3,0,53,85,-1,-1,-1,-1,2,92,60,97,2]
["IT Platoon Cdr. / Baretta 34",383,12,2,0,16,9,10,28,100,3,0,62,86,-1,-1,-1,-1,2,95,21,98,1]
["IT 45mm Mortar Gunner Cpl",384,16,2,0,16,2,3,28,100,3,0,63,61,-1,-1,-1,-1,2,101,30,96,18]
["IT 81mm Mortar Gunner Cpl",385,16,2,0,16,2,3,28,100,3,0,43,61,-1,-1,-1,-1,3,109,21,111,3,96,18]
["IT 20mm ATR Gunner",{"$f":"B388+1","v":386},1,2,0,16,0,1,28,100,3,0,60,61,-1,-1,-1,-1,2,99,20,96,18]
["IT Tank Commander / Baretta",387,2,2,0,18,4,5,28,100,3,0,62,-1,-1,-1,-1,-1,4,95,21]
["IT Tank Pltn. Commander / Baretta",388,12,2,0,18,9,10,28,100,3,0,62,-1,-1,-1,-1,-1,1,95,21]
["IT Tank Gunner / Baretta",389,1,2,0,18,2,3,28,100,3,0,62,-1,-1,-1,-1,-1,1,95,21]
["IT Tank Driver / Baretta",390,0,2,0,18,2,3,28,100,3,0,62,-1,-1,-1,-1,-1,1,95,21]
["IT Tank Radio Operator / Baretta",391,4,2,0,18,0,1,28,100,3,0,62,-1,-1,-1,-1,-1,1,95,21]
["IT Tank Asst. Driver / Baretta",392,7,2,0,18,0,1,28,100,3,0,62,-1,-1,-1,-1,-1,1,95,21]
["IT Tank Loader / Baretta",393,3,2,0,18,0,1,28,100,3,0,62,-1,-1,-1,-1,-1,1,95,21]
["IT Scout / M91 Carbine",394,24,2,0,16,0,1,28,100,3,0,53,85,-1,-1,-1,-1,2,92,60,97,2]
["IT Sniper / M91",395,28,2,0,16,0,1,28,100,3,0,52,-1,-1,-1,-1,-1,1,92,60]
["IT Fiat Mod 35 Gunner / Revolver",396,1,2,0,16,2,3,28,100,3,0,101,61,-1,-1,-1,-1,2,93,2000,96,18]
["IT Bers Company Cdr. / Baretta 34",{"$f":"B399+1","v":397},11,2,0,17,11,11,28,100,3,0,62,86,-1,-1,-1,-1,2,95,21,98,1]
["IT Bers Platoon Cdr. / Baretta 34",{"$f":"B400+1","v":398},12,2,0,17,9,10,28,100,3,0,62,86,-1,-1,-1,-1,2,95,21,98,1]
["IT Squad Leader Sgt / M91",399,14,2,0,17,5,5,28,100,3,0,52,85,-1,-1,-1,-1,2,92,60,97,2]
["IT Bers Asst. Leader Sgt / M91",400,15,2,0,17,4,4,28,100,3,0,52,85,-1,-1,-1,-1,2,92,60,97,2]
["IT Bers Team Leader Cpl / M91",401,16,2,0,17,2,2,28,100,3,0,52,85,-1,-1,-1,-1,2,92,60,97,2]
["IT Bers Asst. Leader Cpl / M91",402,15,2,0,17,2,3,28,100,3,0,52,85,-1,-1,-1,-1,2,92,60,97,2]
["IT Bers Breda Mod 37 Gunner Cpl / Revolver",403,1,2,0,17,2,3,28,100,3,0,55,61,-1,-1,-1,-1,2,93,2400,96,18]
["IT Bers Breda Mod 30 Gunner Cpl / Revolver",404,1,2,0,17,2,3,28,100,3,0,54,61,-1,-1,-1,-1,2,92,300,96,18]
["IT Bers Gunner Cpl / M91",405,1,2,0,17,2,3,28,100,3,0,52,-1,-1,-1,-1,-1,1,92,60]
["IT Bers Messenger / M91",406,20,2,0,17,0,0,28,100,3,0,52,85,-1,-1,-1,-1,2,92,60,97,2]
["IT Bers Rifleman / M91",407,20,2,0,17,0,0,28,100,3,0,52,85,-1,-1,-1,-1,2,92,60,97,2]
["IT Bers Asst. Gunner / M91",408,5,2,0,17,0,0,28,100,3,0,52,-1,-1,-1,-1,-1,1,92,60]
["IT Bers Loader / M91",409,3,2,0,17,0,1,28,100,3,0,52,-1,-1,-1,-1,-1,2,92,60]
["IT Bers Asst. Loader / M91",410,6,2,0,17,0,0,28,100,3,0,52,-1,-1,-1,-1,-1,2,92,60]
["IT Bers Ammo Bearer / M91",411,8,2,0,17,0,0,28,100,3,0,52,85,-1,-1,-1,-1,2,92,60,97,2]
["IT Bers 20mm ATR Gunner",412,1,2,0,17,0,1,28,100,3,0,60,61,-1,-1,-1,-1,2,99,20,96,18]
[]
[]
[]
[]
[]
[]
[]
[]
[]
[]
["US Rifle Plt",null,"Basic",0,null,0,0,0,28,100,3,0,"Garand",-1,null,-1,-1,-1,3,".30ball",null,".30AP",null,"frag grenade"]
[null,null,"Rifleman",0,null,0,0,1,28,100,3,0,"Garand","Grenades",null,-1,-1,-1,3,".30ball",null,".30AP",null,"frag grenade"]
[null,null,"Automatic Rifleman",0,null,0,0,1,28,100,3,0,"BAR","Grenades",null,-1,-1,-1,3,".30ball",null,".30AP",null,"frag grenade"]
[null,null,"Asst. Auto Rifleman",0,null,0,0,1,28,100,3,0,"Garand","Grenades",null,-1,-1,-1,3,".30ball",null,".30AP",null,"Frag Grenade"]
[null,null,"Ammo Bearer",0,null,0,0,1,28,100,3,0,"Garand","Grenades",null,-1,-1,-1,3,".30ball",null,".30AP",null,"Frag Grenade"]
["Rifle Grenadier 42",null,"Rifle Grenadier",0,null,0,0,1,28,100,3,0,"M1903","GL",null,"Grenades",-1,-1,4,".30ball",null,".30AP",null,"AT Grenade",null,"Frag Grenade"]
["Rifle Grenadier 44",null,"Rifle Grenadier",0,null,0,0,1,28,100,3,0,"Garand","GL",null,"Grenades",-1,-1,4,".30ball",null,".30AP",null,"AT Grenade",null,"Frag Grenade"]
["Asst. Squad Leader 42",null,"Asst. Leader",0,null,0,2,2,28,100,3,0,"Garand","Grenades",null,-1,-1,-1,3,".30ball",null,".30AP",null,"frag grenade"]
["Squad Leader 42",null,"Squad Leader",0,null,0,3,3,28,100,3,0,"Garand","Grenades",null,-1,-1,-1,3,".30ball",null,".30AP",null,"frag grenade",null,"Smoke Grenade"]
["Asst. Squad Leader 44",null,"Asst. Leader",0,null,0,3,3,28,100,3,0,"Garand","GL",null,"Grenades",-1,-1,4,".30ball",null,".30AP",null,"AT Grenade",null,"Frag Grenade"]
["Squad Leader 44",null,"Squad Leader",0,null,0,4,4,28,100,3,0,"Garand","Grenades",null,-1,-1,-1,3,".30ball",null,".30AP",null,"frag grenade",null,"Smoke Grenade"]
[null,null,"Messenger",0,null,0,0,1,28,100,3,0,"Garand","Grenades",null,-1,-1,-1,3,".30ball",null,".30AP",null,"frag grenade"]
["Platoon Sergeant 42",null,"Platoon Sergeant",0,null,0,4,4,28,100,3,0,"Garand","Grenades",null,-1,-1,-1,3,".30ball",null,".30AP",null,"frag grenade"]
["Platoon Sergeant 44",null,"Platoon Sergeant",0,null,0,5,5,28,100,3,0,"Garand","Grenades",null,-1,-1,-1,3,".30ball",null,".30AP",null,"frag grenade"]
[null,null,"Platoon Commander",0,null,0,9,10,28,100,3,0,"Carbine","Pistol",null,"Grenades",-1,-1,3,".30ball",null,".45ball",null,"frag grenade",null,"Smoke Grenade"]
[]
["60mm Mrtr",null,"Gunner",0,null,0,0,1,28,100,3,0,"60mm Mtr","Pistol",null,-1,-1,-1,2,"60mm HE",null,".45ball"]
[".30 MMG",null,"Gunner",0,null,0,0,1,28,100,3,0,".30 MMG","Pistol",null,-1,-1,-1,3,".30ball",null,".30ap",null,".45ball"]
["Mrt/MMG",null,"Asst. Gunner",0,null,0,0,1,28,100,3,0,"Pistol",-1,null,-1,-1,-1,1,".45 ball"]
["Mtr SL 42",null,"Squad Leader 42",0,null,0,2,2,28,100,3,0,"Carbine","Grenades",null,-1,-1,-1,2,".30ball",null,"frag grenade"]
["Mtr SL 44",null,"Squad Leader 44",0,null,0,3,3,28,100,3,0,"Garand","Grenades",null,-1,-1,-1,3,".30ball",null,".30AP",null,"frag grenade"]
["Mtr SctL 42",null,"Section Leader 42",0,null,0,3,3,28,100,3,0,"Carbine","Grenades",null,-1,-1,-1,2,".30ball",null,"frag grenade"]
["Mtr SctL 44",null,"Section Leader 44",0,null,0,4,4,28,100,3,0,"Garand","Grenades",null,-1,-1,-1,3,".30ball",null,".30AP",null,"frag grenade"]
["MMG",null,"Squad Leader 42",0,null,0,2,2,28,100,3,0,"Carbine","Grenades",null,-1,-1,-1,2,".30ball",null,"Frag Grenade"]
["MMG",null,"Squad Leader 44",0,null,0,3,3,28,100,3,0,"Garand","GL",null,"Grenades",-1,-1,4,".30ball",null,".30AP",null,"AT Grenade",null,"Frag Grenade"]
["MMG",null,"Section Leader 42",0,null,0,3,3,28,100,3,0,"Carbine","Grenades",null,-1,-1,-1,2,".30ball",null,"Frag Grenade"]
["MMG",null,"Section Leader 44",0,null,0,4,4,28,100,3,0,"Garand","GL",null,"Grenades",-1,-1,4,".30ball",null,".30AP",null,"AT Grenade",null,"Frag Grenade"]
["Wpn Plt",null,"Driver 42",0,null,0,0,1,28,100,3,0,"BAR",-1,null,-1,-1,-1,3,".30ball",null,".30AP"]
["Wpn Plt",null,"Driver 44",0,null,0,0,1,28,100,3,0,"Garand","GL",null,-1,-1,-1,3,".30ball",null,".30AP",null,"AT Grenade"]
["Wpn Plt",null,"Ammo Bearer",0,null,0,0,1,28,100,3,0,"Carbine","Grenades",null,-1,-1,-1,2,".30ball",null,"frag grenade"]
["Wpns / Coy",null,"Messenger",0,null,0,0,1,28,100,3,0,"Carbine","Grenades",null,-1,-1,-1,2,".30ball",null,"frag grenade"]
["Wpn Plt",null,"Platoon Sergeant 42",0,null,0,4,4,28,100,3,0,"Carbine","Grenades",null,-1,-1,-1,2,".30ball",null,"frag grenade"]
["Wpn Plt",null,"Platoon Sergeant 44",0,null,0,5,5,28,100,3,0,"Carbine","Grenades",null,-1,-1,-1,2,".30ball",null,"frag grenade"]
["Wpn Plt",null,"Platoon Commander",0,null,0,10,10,28,100,3,0,"Carbine","Pistol",null,"Grenades",-1,-1,3,".30ball",null,".45ball",null,"frag grenade",null,"Smoke Grenade"]
[]
["Co HQ",null,"Comms Sergeant 42",0,null,0,3,3,28,100,3,0,"Garand","Grenades",null,-1,-1,-1,4,".30ball",null,".30AP",null,"grenades"]
["Co HQ",null,"Comms Sergeant 44",0,null,0,4,4,28,100,3,0,"Garand","GL",null,"Grenades",-1,-1,4,".30ball",null,".30AP",null,"AT Grenade"]
["Co HQ",null,"First Sergeant 42",0,null,0,4,4,28,100,3,0,"Carbine","Grenades",null,-1,-1,-1,2,".30ball",null,"frag grenade"]
["Co HQ",null,"First Sergeant 44",0,null,0,5,5,28,100,3,0,"Carbine","Grenades",null,-1,-1,-1,2,".30ball",null,"frag grenade"]
["Co HQ",null,"Company Commander",0,null,0,11,11,28,100,3,0,"Carbine","Pistol",null,"Grenades",-1,-1,3,".30ball",null,".45ball",null,"frag grenade",null,"Smoke Grenade"]
[]
[null,null,"Plt: 1 x M1903A4"]
[null,null,"Coy: 5 x bazooka, 6 x SMG, 6 x BAR, 6 x SCR 536"]
[]
["Hvy Wpn MG",null,"Gunner",0,null,0,0,1,28,100,3,0,".30 HMG","Pistol",null,-1,-1,-1,3,".30ball",null,".30ap",null,".45ball"]
[null,null,"Asst. Gunner",0,null,0,0,1,28,100,3,0,"Pistol",-1,null,-1,-1,-1,1,".45 ball"]
[null,null,"Ammo Bearer",0,null,0,0,1,28,100,3,0,"Carbine","Grenades",null,-1,-1,-1,2,".30ball",null,"frag grenade"]
[null,null,"Driver 42A",0,null,0,0,1,28,100,3,0,"Carbine",-1,null,-1,-1,-1,1,".30ball"]
[null,null,"Driver 44",0,null,0,0,1,28,100,3,0,"Carbine","GL",null,-1,-1,-1,2,".30ball",null,"AT Grenade"]
[null,null,"Squad Leader 42",0,null,0,2,2,28,100,3,0,"M1903","GL",null,"Grenades",-1,-1,4,".30ball",null,".30AP",null,"AT Grenade",null,"Frag Grenade"]
[null,null,"Squad Leader 44",0,null,0,3,3,28,100,3,0,"Garand","GL",null,"Grenades",-1,-1,4,".30ball",null,".30AP",null,"AT Grenade",null,"Frag Grenade"]
[]
["Bn Pio",null,"Pioneer",0,null,0,0,1,28,100,3,0,"Carbine","Grenades",null,-1,-1,-1,2,".30ball",null,"frag grenade"]
[null,null,"Squad Leader",0,null,0,2,2,28,100,3,0,"Carbine","Grenades",null,-1,-1,-1,2,".30ball",null,"frag grenade"]
[]
["Bn AT",null,"Gunner 42","Carbine",null,0]
[null,null,"Gunner 44","Cpl, Pistol",null,0]
[null,null,"Asst. Gunner 42","Carbine",null,0]
[null,null,"Asst. Gunner 44","Pistol",null,0]
[null,null,"Ammo Bearer","Carbine",null,0]
[null,null,"Driver","Rifle",null,0]
[null,null,"Driver 44","Rifle w/ GL",null,0]
[null,null,"Squad Leader","Cpl w/ rifle",null,0]
[null,null,"Squad Leader 44","Staff Sgt w/ rifle",null,0]
[]
["Rgt AT Mine Sqd",null,"42 / Cpl plus 7 Pvt with rifles"]
[]
[]
["Rgt AT Gun Sqd",null,"42 / Cpl, gunner, asst. gunner, ammo bearer, driver. 1 rifle, 5 carbine, 3/4 ton.",null,null,null,null,null,null,null,null,null,null,null,"Hey Steve, not sure what to do with these entries."]
[null,null,"44 / ",null,null,null,null,null,null,null,null,null,null,null,"Break them out into individual soldiers?"]
[null,null,null,null,null,null,null,null,null,null,null,null,null,null,"Any grenades or any other details available?"]
["Rgt Cn 75 (42)",null,"5 man crew, 8 men assigned? Sgt, Cpl gunner, 5 pvts.  BAR, M1903/GL, rifle, carbines",null,null,null,null,null,null,null,null,null,null,null,"Perhaps they're already represented?"]
["Rgt Cn 105 (42)",null,"7 man crew, 8 men assigned? Same as above"]
[]
[]
[]
[]
[]
[]
[]
[]
["Tank Co",null,"Crewman",0,null,1,0,1,null,null,1,0,"Pistol",-1,null,-1,-1,-1,1,".45 ball"]
[null,null,"Gunner",0,null,1,2,2,null,null,1,0,"Pistol",-1,null,-1,-1,-1,1,".45 ball"]
[null,null,"Commander",0,null,1,3,3,null,null,1,0,"Pistol",-1,null,-1,-1,-1,1,".45 ball"]
["(Tank #1)",null,"Platoon Commander",0,null,1,"2lt","1lt",null,null,1,0,"Pistol",-1,null,-1,-1,-1,1,".45 ball"]
["(Tank #4)",null,"Platoon Sergeant",0,null,1,4,4,null,null,1,0,"Pistol",-1,null,-1,-1,-1,1,".45 ball"]
[]
["TD Co",null,"Crewman",0,null,0,0,1,null,null,1,0,"Pistol",-1,null,-1,-1,-1,1,".45 ball"]
[null,null,"Gunner",0,null,0,2,2,null,null,1,0,"Pistol",-1,null,-1,-1,-1,1,".45 ball"]
[null,null,"Commander",0,null,0,3,3,null,null,1,0,"Pistol",-1,null,-1,-1,-1,1,".45 ball"]
[]
[]
["(notes)",null,"Position Name","Nation",null,"Uniform","Min Rank","Max Rank","Loc0 Chance","Loc1 Chance","Loc0 Armor","Loc1 Armor","Weapon0","Weapon1","Weapon 2","Weapon3","Weapon4","Weapon5","Num Ammo Pools","Ammo0 Type","Ammo0 Rounds","Ammo1 Type","Ammo1 Rounds","Ammo2 Type","Ammo2 Rounds","Ammo3 Type","Ammo3 Rounds","Ammo4 Type","Ammo4 Rounds","etc"]
["IT Squad 41",null,"Rifleman",2,null,0,0,1,28,100,3,0,"Carcano","grenade"]
[null,null,"Ammo Bearer",2,null,0,0,1,28,100,3,0,"Carcano","grenade"]
[null,null,"Loader",2,null,0,0,1,28,100,3,0,"Carcano","grenade"]
[null,null,"Gunner",2,null,0,2,2,28,100,3,0,"LMG","Pistol"]
[null,null,"Asst. Leader",2,null,0,2,3,28,100,3,0,"Carcano","grenade"]
[null,null,"Squad Leader",2,null,0,4,5,28,100,3,0,"Carbine","grenade"]
[null,null,"Orderly",2,null,0,0,1,28,100,3,0,"Carcano","grenade"]
[null,null,"Platoon Commander",2,null,0,9,10,28,100,3,0,"pistol","grenade"]
[]
[]
[]
[]
[]
[]
[]
[]
[]
[]
[]
[]
[]
[]
[]
[]
[]
["(notes)",null,"Position Name","Nation","Branch","Uniform","Min Rank","Max Rank","Loc0 Chance","Loc1 Chance","Loc0 Armor","Loc1 Armor","Weapon0","Weapon1","Weapon 2","Weapon3","Weapon4","Weapon5","Num Ammo Pools","Ammo0 Type","Ammo0 Rounds","Ammo1 Type","Ammo1 Rounds","Ammo2 Type","Ammo2 Rounds","Ammo3 Type","Ammo3 Rounds","Ammo4 Type","Ammo4 Rounds","etc"]
["GE Rifle Sqd 42",null,"Rifleman",1,0,8,0,1,28,100,3,0,10,25,-1,-1,-1,-1,2,12,80,31,2]
[null,null,"Machine Gunner",1,0,8,0,1,28,100,3,0,12,27,-1,-1,-1,-1,2,12,1250,13,16]
[null,null,"Asst. Leader",1,0,8,1,2,28,100,3,0,10,25,-1,-1,-1,-1,2,12,80,31,2]
[null,null,"Squad Leader",1,0,8,3,5,28,100,3,0,11,25,-1,-1,-1,-1,2,13,192,31,2]

{"sheet":"WEAPONS","index":11,"n_rows":272,"n_cols":42,"rows_kept":272,"cut":false,"hidden":false,"merged":[]}
["Index","NAME","Game Object Name","ICON (index)","SOUND NAME","WEAPON TYPE  (0=H2H, 1=THROWN, 2=PISTOL, 3=RIFLE, 4=SMG, 5=LMG, 6=AT, 7=FLAME, 8=SMOKE, 9=MG, 10=MORTAR, 11=LARGE GUN,12=Grenade Launcher)","VALID TARGETS (0 = None, 1 = Personnel, 2 = Vehicle, 3 = Vehicle & Personnel, 4 = Terrain, 5 = Personnel & Terrain, 6 = Vehicle & Terrain, 7 = All)","MOUNT","SETUP TIME (s)","WEAPON ACTION (0 = single shot, 1 = manual load, 2 = autoload, 3 = automatic)","LOAD TIME (s)","RELOAD TIME (s)","FIRE TIME (s) Should match anim time","ROUNDS PER CLIP","WEAPON WEIGHT (kg)","CALIBER (mm)","Min Range","Max Range","Lateral Dispersion (std.Dev.) Mils","Vertical Dispersion (sd) mils","VELOCITY MULTIPLIER","CYCLICAL ROF (rnds/min) - use 0 for non-autofire weapons","COOL RATE Reliability re-gain per second","HEAT RATE Reliability decrease per round fired","RELIABILITY (0-1000)","ASSAULT FIRE? (0/1)","BAYONET? (0/1)","BACK BLAST? (0/1)","Secondary Weapon","AMMO Count (number of ammo index entries to follow)","AMMO TYPE 0","AMMO TYPE 1","AMMO TYPE 2","AMMO TYPE 3","AMMO TYPE 4","AMMO TYPE 5","AMMO TYPE 6","AMMO TYPE 7"]
["COUNT",109]
[0,".30 Cal. Rifle M1 \"Garand\"","M1A1 Garand",14,"M1Garand",3,7,0,0,2,0,8,1,8,4.3,7.6,2,500,1.2,1.2,1,0,0,0,1000,1,1,0,-1,2,9,10]
[1,".30 Cal. Automatic Rifle M1918A2 \"BAR\"","BAR MG",5,"BAR",5,7,0,1,3,0,10,1,20,8.8000000000000007,7.6,2,600,1.2,1.2,1,500,1,3,1000,1,0,0,-1,2,9,10]
[2,".30 Cal. Machine Gun M1919A5 (Bow)","(None)",35,"MG1919A5Bow",9,7,0,0,3,0,15,1,250,0,7.6,3,1200,1,1,1,500,3,3,1000,0,0,0,-1,2,9,10]
[3,".30 Cal. Machine Gun M1919A5 (Coax)","(None)",35,"MG1919A5Coax",9,7,0,0,3,0,15,1,250,0,7.6,3,1200,1,1,1,500,3,3,1000,0,0,0,-1,2,9,10]
[4,"37mm Gun M6","(None)",22,"Gun37mm",11,7,0,0,0,0,6,1,1,0,37,3,2000,0.23,0.35,1,0,0,0,1000,0,0,0,-1,3,15,16,17]
[5,"75mm Howitzer M1A1","(None)",27,"Gun75mmShort",11,7,0,0,0,0,10,1,1,0,75,3,9000,0.35,0.52,1,0,0,0,1000,0,0,0,-1,4,26,27,28,29]
[6,"75mm Gun M3","(None)",26,"Gun75mmM3",11,7,0,0,0,0,9,1,1,0,75,3,2000,0.23,0.35,1,0,0,0,1000,0,0,0,-1,4,25,26,28,29]
[7,"3-inch Gun M7","(None)",24,"Gun76mm",11,7,0,0,0,0,9,1,1,0,76.2,3,3000,0.23,0.35,1,0,0,0,1000,0,0,0,-1,3,30,31,32]
[8,"105mm Howitzer M3","(None)",20,"Gun105mm",11,7,0,0,0,0,12,1,1,0,106,4,10000,0.35,0.52,1,0,0,0,1000,0,0,0,-1,3,39,40,41]
[9,"57mm Gun M1","(None)",23,"Gun57mm",11,7,0,0,0,0,8,1,1,0,57,3,2000,0.23,0.35,1,0,0,0,1000,0,0,0,-1,2,19,20]
[10,"7.92mm Rifle K98k","M1A1 Garand",29,"Mauser98k",3,7,0,0,1,1.5,10,1,5,4.0999999999999996,7.92,2,600,0.8,0.8,1,0,0,0,1000,1,1,0,-1,1,47]
[11,"9mm Submachine Gun MP40","MP40",47,"MP40",4,7,0,0,3,0,10,1,32,4,9,1,100,1.5,1.5,1,500,1,3,1000,1,0,0,-1,1,50]
[12,"7.92mm Light Machine Gun leMG 34","MG34",44,"MG34",5,7,0,0,3,0,15,1,50,12.1,7.92,3,800,1,1,1,900,3,3,1000,0,0,0,-1,2,47,48]
[13,"7.92mm Machine Gun MG34 (Bow)","(None)",45,"MG34Bow",9,7,0,0,3,0,15,1,250,0,7.92,3,1200,1,1,1,900,3,3,1000,0,0,0,-1,2,47,48]
[14,"7.92mm Machine Gun MG34 (Coax)","(None)",45,"MG34Coax",9,7,0,0,3,0,15,1,250,0,7.92,3,1200,1,1,1,900,3,3,1000,0,0,0,-1,2,47,48]
[15,"2cm Gun KwK 30","(None)",0,"Gun20mmFlak",11,7,0,0,3,0,10,1,10,0,20,3,2000,0.23,0.35,1,300,2,8,1000,0,0,0,-1,2,59,60]
[16,"3.7cm Gun KwK 36","(None)",22,"Gun37mm",11,7,0,0,0,0,6,1,1,0,37,3,2000,0.23,0.35,1,0,0,0,1000,0,0,0,-1,2,62,63]
[17,"7.5cm Gun KwK 37","(None)",27,"Gun75mmShort",11,7,0,0,0,0,9,1,1,0,75,3,2000,0.35,0.52,1,0,0,0,1000,0,0,0,-1,4,70,71,72,73]
[18,"7.5cm Gun KwK 40 (L43)","(None)",24,"Gun75mmPak40",11,7,0,0,0,0,9,1,1,0,75,4,2000,0.23,0.35,0.99,0,0,0,1000,0,0,0,-1,3,74,75,76]
[19,"7.5cm Gun KwK 42","(None)",25,"Gun75mmL70",11,7,0,0,0,0,10,1,1,0,75,4,3000,0.17,0.26,1,0,0,0,1000,0,0,0,-1,2,77,78]
[20,"8.8cm Gun KwK 36","(None)",28,"Gun88mm",11,7,0,0,0,0,12,1,1,0,88,4,3000,0.17,0.26,1,0,0,0,1000,0,0,0,-1,2,83,84]
[21,".30 Cal. Rifle M1 w/ M7 Grenade Launcher","M1A1 Garand",16,"M1Garand",3,7,0,0,2,0,8,1,8,4.3,7.6,2,500,1.2,1.2,1,0,0,0,1000,1,1,0,97,2,9,10]
[22,"8mm Machine Gun Breda Mod 38 (Bow)","(None)",45,"BredaMMG",9,7,0,0,3,0,10,1,24,0,8,3,1200,1,1,1,450,1,3,1000,0,0,0,-1,2,93,94]
[23,"47mm Gun 47/32 M35","(None)",23,"Gun50mm",11,7,0,0,0,0,8,1,1,0,47,3,2000,0.23,0.35,1,0,0,0,1000,0,0,0,-1,2,103,104]
[24,"Hand Grenade Mk.II","(None)",64,"GrenadeThrow",1,6,0,0,0,0,5,2,1,0,57,10,30,64,64,1,0,0,0,1000,0,0,0,-1,1,5]
[25,"Hand Grenade StiHdgr 24","(None)",61,"GrenadeThrow",1,6,0,0,0,0,5,2,1,0,57,10,30,64,64,1,0,0,0,1000,0,0,0,-1,1,51]
[26,".45 Cal. Pistol M1911A1 \"Colt\"","PISTOL",49,"M1911Pistol",2,7,0,0,2,0,6,1,7,1.1000000000000001,11.4,1,50,3,3,0.88,0,0,0,1000,1,0,0,-1,1,12]
[27,"9mm Pistol Walther P38","PISTOL",66,"WaltherP38",2,7,0,0,2,0,6,1,8,0.8,9,1,50,3,3,0.94,0,0,0,1000,1,0,0,-1,1,50]
[28,"60mm Mortar M2","81mm Mortar",3,"MortarLight",10,4,4,30,0,0,3,1,1,19,60,70,1800,7,14,1,0,0,0,1000,0,0,0,-1,2,23,24]
[29,".30 Cal. Machine Gun M1919A4","30 cal MMG",33,"MG1919A4",9,7,1,10,3,0,15,1,250,20.5,7.6,3,1200,1.2,1.2,1,500,3,3,1000,0,0,0,-1,2,9,10]
[30,".30 Cal. Carbine M1","M1A1 Garand",37,"M1Carbine",3,7,0,0,2,0,8,1,15,2.4,7.6,2,300,1.8,1.8,1,0,0,0,1000,1,0,0,-1,1,11]
[31,".30 Cal. Rifle M1903 w/ M1 Spigot","M1A1 Garand",60,"M1903Rifle",3,7,0,0,1,1.5,10,1,5,4.0999999999999996,7.6,2,600,0.8,0.8,1,0,0,0,1000,1,1,0,32,2,9,10]
[32,"Grenade Launcher M1","M1A1 Garand",60,"GrenadeLauncher",12,6,0,15,0,0,10,1,1,0,50,5,300,6,12,1,0,0,0,1000,0,0,0,-1,2,7,8]
[33,"7.92mm Machine Gun sMG 34","30 cal MMG",55,"MG34",9,7,30,15,3,0,15,1,250,31.1,7.92,3,1600,0.60000000000000009,0.8,1,900,3,3,1000,0,0,0,-1,2,47,48]
[{"$f":"A36+1","v":34},"5cm Gun KwK 38","(None)",23,"Gun50mm",11,7,0,0,0,0,8,1,1,0,50,3,2000,0.23,0.35,1,0,0,0,1000,0,0,0,-1,3,64,65,66]
[35,".50 Cal. Machine Gun AN/M2 (Aircraft)","(None)",35,"M2HMG",9,7,0,0,3,0,0,0,100,28,12.7,3,1800,1,1,1,750,0,0,1000,0,0,0,-1,2,13,14]
[36,"5-inch Rocket Rails (Aircraft)","(None)",63,"Bazooka",6,6,0,0,3,0,0,0,5,0,127,20,1000,6,9,1,120,0,0,1000,0,0,0,-1,1,42]
[37,"500lb Aerial Bomb (Aircraft)","(None)",63,"GrenadeThrow",1,4,0,0,0,0,0,0,1,0,370,0,10000,8,16,1,0,0,0,1000,0,0,0,-1,1,43]
[38,"7.92mm MG17 (Aircraft)","(None)",45,"MG34Bow",9,7,0,0,3,0,15,0,250,0,7.92,3,1200,1,1,1,1200,0,0,1000,0,0,0,-1,2,47,48]
[39,"20mm MG151/20 (Aircraft)","(None)",0,"Gun20mmFlak",11,7,0,0,3,0,10,0,10,0,20,3,2000,1,1,1,600,0,0,1000,0,0,0,-1,1,58]
[40,"SC 250 Aerial Bomb (Aircraft)","(None)",63,"GrenadeThrow",1,4,0,0,0,0,0,0,1,0,370,0,10000,8,16,1,0,0,0,1000,0,0,0,-1,1,88]
[41,"81mm Mortar M1","81mm Mortar",4,"MortarMedium",10,4,5,60,0,0,3.3,1,1,62,81,90,3000,5,10,1,0,0,0,1000,0,0,0,-1,3,36,37,38]
[42,"8cm Mortar GrW 34","81mm Mortar",4,"MortarMedium",10,4,32,60,0,0,3.3,1,1,57,81,60,2400,5,10,1,0,0,0,1000,0,0,0,-1,2,81,82]
[43,"81mm Mortar Mod 35","81mm Mortar",4,"MortarMedium",10,4,71,60,0,0,3.3,1,1,59,81,150,3100,4,18,1,0,0,0,1000,0,0,0,-1,3,109,110,111]
[44,"105mm Howitzer M2A1","(None)",20,"Gun105mm",11,7,10,0,0,0,12,1,1,0,105,4,10000,0.35,0.52,1,0,0,0,1000,0,0,0,-1,3,39,40,41]
[45,"10.5cm Howitzer  leFH18","(None)",20,"Gun105mm",11,7,47,0,0,0,12,1,1,0,105,4,10000,0.35,0.52,1,0,0,0,1000,0,0,0,-1,3,85,86,87]
[46,"75mm Howitzer 75/27 Mod 06","(None)",27,"Gun75mmShort",11,7,77,0,0,0,6,1,1,1015,75,4,6000,0.35,0.52,1,0,0,0,1000,0,0,0,-1,1,108]
[47,".30 Cal. Rifle M1903 \"Springfield\"","M1A1 Garand",58,"M1903Rifle",3,7,0,0,1,1.5,10,1,5,4.0999999999999996,7.6,2,600,0.8,0.8,1,0,0,0,1000,1,1,0,-1,2,9,10]
[48,"Smoke Grenade M8","(None)",65,"GrenadeThrow",1,4,0,0,0,0,5,2,1,0,57,1,30,64,64,1,0,0,0,1000,0,0,0,-1,1,6]
[49,"7.92mm Rifle K98k w/Schiessbecher","M1A1 Garand",30,"Mauser98k",3,7,0,0,1,1.5,10,1,5,4.0999999999999996,7.92,2,600,0.8,0.8,1,0,0,0,1000,1,1,0,96,1,47]
[50,"7.92mm Rifle K98k ZF","M1A1 Garand",31,"Mauser98k",3,7,0,0,1,1.5,10,1,5,4.0999999999999996,7.92,3,800,0.6,0.6,1,0,0,0,1000,0,1,0,-1,1,47]
[{"$f":"A53+1","v":51},".30 Cal. Rifle M1903A4","M1A1 Garand",59,"M1903Rifle",3,7,0,0,1,1.5,10,1,5,4.0999999999999996,7.6,3,800,0.6,0.6,1,0,0,0,1000,0,1,0,-1,2,9,10]
[52,"6.5mm Rifle Mod 91","M1A1 Garand",42,"CarcanoRifle",3,7,0,0,1,1.5,10,1,6,3.8,6.5,2,500,1.8,1.8,1,0,0,0,1000,1,1,0,-1,1,92]
[53,"6.5mm Carbine Mod 91TS","M1A1 Garand",42,"CarcanoRifle",3,7,0,0,1,1.5,10,1,6,3,6.5,2,300,1.8,1.8,1,0,0,0,1000,1,1,0,-1,1,92]
[54,"6.5mm Light Machine Gun Breda Mod 30 ","BAR MG",8,"BredaLMG",5,7,0,0,3,0,15,1,20,10.6,6.5,3,800,1,1,1,450,1,4,1000,0,0,0,-1,1,92]
[55,"8mm Machine Gun Breda Mod 37","30 cal MMG",9,"BredaMMG",9,7,0,0,3,0,15,1,250,38.200000000000003,8,3,1100,1,1,1,450,1,3,1000,0,0,0,-1,2,93,94]
[56,".50 cal. Machine Gun M2 (AA)","(None)",39,"M2HMG",9,7,0,0,3,0,0,1,100,58,12.7,3,1800,1,1,1,450,1,6,1000,0,0,0,-1,2,13,14]
[57,"20mm Gun Breda Mod 35","(None)",0,"Gun20mmFlak",11,7,0,0,3,0,10,1,12,0,20,3,2000,0.30000000000000004,0.4,1,240,2,8,1000,0,0,0,-1,2,99,100]
[58,".30 Cal. Carbine M1A1","M1A1 Garand",36,"M1Carbine",3,7,0,0,2,0,8,1,15,2.4,7.6,2,300,1.8,1.8,1,0,0,0,1000,1,0,0,-1,1,11]
[59,"75mm Howitzer 75/18 Mod 34 ","(None)",21,"Gun75mmShort",11,7,0,0,0,0,12,1,1,0,75,4,9500,0.35,0.52,1,0,0,0,1000,0,0,0,-1,3,105,106,107]
[60,"20mm Anit-Tank Rifle \"S\"","PzB 39",1,"ATR20mm",6,6,0,0,2,0,10,1,10,53.5,20,3,1500,0.30000000000000004,0.4,1,0,0,0,1000,0,0,0,-1,1,99]
[61,"10.35mm Revolver Mod 89","PISTOL",6,"WaltherP38",2,7,0,0,2,0,24,1,6,1,10.35,1,50,64,64,1,0,0,0,1000,1,0,0,-1,1,96]
[62,"9mm Pistol Baretta 34","PISTOL",6,"WaltherP38",2,7,0,0,2,0,6,1,7,0.66,9,1,50,3,3,0.88,0,0,0,1000,1,0,0,-1,1,95]
[63,"45mm Mortar Brixia Mod 35","81mm Mortar",2,"MortarLight",10,4,70,20,1,1,10,1,10,16,45,20,500,7,14,1,0,0,0,1000,0,0,0,-1,2,101,102]
[{"$f":"A66+1","v":64},".30 Cal. Machine Gun M1917A1","30 cal MMG",32,"MG1917A1",9,7,2,15,3,0,15,1,250,47,7.6,3,1200,1.2,1.2,1,600,5,4,1000,0,0,0,-1,2,9,10]
[{"$f":"A67+1","v":65},".45 Cal. Submachine Gun M1A1 Thompson","MP40",62,"ThompsonSMG",4,7,0,0,3,0,8,1,30,4.8,11.4,1,100,1,1,1,700,1,3,1000,1,0,0,-1,1,12]
[{"$f":"A68+1","v":66},"2.36-inch Rocket Launcher M1A1 Bazooka","M1A1 Bazooka",7,"Bazooka",6,6,0,5,0,0,20,1,1,8,57,8,150,8.5,8.5,1,0,0,0,1000,0,0,1,-1,2,21,22]
[67,".30 Cal. Rifle M1C","M1A1 Garand",15,"M1Garand",3,7,0,0,2,0,8,1,8,4.3,7.6,2,700,1,1,1,0,0,0,1000,1,1,0,-1,2,9,10]
[68,"Smoke Grenade NbHdgr 24","(None)",54,"GrenadeThrow",1,4,0,0,0,0,5,2,1,0,57,1,30,64,64,1,0,0,0,1000,0,0,0,-1,1,52]
[{"$f":"A71+1","v":69},"7.92mm Anit-Tank Rifle sPzB 39","PzB 39",50,"ATRifle",6,3,0,10,2,1,10,2,10,11.6,7.92,3,500,0.43,0.71,1,0,0,0,1000,0,0,0,-1,1,49]
[{"$f":"A72+1","v":70},"7.92mm Machine Gun sMG 42","30 cal MMG",56,"MG42",9,7,30,15,3,0,15,1,250,30.6,7.92,3,1200,0.60000000000000009,0.8,1,1200,3,3,1000,0,0,0,-1,2,47,48]
[{"$f":"A73+1","v":71},"Panzerfaust 30 kl","Panzerfaust",51,"Panzerfaust",6,6,0,5,0,0,20,1,1,3.22,100,3,30,8.5,8.5,1,0,0,0,1000,0,0,0,-1,1,89]
[{"$f":"A74+1","v":72},"Panzerfaust 30","Panzerfaust",51,"Panzerfaust",6,6,0,5,0,0,20,1,1,5.22,149,3,30,8.5,8.5,1,0,0,0,1000,0,0,0,-1,1,90]
[{"$f":"A75+1","v":73},"8.8cm Rocket Launcher RPzB 54","Panzerschreck",48,"Panzerschreck",6,6,0,5,0,0,20,1,1,11,88,3,150,8.5,8.5,1,0,0,0,1000,0,0,1,-1,1,91]
[74,"5cm Mortar GrW 36","81mm Mortar",3,"MortarLight",10,4,31,20,0,1,10,1,1,31,50,20,500,6,12,1,0,0,0,1000,0,0,0,-1,1,67]
[75,"7.92mm Rifle Gewehr 43ZF","M1A1 Garand",18,"Gewehr43",3,7,0,0,2,1.5,10,1,5,4.0999999999999996,7.92,2,800,0.8,0.8,1,0,0,0,1000,1,1,0,-1,1,47]
[{"$f":"A78+1","v":76},"7.92mm Light Machine Gun leMG 42","mg42",46,"MG42",5,7,0,0,3,0,15,1,100,11.57,7.92,3,800,1,1,1,1200,3,3,1000,0,0,0,-1,2,47,48]
[77,"7.92mm Light Machine Gun leMG 15","mg34",44,"MG34",5,7,0,0,3,0,20,1,100,18,7.92,1,800,1,1,1,500,3,3,1000,0,0,0,-1,1,47]
[{"$f":"A80+1","v":78},"7.92mm Light Machine Gun leMG 42 (Sturm)","mg42",46,"MG42",5,7,0,0,3,0,10,1,75,12.4,7.92,1,600,1,1,1,1200,3,3,1000,1,0,0,-1,2,47,48]
[79,"7.92mm Rifle Gewehr 43","M1A1 Garand",17,"Gewehr43",3,7,0,0,2,0,6,1,10,4.4000000000000004,7.92,2,500,0.8,0.8,1,0,0,0,1000,1,1,0,-1,1,47]
[80,"Satchel Charge (US)","(None)",63,"GrenadeThrow",1,6,0,10,0,0,10,1,1,4,300,0,20,64,64,1,0,0,0,1000,0,0,0,-1,1,4]
[81,"Satchel Charge (GE)","(None)",63,"GrenadeThrow",1,6,0,10,0,0,10,1,1,4,300,0,20,64,64,1,0,0,0,1000,0,0,0,-1,1,4]
[82,"Flammenmwerfer 41","M1A1 Garand",13,"Flamethrower",7,7,0,5,2,0,0,1,1,21.77,30,3,30,1,1,1,0,0,0,1000,0,0,0,-1,1,3]
[83,"Flamethrower M2","M1A1 Garand",13,"Flamethrower",7,7,0,5,2,0,0,1,1,30.8,30,3,30,1,1,1,0,0,0,1000,0,0,0,-1,1,3]
[{"$f":"A86+1","v":84},"7.92mm Light Machine Gun FG 42","BAR MG",12,"FG42",5,7,0,0,3,0,10,1,20,4.95,7.92,3,600,1,1,1,750,1,3,1000,1,0,0,-1,1,47]
[85,"Hand Grenade Breda Mod 35","(None)",40,"GrenadeThrow",1,6,0,0,0,0,5,2,1,0,64,10,30,64,64,1,0,0,0,1000,0,0,0,-1,1,97]
[86,"Smoke Grenade Breda Mod 35 F","(None)",52,"GrenadeThrow",1,4,0,0,0,0,5,2,1,0,64,10,30,64,64,1,0,0,0,1000,0,0,0,-1,1,98]
[{"$f":"A89+1","v":87},"2.36-inch Rocket Launcher M9 Bazooka","M1A1 Bazooka",7,"Bazooka",6,6,0,5,0,0,15,1,1,6.8,57,8,150,6,6,1,0,0,0,1000,0,0,1,-1,2,21,22]
[88,"76mm Gun M1A1","(None)",24,"Gun76mm",11,7,0,0,0,0,9,1,1,0,76.2,3,2000,0.23,0.35,1,0,0,0,1000,0,0,0,-1,3,33,34,35]
[89,"5cm Gun Kwk 39","(None)",23,"Gun50mm",11,7,0,0,0,0,8,1,1,0,50,3,2000,0.23,0.35,0.82,0,0,0,1000,0,0,0,-1,3,64,65,66]
[90,".50 cal. Machine Gun M2","50cal HMG",38,"M2HMG",9,7,0,0,3,0,18,1,100,58,12.7,3,1800,1,1,1,450,1,6,1000,0,0,0,-1,2,13,14]
[91,"75mm Gun M1987","(None)",26,"Gun75mmM3",11,7,0,0,0,0,9,1,1,0,75,3,2000,0.23,0.35,0.98,0,0,0,1000,0,0,0,-1,3,25,26,28]
[92,"7.5cm Gun KwK 40 (L48)","(None)",24,"Gun75mmPak40",11,7,0,0,0,0,9,1,1,0,75,4,2000,0.23,0.35,1,0,0,0,1000,0,0,0,-1,3,74,75,76]
[93,"7.5cm Howitzer leIG","(None)",27,"Gun75mmShort",11,7,0,0,0,0,9,1,1,0,75,3,3500,0.35,0.52,1,0,0,0,1000,0,0,0,-1,2,68,69]
[94,"37mm Gun SA/18","(None)",22,"Gun37mm",11,7,0,0,0,0,6,1,1,40.799999999999997,37,3,1500,0.3,0.5,1,0,0,0,1000,0,0,0,-1,2,114,115]
[95,"7.5mm Machine Gun MAC31","(None)",45,"MG34Coax",9,7,0,0,3,0,10,1,150,11.8,7.5,3,1000,1,1,1,750,3,3,1000,0,0,0,-1,1,113]
[96,"Schiessbecher K98","(None)",30,"GrenadeLauncher",12,6,0,15,0,0,10,1,1,0,30,3,250,6,12,1,0,0,0,1000,0,0,0,-1,3,53,54,55]
[97,"Grenade Launcher M7","M1A1 Garand",16,"GrenadeLauncher",12,6,0,15,0,0,10,1,1,0,50,5,300,6,12,1,0,0,0,1000,0,0,0,-1,2,7,8]
[98,".30 cal. Carbine M1 w/ M8 Grenade Launcher","M1A1 Garand",10,"M1Carbine",3,7,0,0,2,0,8,1,15,2.4,7.6,2,300,1.8,1.8,1,0,0,0,1000,1,0,0,99,1,11]
[99,"Grenade Launcher M8","M1A1 Garand",10,"GrenadeLauncher",12,6,0,15,0,0,10,1,1,0,50,5,250,6,12,1,0,0,0,1000,0,0,0,-1,2,7,8]
[100,"2.8cm Anit-Tank Rifle sPzB 41","(None)",0,"ATR20mm",11,6,0,0,0,0,10,1,1,229,20,3,1000,0.30000000000000004,0.4,1,0,0,0,1000,0,0,0,-1,1,61]
[101,"8mm Machine Gun Fiat Mod 35","30 cal MMG",9,"BredaMMG",9,7,0,0,3,0,15,1,250,38.200000000000003,8,3,1100,1,1,0.96,600,3,3,1000,0,0,0,-1,2,93,94]
[102,"Anti-Tank Grenade Geballte Ladung","(None)",53,"GrenadeThrow",1,6,0,0,0,0,10,2,1,0,57,10,20,64,64,1,0,0,0,1000,0,0,0,-1,1,56]
[103,".45 Cal. Submachine Gun M3","MP40",11,"M3SMG",4,7,0,0,3,0,8,1,30,3.7,11.4,1,100,1.5,1.5,1,450,1,3,1000,1,0,0,-1,1,12]
[104,".30 Cal. Machine Gun M1919A4 (AA)","(None)",34,"MG1919A5Bow",9,7,0,0,3,0,15,1,250,0,7.6,3,1200,1,1,1,500,3,3,1000,0,0,0,-1,2,9,10]
[105,"Smoke Mortar NbK 39","(None)",57,"SmokeDischarger",8,4,0,0,2,0,10,1,6,0,90,4,40,4,8,1,0,0,0,1000,0,0,0,-1,1,57]
[106,"Smoke Mortar M3","(None)",57,"SmokeDischarger",8,4,0,0,0,0,10,1,1,0,51,4,40,4,8,1,0,0,0,1000,0,0,0,-1,1,18]
[107,"Melee","(None)",43,"Melee",0,1,0,0,2,0,0,1,0,0,1,0,2,0,0,1,0,0,0,1000,0,0,0,-1,2,0,1]
[108,"7.62cm Anti-Tank Gun Pak 36(r)","(None)",24,"Gun76mm",11,7,0,0,0,0,9,1,1,0,76.2,3,3000,0.23,0.35,1,0,0,0,1000,0,0,0,-1,2,79,80]
[]
[]
[]
[]
[0,"Melee","(None)",null,"Melee",0,1,0,0,2,0,0,null,0,0,1,0,2,0,0,1,0,0,0,511,0,0,0,0,0]
[1,"Demo Charge (8lb TNT?)","(None)",null,"None",1,6,0,10,0,0,10,null,1,4,null,null,null,64,64,1,0,0,0,null,0,0,0,0,1,"Demo"]
[2,"Hand Grenade Mk II","(None)",null,"GrenadeThrow",1,6,0,0,0,0,5,null,1,0,57,10,30,64,64,1,0,0,0,511,0,0,0,0,1,"frag gren"]
[3,"Smoke Grenade M8","(None)",null,"GrenadeThrow",1,4,0,0,0,0,5,null,1,0,57,1,30,64,64,1,0,0,0,511,0,0,0,0,1,"smk gren"]
[4,"Grenade Launcher M1","(None)",null,"GrenadeLauncher",12,6,0,15,0,0,10,null,1,0,null,null,null,null,null,1,0,0,0,null,0,0,0,0,2,"AT Grenade","AP Grenade"]
[5,"Grenade Launcher M8","(None)",null,"GrenadeLauncher",12,6,0,15,0,0,10,null,1,0,null,null,null,null,null,0.96,0,0,0,null,0,0,0,0,2,"AT Grenade","AP Grenade"]
[6,"Grenade Launcher M7","(None)",null,"GrenadeLauncher",12,6,0,15,0,0,10,null,1,0,null,null,null,null,null,1,0,0,0,null,0,0,0,0,2,"AT Grenade","AP Grenade"]
[7,".45 Cal. Pistol M1911A1 Colt","(None)",null,"M1911Pistol",2,7,0,0,2,0,6,null,7,1.1000000000000001,11.4,1,50,3,2.7,0.88,0,0,0,null,1,0,0,0,1,45]
[{"$f":"A123+1","v":8},".30 Cal. Carbine M1","US M1 Garand",null,"M1Carbine",3,7,0,0,2,0,8,null,15,2.4,7.6,2,300,1.8,1.8,1,0,0,0,null,1,0,0,0,1,"30car"]
[9,".30 Cal. Carbine M1A1","US M1 Garand",null,"M1Carbine",3,7,0,0,2,0,8,null,15,2.2000000000000002,7.6,2,300,1.8,1.8,1,0,0,0,null,1,0,0,0,1,"30car"]
[10,".30 Cal. Carbine M1 w/ M8 Spigot","US M1 Garand",null,"M1Carbine",3,7,0,0,2,0,8,null,15,2.4,7.6,2,300,1.8,1.8,1,0,0,0,null,1,0,0,1,3,"30car","gre","gre"]
[11,".30 Cal. Rifle M1903A1 Springfield","US M1 Garand",null,"M1903Rifle",3,7,0,0,1,1.5,10,null,5,4.0999999999999996,7.6,2,600,0.8,0.8,1,0,0,0,null,0,1,0,0,2,"30ball","30ap"]
[12,".30 Cal. Rifle M1903A1 w/ M1 Spigot","US M1 Garand",null,"M1903Rifle",3,7,0,0,2,1.5,10,null,5,4.0999999999999996,7.6,2,600,0.8,0.8,1,0,0,0,null,0,1,0,1,4,"30ball","30ap","gre","gre"]
[13,".30 Cal. Rifle M1903A4 w/ Scope","US M1 Garand",null,"M1903Rifle",3,7,0,0,2,1.5,10,null,5,4.0999999999999996,7.6,2,800,0.8,0.8,1,0,0,0,null,0,0,0,0,2,"30ball","30ap"]
[14,".30 Cal. Rifle M1 Garand","US M1 Garand",null,"M1Garand",3,7,0,0,2,0,8,null,8,4.3,7.6,2,500,1.2,1.2,1,0,0,0,null,1,1,0,0,2,"30ball","30ap"]
[15,".30 Cal. Rifle M1 w/ M7 Spigot","US M1 Garand",null,"M1Garand",3,7,0,0,2,0,8,null,8,4.3,7.6,2,500,1.2,1.2,1,0,0,0,null,1,1,0,1,4,"30ball","30ap","gre","gre"]
[16,".30 Cal. Rifle M1C w/ Scope","US M1 Garand",null,"M1Garand",3,7,0,0,2,0,8,null,8,4.3,7.6,2,800,1.2,1.2,1,0,0,0,null,0,0,0,0,2,"30ball","30ap"]
[17,".45 Cal. Submachine Gun M1A1 Thompson","US M1 Garand",null,"ThompsonSMG",4,7,0,0,3,0,8,null,30,4.8,11.4,1,100,null,null,1,700,null,null,null,1,0,0,0,1,45]
[18,".45 Cal. Submachine Gun M3 Grease Gun","US M1 Garand",null,"M3SMG",4,7,0,0,3,0,8,null,30,3.7,11.4,1,100,null,null,1,450,null,null,null,1,0,0,0,1,45]
[19,".30 Cal. Automatic Rifle M1918A2 BAR","US M1 Garand",null,"BAR",5,7,0,1,3,0,10,null,20,8.8000000000000007,7.6,2,600,1.2,1.2,1,500,null,null,null,1,0,0,0,2,"30ball","30ap"]
[20,".30 Cal. Machine Gun M1919A4","US 30cal MMG",null,"MG1919A4",9,7,1,10,3,0,15,null,250,20.5,7.6,3,1200,1.2,1.2,1,500,"150rpm for 10m, 60rpm for 30m"]
[21,".30 Cal. Machine Gun M1919A5 (Bow)","(None)",null,"MG1919A5Bow",9,7,0,0,3,0,15,null,250,14,7.6,3,1200,1.2,1.2,1,500]
[22,".30 Cal. Machine Gun M1919A5 (Coax)","(None)",null,"MG1919A5Coax",9,7,0,0,3,0,15,null,250,14,7.6,3,1200,1.2,1.2,1,500]
[23,".30 Cal. Machine Gun M1919A4 (AA)","(None)",null,"MG1919A4",9,7,0,0,3,0,15,null,250,14,7.6,3,1200,1.2,1.2,1,500]
[24,".30 Cal. Machine Gun M1917A1","US 30cal MMG",null,"MG1917A1",9,7,2,15,3,0,15,null,250,47,7.6,3,1200,1.2,1.2,1,600]
[25,".50 Cal. Machine Gun M2 HB","US 30cal MMG",null,"M2HMG",9,7,3,20,3,0,18,null,100,58,12.7,3,1800,null,null,1]
[26,".50 Cal. Machine Gun M2 HB (AA)","(None)",null,"M2HMG",9,7,0,0,3,0,18,null,100,38,12.7,3,1800,null,null,1]
[27,"2.36-inch Rocket Launcher M1 Bazooka","US M1A1 Bazooka",null,"Bazooka",6,6,0,5,0,0,20,null,1,6,57,8,200,8.5,8.5,"265fps",null,null,null,null,null,null,null,null,1,"M6 Rocket"]
[28,"2.36-inch Rocket Launcher M1A1 Bazooka","US M1A1 Bazooka",null,"Bazooka",6,6,0,5,0,0,20,null,1,6,57,8,200,8.5,8.5,"265fps",null,null,null,null,null,null,null,null,1,"M6 Rocket"]
[29,"2.36-inch Rocket Launcher M9 Bazooka","US M1A1 Bazooka",null,"Bazooka",6,6,0,5,0,0,20,null,1,6.8,57,8,200,6,6,null,null,null,null,null,null,null,null,null,1,"M6A3 Rocket"]
[30,"60mm Mortar M2","US 81mm Mortar",3,"MortarLight",10,4,4,30,0,0,3,null,1,null,60,70,1800,5,16,1]
[{"$f":"A146+1","v":31},"81mm Mortar M1","US 81mm Mortar",4,"MortarMedium",10,4,5,60,0,0,3.3,null,1,null,81,90,3000,null,null,1]
[32,"37mm Gun M3","(None)",null,"Gun37mm",11,7,0,null,null,null,null,null,null,null,null,null,null,null,null,1,null,null,null,null,null,null,null,null,3,"APC M51B1","HE M63","Can M2"]
[33,"37mm Gun M5","(None)",null,"Gun37mm",11,7,0,null,null,null,null,null,null,null,null,null,null,null,null,0.9,null,null,null,null,null,null,null,null,3,"APC M51B1","HE M63","Can M2"]
[34,"37mm Gun M6","(None)",null,"Gun37mm",11,7,0,null,null,null,null,null,null,null,null,null,null,null,null,1]
[35,"57mm Gun M1","(None)",null,"Gun57mm",11,7,0]
[36,"75mm Howitzer M1A1","(None)",null,"Gun75mmShort",11,7,0,null,null,null,null,null,null,null,null,null,null,null,null,null,null,null,null,null,null,null,null,null,3,"HEM48","HEAT M66","M64 Smoke"]
[37,"75mm Gun M1897","(None)",null,"Gun75mm",11,7,0]
[38,"75mm Gun M2","(None)",null,"Gun75mmM3",11,7,0,null,null,null,null,null,null,null,null,null,null,0.24,0.32,0.95]
[39,"75mm Gun M3","(None)",null,"Gun75mmM3",11,7,0,null,null,null,null,null,null,null,null,null,null,0.24,0.32,1]
[40,"76mm Gun M1A1","(None)",null,"Gun76mm",11,7,0,null,null,null,null,null,null,null,null,null,null,0.28000000000000003,0.25]
[41,"3-inch Gun M5","(None)",null,"Gun76mm",11,7,0,null,null,null,null,null,null,null,null,null,null,null,null,null,null,null,null,null,null,null,null,null,4,"AP","APC","HE ","M88 Smoke"]
[42,"3-inch Gun M7","(None)",null,"Gun76mm",11,7,0]
[43,"105mm Howitzer M2A1","(None)",null,"Gun105mm",11,7,0,null,null,null,null,null,null,null,null,null,10000,null,null,null,null,null,null,null,null,null,null,null,3,"HE M1","HEAT","Smoke M84"]
[44,"105mm Howitzer M3","(None)",null,"Gun105mm",11,7,0]
[45,"155mm Howtizer M1","(None)",null,"Gun105mm",11,7,0,null,null,null,null,null,null,null,null,null,null,null,null,null,null,null,null,null,null,null,null,null,3,"HE M107","HE M102","M105 M110 Chemical"]
[46,"2-Inch Smoke Mortar M3","(On mid-late Shermans)"]
[47,"(Reserved)"]
[48,"(Reserved)"]
[49,"(Reserved)"]
[50,"(Reserved)"]
[51,"(Reserved)"]
[52,"(Reserved)"]
[53,"(Reserved)"]
[54,"(Reserved)"]
[55,"(Reserved)"]
[56,"(Reserved)"]
[57,"(Reserved)"]
[58,"(Reserved)"]
[59,"(Reserved)"]
[]
[]
[null,null,null,null,null,null,null,null,null,null,null,null,null,null,null,null,"US 90mm HVAP",null,0.21,0.25]
[null,null,null,null,null,null,null,null,null,null,null,null,null,null,null,null,"US 90mm APCBC",null,0.53,0.93]
[60,"Hand Grenade St.Hgr.24","Grenade",null,"GrenadeThrow",1,null,null,"27.5m max range, 20m max frag radius"]
[{"$f":"A180+1","v":61},"Smoke Grenade Nb.Hgr.39","Grenade",null,"GrenadeThrow",1]
[62,"Grenade Gebalte Ladung","Grenade",null,"GrenadeThrow"]
[63,"Schiessbecher","(None)",0,"GrenadeLauncher",12,6,0,15,0,0,10,null,1,0,30,null,250,null,null,1,0,0,0,null,0,0,0,-1,3,"GSpr","GPzgr","GGPzgr"]
[64,"9mm Pistol Walther P38","(None)",null,"WaltherP38",null,null,null,null,null,null,null,null,null,null,null,null,null,3,2.7,"320m/s"]
[65,"7.92mm Rifle Mauser K98k","US M1 Garand",null,"Mauser98k"]
[66,"7.92mm Rifle K98 w/Schiessbecher","US M1 Garand",null,"Mauser98k",null,null,null,null,null,null,null,null,null,null,null,null,null,null,null,null,null,null,null,null,null,null,null,1]
[67,"7.92mm Rifle K98ZF","US M1 Garand",null,"Mauser98k"]
[68,"7.92mm Rifle Gewehr 43","US M1 Garand",null,"Gewehr43"]
[69,"7.92mm Rifle Gewehr 43ZF","US M1 Garand",null,"Gewehr43"]
[70,"9mm Submachine Gun MP40","MP40",null,"MP40",null,null,null,null,null,null,null,null,null,null,null,null,null,null,null,"390m/s"]
[71,"7.92mm Rifle Sturmgewehr 44","US M1 Garand",null,"StG44"]
[72,"7.92mm Light Machine Gun FG 42","US M1 Garand",null,"FG42"]
[73,"7.92mm Machine Gun MG 15","(None)",null,"AircraftMG15"]
[74,"7.92mm Light Machine Gun leMG 15","US M1 Garand",null,"MG15","LMG",null,"hand",null,null,0,null,null,75,12.4,7.92,null,null,null,null,1,1000]
[75,"7.92mm Light Machine Gun leMG 34","US M1 Garand",null,"MG34","LMG",null,"hand",null,null,0,null,null,50,12.1,7.92,null,null,null,null,1,900,null,null,null,null,null,null,null,null,null,null,null,null,null,null,null,null,null,"7-10 round bursts, 15 bursts per minute as an LMG"]
[76,"7.92mm Machine Gun sMG 34","US 30cal MMG",null,"MG34","MG",null,"lafette",null,null,0,null,null,250,31.1,7.92,null,null,null,null,1,900]
[77,"7.92mm Light Machine Gun leMG 42","US M1 Garand",null,"MG42","LMG",null,"hand",null,null,0,null,null,50,11.6,7.92,null,null,null,null,1,1200,null,null,null,null,null,null,null,null,null,null,null,null,null,null,null,null,null,"5-7 round bursts with 22 bursts per minute (as an LMG)"]
[78,"7.92mm Machine Gun sMG 42","US 30cal MMG",null,"MG42","MG",null,"lafette",null,null,"bolt",null,null,250,30.6,7.92,null,null,null,null,1,1200]
[79,"7.92mm Anti-Tank Rifle PzB 39","US M1 Garand",null,"ATRifle",null,null,null,null,null,null,null,null,null,12.5]
[80,"Panzerfaust 30 kl","GE Panzerfaust",null,"Panzerfaust"]
[81,"Panzerfaust 30","GE Panzerfaust",null,"Panzerfaust"]
[82,"8.8cm Rocket Launcher RPzB 54","GE Panzerschreck",null,"Panzerschreck"]
[83,"5cm Mortar leGrW 36","81mm Mortar",null,"MortarLight",null,null,null,null,null,null,null,null,null,14,null,50,500,15,30,1]
[84,"8cm Mortar GrW 34","81mm Mortar",null,"MortarMedium",null,null,null,null,null,null,null,null,null,56.7,null,60,2000,5,10,1]
[85,"8cm Mortar kz.GrW 42","81mm Mortar",null,"MortarMedium",null,null,null,null,null,null,null,null,null,26.5,null,60,1100,null,"??",0.8]
[86,"2cm Anti-Aircraft Gun FlaK 38","(None)",null,"Gun20mmFlak",null,null,null,null,null,null,null,null,null,405]
[87,"Quad 2cm Anti-Aircraft Gun Flakvierling 38","(None)",null,"Gun20mmFlakQuad",null,null,null,null,null,null,null,null,null,1509]
[88,"3.7cm Anti-Aircraft Gun FlaK 37","(None)",null,"Gun37mm"]
[89,"8.8cm Anti-Aircraft Gun FlaK 36","(None)",null,"Gun88mm",null,null,null,null,null,null,null,null,null,5300,null,null,null,0.22,0.37]
[90,"2.8cm Anit-Tank Rifle sPzB 41","(None)",null,"ATR20mm"]
[91,"3.7cm Anti-Tank Gun Pak 36","(None)",null,"Gun37mm",null,null,null,null,null,null,null,null,null,435]
[92,"4.2cm Anti-Tank Gun Pak 41","(None)",null,"Gun50mm"]
[{"$f":"A212+1","v":93},"5cm Anti-Tank Gun Pak 38","(None)",null,"Gun50mm",null,null,null,null,null,null,null,null,null,850]
[94,"7.5cm Anti-Tank Gun Pak 40","(None)",null,"Gun75mmPak40"]
[95,"7.62cm Anti-Tank Gun Pak 36(r)","(None)",null,"Gun76mm"]
[96,"7.5cm Infantry Gun IG 18","(None)",null,"Gun75mmShort",null,null,null,null,null,null,null,null,null,400]
[97,"10.5cm Howitzer  FH 18","(None)",null,"Gun105mm",null,null,null,null,null,null,null,null,null,1915]
[98,"15cm Infantry Gun sIG 33","(None)",null,"Gun105mm",null,null,null,null,null,null,null,null,null,1750]
[99,"Flamethrower Flammenwerfer 41","(None)",null,"Flamethrower",null,null,null,null,null,null,null,null,null,22]
[100,"2cm Gun KwK 30","(None)",null,"Gun20mmFlak",null,null,null,null,null,null,null,null,null,64]
[101,"2cm Gun KwK 38","(None)",null,"Gun20mmFlak",null,null,null,null,null,null,null,null,null,56]
[102,"5cm Gun KwK 38","(None)",null,"Gun50mm",null,null,null,null,null,null,null,null,null,400]
[103,"5cm Gun KwK 39","(None)",null,"Gun50mm",null,null,null,null,null,null,null,null,null,435]
[104,"7.5cm Gun KwK 37","(None)",null,"Gun75mmShort",null,null,null,null,null,null,null,null,null,490]
[105,"7.5cm Gun KwK 40 (L43)","(None)",null,"Gun75mmPak40",null,null,null,null,null,null,null,null,null,670]
[106,"7.5cm Gun KwK 40","(None)",null,"Gun75mmPak40",null,null,null,null,null,null,null,null,null,null,null,null,null,null,null,null,null,null,null,null,null,null,null,null,4,"PzGr 39","PzGr 40","HE","HEAT B"]
[107,"7.5cm Gun KwK 42","(None)",null,"Gun75mmL70"]
[108,"8.8cm Gun KwK 36","(None)",null,"Gun88mm",null,null,null,null,null,null,null,null,null,1310]
[109,"8.8cm Gun KwK 43","(None)",null,"Gun88mm"]
[110,"10.5cm Howitzer StuH 42 (L28)","(None)",null,"Gun105mm"]
[111,"Nebelkerzen-Wurfgerät","(Fired \"Schnellnebelkerze 39 (Nb K S 39)\" - quick acting smoke, last 100-200 seconds)"]
[112,"Nahverteidigungswaffe","Fired Nb.K.S.39 plus small explosive charges"]
[113,"(Reserved)"]
[114,"(Reserved)"]
[115,"(Reserved)"]
[116,"(Reserved)"]
[117,"(Reserved)"]
[118,"(Reserved)"]
[119,"(Reserved)"]
[120,"(Reserved)"]
[]
[]
[]
[]
[]
[]
["Index","NAME","Game Object Name","ICON (index)","SOUND NAME","WEAPON TYPE  (0=H2H, 1=THROWN, 2=PISTOL, 3=RIFLE, 4=SMG, 5=LMG, 6=AT, 7=FLAME, 8=SMOKE, 9=MG, 10=MORTAR, 11=LARGE GUN,12=Grenade Launcher)","VALID TARGETS (0 = None, 1 = Personnel, 2 = Vehicle, 3 = Vehicle & Personnel, 4 = Terrain, 5 = Personnel & Terrain, 6 = Vehicle & Terrain, 7 = All)","MOUNT","SETUP TIME (s)","WEAPON ACTION (0 = single shot, 1 = manual load, 2 = autoload, 3 = automatic)","LOAD TIME (s)","RELOAD TIME (s)","FIRE TIME (s) Should match anim time","ROUNDS PER CLIP","WEAPON WEIGHT (kg)","CALIBER (mm)","Min Range","Max Range","Lateral Dispersion (std.Dev.) Mils","Vertical Dispersion (sd)","VELOCITY MULTIPLIER","CYCLICAL ROF (rnds/min)","COOL RATE (Reliability re-gain per second)","HEAT RATE (0-511) Reliability decrease per round fired","RELIABILITY (0-511)","ASSAULT FIRE? (0/1)","BAYONET? (0/1)","BACK BLAST? (0/1)","Secondary Weapon","AMMO Count (number of ammo index entries to follow)","AMMO TYPE 0","AMMO TYPE 1","AMMO TYPE 2","AMMO TYPE 3","AMMO TYPE 4","AMMO TYPE 5","AMMO TYPE 6","AMMO TYPE 7"]
[null,"Hand Grenade SRCM Mod 35","(None)",null,"GrenadeThrow",1,6,0,0,0,0,5,2,1,0,64,10,30,64,64,1,0,null,0,511,0,0,0,-1,1,"SRCM 35 Grenade",null,null,".2 wt, .043 charge wt",null," Max frag range 10-12m"]
[null,"Anti-Tank Grenade Breda Mod 42","(None)",null,"GrenadeThrow",1,2,0,0,0,0,5,2,1,0,null,10,25,64,64,1,0,null,0,511,0,0,0,-1,1,"Breda 42 AT Grenade"]
[null,"9mm Pistol Beretta Mod 34","PISTOL",null,"WaltherP38",2,1,0,0,2,0,6,1,7,0.60000000000000009,9,1,50,1.36,1.94,1,0,null,0,511,1,0,0,-1,1,"9mm beretta ball",null,null,null,null,null,"230m/s",null,null,"pen 80mm fir wood at 50m, 101mm @ 10m"]
[null,"6.5mm Rifle Mod 91","US M1 Garand",null,"CarcanoRifle",3,7,0,0,1,1.5,10,1,6,3.9,6.5,2,600,0.27,0.33,1,0,null,0,511,0,1,0,-1,1,"6.5mm ball",null,null,null,null,null,"700m/s",null,null,"pen 1106mm poplar wood @ 100m, 985 @ 200m"]
[null,"6.5mm Carbine Mod 91","US M1 Garand",null,"CarcanoRifle",3,7,0,0,1,1.5,10,1,6,3,6.5,2,600,0.31,0.42,0.94,0,null,0,511,0,1,0,-1,1,"6.5mm ball",null,null,null,null,null,"661m/s"]
[null,"9mm Submachine Gun Mod 38 ","MP40",null,"MP40",4,7,0,0,3,0,10,1,20,4,9,1,100,0.60000000000000009,0.8,1,500,null,"100rpm",511,1,0,0,-1,1,13,null,null,null,null,null,"390m/s w/ German 9mm P",null,null,"Pen 170mm fir wood @ 100m"]
[null,"6.5mm Light Machine Gun Breda Mod 30","US M1 Garand",null,"BredaLMG",5,7,0,0,3,0,10,1,20,11,6.5,2,800,0.31,0.64,0.9,450,null,"120rpm, 300 rnds barrel heat limit",null,1,0,0,-1,1,"6.5mm ball",null,null,null,null,null,"630m/s"]
[null,"8mm Machine Gun Breda Mod 37","US 30cal MMG",null,"BredaMMG",9,7,69,15,3,0,6,1,20,38.200000000000003,8,3,1200,0.21,0.52,1,450,null,"200rpm, barrel change 500 rnds",null,0,0,0,-1,1,"8mm ball","?? AP",null,null,null,null,"780m/s",null,null,"Same as FIAT 35"]
[null,"8mm Machine Gun Fiat Mod 35","US 30cal MMG",null,"BredaMMG",9,7,69,15,3,0,15,1,50,40.200000000000003,8,3,1200,0.31,0.89,0.96,600,null,"300rpm, barrel",null,0,0,0,-1,1,"8mm ball","?? AP",null,null,null,null,"750m/s",null,null,"Pen 210mm fir wood @ 2500m, 112mm @ 4000m. AP 11.5mm pen @ 0 deg @ 100m, 10mm @ 200m. 6mm @ 600m"]
[null,"Twin 8mm Machine Gun Mod 38 (Bow)","(None)",null,"BredaMMG",9,7,74,0,3,0,16,1,48,31.2,8,3,1200,0.21,0.52,1,900,null,"600rpm",null,0,0,0,-1,1,"8mm ball","?? AP",null,null,null,null,"775m/s",null,null,"MOUNT: 28 deg left/right, -13 to +23 vertical"]
[null,"8mm Machine Gun Mod 38 (Coax)","(None)",null,"BredaMMG",9,7,75,0,3,0,10,1,24,15.6,8,3,1200,0.21,0.52,1,450,null,"300rpm",null,0,0,0,-1,1,"8mm ball","?? AP",null,null,null,null,"775m/s",null,null,"MOUNT: 28 deg left/right, -13 to +23 vertical"]
[null,"8mm Machine Gun Mod 38 (AA)","(None)",null,"BredaMMG",9,7,50,0,3,0,10,1,24,15.6,8,3,1200,0.21,0.52,1,450,null,"300rpm",null,0,0,0,-1,1,"8mm ball","?? AP"]
[null,"45mm Mortar Brixia Mod 35","81mm Mortar",null,"MortarLight",10,4,70,20,1,1,10,1,10,16,45,20,536,null,null,1,0,null,"25rpm",null,0,0,0,-1,1,"45mm HE",null,null,null,null,null,"59 or 83m/s","max 536m"]
[null,"81mm Mortar Mod 35","81mm Mortar",null,"MortarMedium",10,4,71,60,0,0,3,1,1,59,81,150,3100,4,18,1,0,null,"18rpm",null,0,0,0,-1,4,"HE","HE Hvy",null,null,null,null,"71,111,145,174,205m/s HVY:41,72,98,120,137m/s"]
[null,"20mm Anti-Tank Rifle Solothurn","PzB 39",null,"ATRifle",6,3,0,10,2,1,10,2,10,54.7,20,3,800,0.43,0.71,1,0,null,"10rpm",null,0,0,0,-1,1,"20mm AP-T",null,null,null,null,null,"832m/s",null,null,"Pen 30mm @ 500m @ 0, 20mm @ 400m @ 15"]
[null,"20mm Gun Breda Mod 35","(None)",null,"Gun20mmFlak",11,7,72,"?",3,0,7,1,8,370,20,4,2000,0.7,0.64,1,240,null,"120rpm",null,0,0,0,-1,2,"20mm AP-T","20mm AA-HE-T",null,null,null,null,"830m/s","mount -10 to +80, 28 left & right"]
[null,"47mm Gun 47/32 Mod 35","(None)",null,"Gun50mm",11,7,73,"?",0,0,2,1,1,315,47,4,2000,0.47,0.53,"630m/s AP",0,null,null,null,0,0,0,-1,2,"47mm AP","47mm HE",null,null,null,null,null,"mount -10 to +56, 30 left & right",null,null,null,"TANK MOUNT: -15 to +25"]
[null,"47mm Gun 47/32","(None)",null,"Gun50mm",11,7,75,0,0,0,2,1,1,315,47,4,2000,0.47,0.53,"630m/s AP",0,null,null,null,0,0,0,-1,2,"47mm AP","47mm HE",null,null,null,null,null,"mount -10 to +56, 30 left & right",null,null,null,"TANK MOUNT: -15 to +25"]
[null,"75mm Howitzer 75/18 Mod 34","(None)",null,"Gun75mmShort",11,7,76,"?",0,0,4,1,1,172,75,4,2000,null,null,"430m/s",0,null,null,null,0,0,0,-1,3,"75mm AP","75mm HE","75mm HEAT",null,null,null,"430m/s","semovente mount: -12 +22, 18 left 20 right"]
[null,"75mm Howitzer 75/27 Mod 11","(None)",null,"Gun75mmShort",11,7,77,"?",0,0,6,1,1,1015,75,4,2000,null,null,"510m/s",0,null,null,null,0,0,0,-1,3,"75mm HE",null,null,null,null,null,"510m/s","mount: -15 +65, 26 l&r"]
[null,"100mm Howitzer 100/17 Mod 14","(None)",null,"Gun105mm",11,7,78,"?",0,0,8,1,1,1350,100,4,2000,null,null,"400m/s",0,null,null,null,0,0,0,-1,1,"100mm HE",null,null,null,null,null,null,"mount: -8 +50, 3 l&r"]
[]
[]
[]
[null,"Smoke Discharger","(None)",null,"SmokeDischarger",null,"20/60/120 range"]

{"sheet":"MOUNTS","index":12,"n_rows":82,"n_cols":8,"rows_kept":82,"cut":false,"hidden":false,"merged":[]}
[null,"NAME","Elevation MAX","Elevation MIN","Traverse LEFT","Traverse RIGHT","Travese Deg/sec","Exposed To Fire?"]
["[COUNT]",80]
[0,"None",80,-80,22.5,22.5,128,1]
[{"$f":"A3+1","v":1},".30 M2 Tripod",21,-45,30,30,64,1]
[2,".30 M1917A1 Tripod",65,-28,30,30,64,1]
[3,".50 M3 Tripod",5,-15,30,30,64,1]
[4,"60mm Mortar Tripod",85,40,4,4,2,1]
[5,"81mm Mortar Tripod",85,40,4,4,2,1]
[6,"37mm Gun Carriage M4 ",15,-10,30,30,32,1]
[7,"57mm Gun Carriage M1A3",15,-5,45,45,24,1]
[8,"75mm Howitzer Carriage M8",45,-5,3,3,12,1]
[9,"3 Inch Gun Carriage M6",30,-5,23,23,12,1]
[10,"105mm Howitzer Carriage M2A1",65,-5,23,23,6,1]
[11,"155mm Howitzer Carraige M1",65,0,26,26,6,1]
[12,"81mm Mortar M4 (SP) (Rear facing)",80,40,4,4,6,0]
[13,"81mm Mortar M21 (SP) (front facing)",85,40,30,30,6,0]
[14,"37mm Mount M22 (M3 Stuart)",20,-10,10,10,12,0]
[15,"37mm Mount M23 (M5 Stuart)",20,-10,0,0,24,0]
[16,"37mm Mount M23 (Greyhound)",20,-10,0,0,24,0]
[17,"75mm Bow Mount M1 (Lee)",20,-9,15,15,12,0]
[18,"37mm Mount M24 (Lee)",60,-7,0,0,18,0]
[19,"75mm Mount M3 (GMC)",29,-10,19,21,12,0]
[20,"75mm Mount T30 (HMC)",50,-9,22,22,12,0]
[21,"105mm Mount T19 (HMC)",35,-5,20,20,6,0]
[22,"75mm Mount M7 (M8 HMC)",40,-20,0,0,24,0]
[23,"75mm Mount M34A1 (Sherman)",25,-10,0,0,24,0]
[24,"76mm Mount M62 (Sherman)",25,-10,0,0,24,0]
[25,"105mm Mount M52 (Sherman)",35,-10,0,0,6,0]
[26,"3 Inch Mount (M10 GMC)",19,-10,0,0,6,0]
[27,"US Ring Mount Machine Gun",85,-20,180,180,64,1]
[28,"US Bow Machine Gun Mount",20,-10,20,25,64,0]
[29,"US Pintel Machine Gun Mount",55,-35,30,30,64,1]
[30,"German MG Lafette",40,-16,30,30,64,1]
[31,"5cm le.GrW 36 Mount",90,45,17,17,4,1]
[32,"8cm GrW 34 Tripod",90,40,7,7,2,1]
[{"$f":"A35+1","v":33},"Kz. 8cm GrW 42 Tripod",88,47,5,5,2,1]
[34,"12cm GrW 42 Carriage",85,45,8,8,2,1]
[35,"2cm Flak Carriage",90,-20,180,180,32,1]
[36,"3.7cm Flak Carriage",85,-5,180,180,24,1]
[37,"8.8cm Flak Carriage",85,-3,180,180,12,1]
[38,"2.8cm s.PzB.  41 Carriage",45,-5,45,45,32,1]
[39,"3.7cm Pak Carriage",25,-8,30,30,32,1]
[40,"4.2cm Pak Carriage",32,-8,22,22,24,1]
[41,"5cm Pak 38 Carriage",27,-18,32,32,24,1]
[42,"7.5cm Pak 40 Carriage",22,-5,32,32,12,1]
[43,"7.62cm Pak 36r Carriage",75,-5,30,30,12,1]
[44,"7.62cm Pak 39r Carriage",45,-6,28,28,12,1]
[45,"7.5cm le.IG 18 Carriage",73,-10,6,6,12,1]
[46,"15cm s.IG 33 Carriage",73,0,5,5,6,1]
[47,"10.5cm le.F.H. 18",40,-6,28,28,6,1]
[48,"15cm s.F.H. 18",45,-1,30,30,6,1]
[49,"GE Bow Mount MG",20,-10,15,15,64,0]
[50,"GE AA Mount MG",60,-30,30,30,64,1]
[51,"GE Halftrack MG Mount",20,-11,30,30,64,1]
[52,"StuG III Main Gun (kz)",20,-10,10,10,12,0]
[53,"StuG III Main Gun (lg)",20,-6,10,10,12,0]
[54,"StuK 42 Main Gun",20,-6,10,10,6,0]
[55,"JgdPz IV(48) Main Gun",15,-5,10,10,12,0]
[56,"Pz IIF Main Gun",20,-9,0,0,12,0]
[57,"Pz III Main Gun (50kz and lg)",20,-10,0,0,10,0]
[58,"Pz III Main Gun (short 75)",20,-8,0,0,10,0]
[59,"Pz IV Main Gun",20,-10,0,0,10,0]
[60,"Panther Main Gun",18,-8,0,0,20,0]
[61,"Tiger Main Gun",15,-8,0,0,9,0]
[62,"PSW 222 2cm Mount",87,-4,0,0,12,0]
[63,"PSW 232 2cm Mount",26,-10,0,0,12,0]
[64,"Marder IIIH Main Gun",25,-10,30,30,12,0]
[{"$f":"A67+1","v":65},"(Reserved)",0,0,0,0,0,0]
[66,"(Reserved)",0,0,0,0,0,0]
[67,"(Reserved)",0,0,0,0,0,0]
[68,"R-35 Gun Mount",20,-16,5,5,0,0]
[69,"Breda 37 MMG Mount",16,-24,30,30,64,1]
[70,"Italian 45mm Mortar",90,-5,6,6,2,1]
[71,"Italian 81mm Mortar",90,40,4.25,4.25,2,1]
[72,"Italian 20mm AA Carriage",80,-10,180,180,32,1]
[73,"Italian 47mm ATG Carriage",58,-10,30,30,45,1]
[74,"Italian Bow MG Mount",20,-10,15,15,64,0]
[75,"M14/41 Main Gun",20,-10,0,0,12,0]
[76,"Semovente 75 Main Gun",34,-12,20,20,12,0]
[77,"Italian 75/27 Mod.11",65,-15,26,26,12,1]
[78,"Italian 100/17 Mod.14",50,-8,3,3,6,1]
[79,"US M3 Medium MG Cupola",60,-9,0,0,64,0]

{"sheet":"AMMUNITION","index":13,"n_rows":521,"n_cols":34,"rows_kept":521,"cut":false,"hidden":false,"merged":[]}
[null,"NAME","Ammo Type (0 = ball, 1 = AP, 2 = APC, 3 = APBC, 4 = APCR, 5 = HE, 6 = Shrapnel, 7 = HEAT, 8 = Canister, 9 = Smoke, 10 = WP, 11 = ILLUM","Round Wt (kg)","Muzzle Veloicty (m/s)","Propelling Charges (2+ allows variable mv)","Projectile Wt (kg)","Projectile Diameter (mm)","Base Penetration (mm RHA)","Base Penetration (mm FHA)","Tracer Color (ARGB)","Charge Type (0 = DNB, 1 = TNT, 2 = AMATOL, 3 = COMPB, 4 = PETN, 5=HC, 6=WP, 7 = FLAMMABLE, -1 = NONE)","Charge Wt (kg)","Fuze Type (0 = None, 1 = Impact, 2 = Delay, 3 = Time, 4 = Proximity)","Fuze Time (s) or distance (m)","Lethal Blast (m)","Threat Blast (m)","Knockdown Blast (m)","Frag 99% (m)","Frag 66% (m)","Frag 33% (m)","CHARGE 1","CHARGE 2","CHARGE 3","etc.","Grains To KG","Oz To KG","Inches to mm","Miles to KMs","Feet to Meters","lbs to KG"]
["COUNT",116]
[0,"Melee",0,0,8,1,0,0,0.1,0.1,0,-1,0,0,0,0,0,0,0,0,0]
[{"$f":"A3+1","v":1},"Bayonet",1,0,8,1,0,0,0.2,0.2,0,-1,0,0,0,0,0,0,0,0,0]
[{"$f":"A4+1","v":2},"Fragmentation",0,0.5,900,1,0.5,25,6,5,0,-1,0,0,0,0,0,0,0,0,0]
[3,"Flammable Liquid",5,2.8,17,1,2.8,25,0,0,0,7,2.8,1,0,1,3,4,0,0,0]
[4,"Satchel charge",5,9,16,1,9,256,0,0,0,1,9,3,5,2,9,16,0,0,0]
[5,"Mk II Frag Grenade",5,0.60000000000000009,18,1,0.60000000000000009,57,0,0,0,1,0.02,3,4.5,0,0,2,3,6,8]
[6,"M8 Smoke Grenade",9,0.7,18,1,0.7,60,0,0,0,5,0.54,3,4.5,0,0,0,0,0,0]
[7,"M9 AT Grenade",7,0.6,50,1,0.6,48,50,50,0,4,0.11,1,0,0,0,1,0,0,0]
[8,"M17 AP Grenade",5,0.60000000000000009,50,1,0.60000000000000009,57,0,0,0,1,0.02,1,0,0,0,2,3,6,8]
[9,".30 Ball M2",0,2.6000000000000002E-2,855,1,0.01,7.62,8,5,0,-1,0,0,0,0,0,0,0,0,0]
[10,".30 AP M2",1,2.7E-2,843,1,0.01,7.62,17,12,0,-1,0,0,0,0,0,0,0,0,0]
[11,".30 Carbine M1",0,1.3000000000000001E-2,602,1,7.0000000000000001E-3,7.62,4,2,0,-1,0,0,0,0,0,0,0,0,0]
[12,".45 Ball",0,2.1000000000000001E-2,285,1,1.4999999999999999E-2,11.43,1.5,1.2,0,-1,0,0,0,0,0,0,0,0,0]
[13,".50 Ball M2",0,0.12,895,1,4.5999999999999999E-2,12.7,16,9,"#C0FB988F",-1,0,0,0,0,0,0,0,0,0]
[14,".50 AP M2",2,0.12,867,1,4.5999999999999999E-2,12.7,28,26,0,-1,0,0,0,0,0,0,0,0,0]
[15,"37mm APC M51",2,1.58,884,1,0.87,37,78,73,"#C0FB988F",-1,0,0,0,0,0,0,0,0,0]
[16,"37mm HE M63",5,1.42,792,1,0.73,37,0,0,0,1,0.04,1,0,0,0,3,4,7,10]
[17,"37mm Cannister M2",8,1.79,762,1,0.88,37,0,0,0,-1,0,3,0.03,0,0,0,0,0,0]
[18,"2-inch Smoke (Smoke Mortar)",10,0.94,20,1,0.9,51,0,0,0,6,0.2,1,0,0,0,0,0,0,0]
[19,"57mm APC M86",2,6.3,823,1,3.3,57,103,110,"#C0FB988F",1,0.04,1,0,0,0,2,0,0,0]
[20,"57mm HE (British)",5,6,820,1,3,57,0,0,0,1,0.15,1,0,0,1.5,6,5,8,12,null,null,null,null,null,null,"Normandy"]
[21,"2.36-inch M6A1 Rocket",7,1.5,80,1,0.8,60,76,76,0,4,0.22,1,0,0,0,2,0,0,0]
[22,"2.36-inch M6A3 Rocket",7,1.5,80,1,0.8,60,90,90,0,4,0.22,1,0,0,0,2,0,0,0]
[23,"60mm HE M49A2",5,1.32,58,4,1.32,60,0,0,0,1,0.15,1,0,0,1.5,6,5,8,12,58,89,115,136]
[24,"60mm WP M302",10,1.6800000000000002,58,4,1.6800000000000002,60,0,0,0,6,0.15,1,0,0,1.5,3,1,2,3,58,89,115,136,null,null,"Avail late 44"]
[25,"75mm APC M61",2,9.1,618,1,6.8,75,88,102,"#C0FB988F",1,6.5000000000000002E-2,1,0,0,0,0,0,0,0]
[26,"75mm HE M48",5,8.2799999999999994,462,1,6.68,75,0,0,0,1,0.68,1,0,0.5,2,8,6,10,16]
[27,"75mm HEAT M66",7,7.4,305,1,6.03,75,89,89,0,4,0.36,1,0,0,0.5,2,0,0,0]
[28,"75mm Smoke M89",9,4.47,260,1,3,75,0,0,0,5,0.8,1,0,0,0,0,0,0,0]
[29,"75mm WP M64",10,8.6,600,1,7,75,0,0,0,6,0.61,1,0,0,0,0,0,0,0]
[30,"3-Inch APC M62",2,12.38,792,1,7,76.2,124,132,"#C0FB988F",1,6.5000000000000002E-2,1,0,0,0,0,0,0,0]
[31,"3-Inch HE M42A1",5,11.07,854,1,5.85,76.2,0,0,0,1,0.39,1,0,0,1,4,4,8,12]
[32,"3-Inch Smoke M88",9,6.1,274,1,3.45,76,0,0,0,5,1.43,1,0,0,0,0,0,0,0]
[33,"76mm APC M62A1",2,11.16,792,1,7,76,125,132,"#C0FB988F",1,6.5000000000000002E-2,1,0,0,0,0,0,0,0]
[34,"76mm HE M42A1",5,10.050000000000001,823,1,5.85,76,0,0,0,1,0.39,1,0,0,1,4,4,8,12]
[35,"76mm Smoke M88",9,6.1,274,1,3.45,76,0,0,0,5,1.43,1,0,0,0,0,0,0,0]
[36,"81mm HE M43A1",5,3.14,72,6,3.14,81,0,0,0,1,0.55000000000000004,1,0,0.5,2,8,4,10,16,72,101,126,135,173,193]
[37,"81mm HE M56",5,4.83,93,4,4.83,81,0,0,0,1,1.9500000000000002,1,0,1,3,10,5,12,18,93,125,152,176]
[38,"81mm WP M57",10,5.15,91,4,5.15,81,0,0,0,6,1.85,1,0,0,0,0,0,0,0,91,121,146,170]
[39,"105mm HE M1",5,19,472,1,15,105,0,0,0,1,2.1800000000000002,1,0,1,3,12,6,12,20]
[40,"105mm HEAT M67",7,16.8,380,1,13.28,105,128,128,0,4,1.33,1,0,0,1,3,0,0,0]
[41,"105mm Smoke M84",10,19,472,1,14.9,105,0,0,0,5,3.4,1,0,0,0,0,0,0,0]
[42,"5-inch Aerial Rocket",5,61,420,1,61,127,0,0,0,1,3.4,1,0,1,3,12,3,6,10]
[43,"500lb GP Bomb AN-M64A1",5,227,0,1,227,356,0,0,0,1,120,1,0,4,15,40,24,45,60]
[44,"(Reserved)",0,0,0,0,0,0,0,0,0,0,0,0,0,0,0,0,0,0,0]
[45,"(Reserved)",0,0,0,0,0,0,0,0,0,0,0,0,0,0,0,0,0,0,0]
[46,"(Reserved)",0,0,0,0,0,0,0,0,0,0,0,0,0,0,0,0,0,0,0]
[47,"7.92mm Patr.s.S.",0,2.6000000000000002E-2,755,1,1.3000000000000001E-2,7.92,8,5,0,-1,0,0,0,0,0,0,0,0,0]
[48,"7.92mm Patr.S.m.K",1,2.9000000000000001E-2,785,1,1.2E-2,7.92,16,12,0,-1,0,0,0,0,0,0,0,0,0]
[49,"7.92mm Patr.318",4,8.4000000000000005E-2,1150,1,1.4E-2,7.92,34,21,0,-1,0,0,0,0,0,0,0,0,0]
[50,"9mm Pist. Patr. 08",0,1.2E-2,390,1,8.0000000000000002E-3,9,2,1.4,0,-1,0,0,0,0,0,0,0,0,0]
[51,"Stielhandgranate 39",5,0.62,18,1,0.62,70,0,0,0,1,0.2,3,4.5,0,1.5,6,3,6,8]
[52,"Nebelhandgranate 41",9,0.53,18,1,0.53,66,0,0,0,5,0.44,3,7,0,0,0,0,0,0]
[53,"Gewehr Sprenggranate",5,0.28000000000000003,50,1,0.28000000000000003,30,0,0,0,4,3.1E-2,1,0,0,0,2,3,6,8]
[54,"Gewehr Panzergranate",7,0.25,50,1,0.25,30,25,25,0,1,0.05,1,0,0,0,2,3,6,8]
[55,"Gross Gewehr Panzergranate",7,0.38,50,1,0.38,45,70,70,0,1,0.12,1,0,0,0,2,3,6,8]
[56,"Geballte Ladung",5,4.3,18,1,4.3,210,0,0,0,1,1.4,3,4.5,0,1.5,6,3,6,8]
[57,"Nebelkerze S 39",9,2,20,1,2,90,0,0,0,5,1.8,1,0,0,0,0,0,0,0]
[58,"2cm M-Gesch.Patr.151",5,0.30000000000000004,800,1,0.1,20,0,0,"#C098FB8F",1,{"$f":"18.6/1000","v":1.8600000000000002E-2},1,0,0,0,2,1,2,3]
[59,"2cm PzGr.",1,0.32700000000000001,760,1,0.14599999999999999,20,31,26,"#C098FB8F",1,3.0000000000000001E-3,1,0,0,0,0,0,0,0]
[60,"2cm SprGr.",3,0.29399999999999998,800,1,0.115,20,0,0,"#C098FB8F",1,6.0000000000000001E-3,1,0,0,0,2,1,2,3]
[61,"2.8cm PzGr.",4,0.57699999999999996,1400,1,0.13,20,74,74,"#C098FB8F",-1,0,0,0,0,0,0,0,0,0]
[62,"3.7cm Sprgr.",5,1.32,745,1,0.66500000000000004,37,0,0,0,1,2.6000000000000002E-2,1,0,0,0,3,4,7,10]
[63,"3.7cm PzGr.",1,1.32,745,1,0.68500000000000005,37,44,39,"#C098FB8F",1,1.3000000000000001E-2,1,0,0,0,0,0,0,0]
[64,"5cm Pzgr.39",2,3.49,835,1,2.06,50,93,93,"#C098FB8F",4,2.5000000000000001E-2,1,0,0,0,0,0,0,0]
[65,"5cm Sprgr.38",5,3.11,550,1,1.82,50,0,0,0,1,0.17,1,0,0,0,3,4,7,10]
[{"$f":"A68+1","v":66},"5cm Pzgr.40",4,2.73,1180,1,0.92,50,160,160,"#C098FB8F",-1,0,0,0,0,0,0,0,0,0]
[67,"5cm Wgr.36",5,1,75,1,1,50,0,0,0,1,0.127,1,0,0,1.5,6,5,8,12]
[68,"7.5cm lGr.18",5,6.18,167,3,5.45,75,0,0,0,1,0.66,1,0,0.5,2,8,6,10,16,167,212,260]
[69,"7.5cm lGr.38 HL/A",7,5,260,1,3.1,75,87,87,0,1,0.52,1,0,0,0,0,0,0,0]
[70,"7.5cm K.Gr.rot.Pz (KwK 37)",1,8.27,385,1,6.8,75,51,51,"#C098FB8F",1,0.08,1,0,0,0,0,0,0,0]
[71,"7.5cm Hl/B (KwK 37)",7,7.5,450,1,4.57,75,87,87,0,1,0.6,1,0,0,0,0,0,0,0]
[72,"7.5cm Sprgr (KwK 37)",5,9.15,420,1,5.74,75,0,0,0,1,0.66,1,0,0.5,2,8,6,10,16]
[73,"7.5cm Nb. (KwK 37)",9,7.8,420,1,6.2,75,0,0,0,5,0.65,1,0,0,0,0,0,0,0]
[74,"7.5cm Sprgr.34",5,9.18,550,1,5.74,75,0,0,0,1,0.66,1,0,0.5,2,8,6,10,16]
[75,"7.5cm Pzgr.39",2,12.02,740,1,6.8,75,130,130,"#C098FB8F",1,1.7000000000000001E-2,1,0,0,0,0,0,0,0]
[76,"7.5cm Nb.",9,9.5,550,1,6.2,75,0,0,0,5,0.65,1,0,0,0,0,0,0,0]
[77,"7.5cm Sprgr.42",5,15,700,1,5.76,75,0,0,0,1,0.65,1,0,0.5,2,8,6,10,16]
[78,"7.5cm PzGr.39/42",2,15,935,1,6.8,75,185,185,"#C098FB8F",1,1.7000000000000001E-2,1,0,0,0,0,0,0,0]
[79,"7.62cm Sprgr.39",5,9.5,550,1,6.2,76.2,0,0,0,1,0.55000000000000004,1,0,0.5,2,8,4,10,16]
[80,"7.62cm Pzgr.39 rot",2,12.7,710,1,7.6,76.2,129,129,"#C098FB8F",1,0.17,1,0,0,0,0,0,0,0]
[81,"8cm Wgr.34",5,3.5,75,5,3.5,80,0,0,0,1,0.5,1,0,0.5,2,8,4,10,16,75,105,130,152,174]
[82,"8cm Wgr.34 Nb",9,3.5,75,5,3.5,80,0,0,0,5,0.39,1,0,0,0,0,0,0,0,75,105,130,152,174]
[83,"8.8cm PzGr",2,15,780,1,10.199999999999999,88,158,158,"#C098FB8F",1,0.16,1,0,0,0,0,0,0,0]
[84,"8.8cm SprGr.43",5,15,600,1,9,88,0,0,0,1,0.69800000000000006,1,0,0.5,2,8,6,10,16]
[85,"10.5cm Gr. 39 Hl/B",7,18,420,1,12.1,105,104,104,0,2,1.49,1,0,0,0,0,0,0,0]
[86,"10.5cm SprGr.",5,19,200,6,14.81,105,0,0,0,1,1.36,1,0,1,3,10,5,12,18,200,232,264,317,391,470]
[87,"10.5cm NbGr.",9,19,200,6,14,105,0,0,0,5,1.87,1,0,0,0,0,0,0,0,200,232,264,317,391,470]
[88,"SC250 Bomb",5,250,0,1,250,370,0,0,0,1,130,1,0,4,15,40,24,45,60]
[89,"Panzerfaust 30 Klein",7,0.5,28,1,0.5,100,140,140,0,1,0.4,1,0,0,0,2,0,0,0]
[90,"Panzerfaust 30",7,0.5,30,1,0.5,149,200,200,0,1,0.4,1,0,0,0,2,0,0,0]
[91,"8.8cm RPzB. Gr. 4322 Panzershrek Rocket",7,0.45700000000000002,110,1,0.45700000000000002,88,170,170,0,1,0.45,1,0,0,0,2,0,0,0]
[92,"6.5mm Ball",0,2.3E-2,755,1,0.01,6.5,7,4,0,-1,0,0,0,0,0,0,0,0,0]
[93,"8mm Ball",0,0.03,780,1,1.3000000000000001E-2,8,8,5,0,-1,0,0,0,0,0,0,0,0,0]
[94,"8mm AP",1,0.03,780,1,1.2E-2,8,16,12,0,-1,0,0,0,0,0,0,0,0,0]
[95,"9mm Ball",0,1.2E-2,230,1,6.0000000000000001E-3,9,2,1.4,0,-1,0,0,0,0,0,0,0,0,0]
[96,"10.35mm Ball",0,1.7000000000000001E-2,245,1,1.0999999999999999E-2,10.35,2.1,1.5,0,-1,0,0,0,0,0,0,0,0,0]
[97,"Bomba a mano Breda mod. 35",5,0.21,18,1,0.21,53,0,0,0,1,7.0000000000000007E-2,1,0,0,0,2,3,6,8]
[98,"Bomba a mano Breda mod. 35 F",5,0.2,18,1,0.2,53,0,0,0,5,0.16,1,0,0,0,0,0,0,0]
[99,"Perforante da 20 mod. 35",1,0.32700000000000001,830,1,0.14599999999999999,20,28,25,"#C098FB8F",1,3.0000000000000001E-3,1,0,0,0,2,1,2,3]
[100,"Contraerei da 20 mod. 35",5,0.29399999999999998,800,1,0.115,20,0,0,"#C098FB8F",4,6.0000000000000001E-3,1,0,0,0,2,1,2,3]
[101,"Bomba da 45 mod. 39",5,0.43,59,2,0.43,45,0,0,0,1,7.0000000000000007E-2,1,0,0,1.5,6,5,8,12,59,83]
[102,"Bomba da 45 mod. 39 F",9,0.43,59,2,0.43,45,0,0,0,5,7.0000000000000007E-2,1,0,0,1.5,6,5,8,12,59,83]
[103,"Perforante da 47 mod. 39",3,2.1,630,1,1.4,47,58,53,"#C098FB8F",1,1.4999999999999999E-2,1,0,0,0,0,0,0,0]
[104,"Granata da 47 mod. 35",5,2.9,250,1,2.4,47,0,0,0,1,0.15,1,0,0,0,3,4,7,10]
[105,"Perforante da 75/18",3,8.08,475,1,6.42,75,59,53,"#C098FB8F",1,0.26500000000000001,1,0,0,0,0,0,0,0]
[106,"Granata da 75/18 mod. 32",5,7.7249999999999996,295,1,6.35,75,0,0,0,1,0.60000000000000009,1,0,0.5,2,8,6,10,16]
[107,"Granata EP da 75/18",7,5.87,425,1,4.5,75,70,70,"#C098FB8F",4,0.36,1,0,0,0,0,0,0,0]
[108,"Granata da 75/27 mod. 32",5,7.7249999999999996,295,1,6.35,75,0,0,0,1,0.60000000000000009,1,0,0.5,2,8,5,10,15]
[109,"Bomba da 81 g.a",5,3.3,71,5,3.3,81,0,0,0,1,0.54,1,0,0.5,2,8,4,10,16,71,111,145,174,205]
[110,"Bomba da 81 gr.c",5,6.6,41,5,6.6,81,0,0,0,1,1,1,0,0.5,2,8,4,10,16,41,72,96,120,137]
[111,"Bomba da 81 m.c. F",9,3.3,71,5,3.3,81,0,0,0,5,2,1,0,0,0,0,0,0,0,71,111,145,174,205]
[112,"Granata da 100 mod. 32",5,13.5,430,1,13.5,100,0,0,0,1,2.2000000000000002,1,0,1,3,10,5,12,18]
[113,"FR 7.5mm Balle C",0,2.4E-2,830,1,0.01,7.5,8,5,0,-1,0,0,0,0,0,0,0,0,0]
[114,"FR HE Mle 1916",5,1.32,367,1,0.56000000000000005,37,0,0,0,1,0.03,1,0,0,0,3,4,7,10]
[115,"FR AP Mle 1937",1,1.1000000000000001,600,1,0.39,37,30,26,"#C098FB8F",-1,0,0,0,0,0,0,0,0,0]
[]
[]
[]
[]
[]
[0]
[1,null,null,null,null,null,null,null,null,null,null,null,null,null,null,null,null,null,null,null,null,null,null,null,null,"81mm @ 0 @ 0m quoted"]
[2]
[3,"75mm APC-T M61",2,9.1,618,1,6.8,75,88,102,"#FFC8C880",1,6.5000000000000002E-2,1,0,0,0,0,0,0,0,null,null,null,null,"inc2/inc1"]
[4,"75mm Smoke M89",9,4.47,260,1,3,75,0,0,0,5,0.8,0,0,0,0,0,0,0,0,null,null,null,null,"2 minute burn time"]
[5,"75mm HE M48",5,8.2799999999999994,462,1,6.68,75,0,0,0,1,0.68,1,0,0.5,2,8,6,10,16]
[6,"75mm HEAT M66",7,7.4,305,1,6.03,75,89,89,0,4,0.36,1,0,0,0.5,2,0,0,0]
[7,"3 Inch HE M42A1",5,11.07,854,1,5.85,76.2,0,0,0,1,0.39,1,0,0,1,4,4,8,12]
[8,"3 Inch APC M62",2,12.38,792,1,7,76.2,124,132,"#FFC8C880",1,6.5000000000000002E-2,1,0,0,0,0,0,0,0]
[9]
[10]
[11]
[12,"7.92mm Patr.s.S.",0,2.6000000000000002E-2,755,1,1.3000000000000001E-2,7.92,8,5,0,-1,0,0,0,0,0,0,0,0,0]
[13,"9mm Pist. Patr. 08",0,1.2E-2,390,1,8.0000000000000002E-3,9,2,1.4,0,-1,0,0,0,0,0,0,0,0,0]
[14,"2cm PzGr.",1,0.32700000000000001,760,1,0.14599999999999999,20,45,28,null,1,3.0000000000000001E-3,1,0,0,0,0,0,0,0]
[15,"2cm SprGr.",3,0.29399999999999998,800,1,0.115,20,0,0,"#C8FFC880",1,6.0000000000000001E-3,1,0,0,0,2,1,2,3]
[16,"3.7cm Sprgr.",5,1.32,745,1,0.66500000000000004,37,0,0,0,1,2.6000000000000002E-2,1,0,0,0,3,4,7,10]
[17,"3.7cm PzGr.",1,1.32,745,1,0.68500000000000005,37,64,50,"#C8FFC880",1,1.3000000000000001E-2,1,0,0,0,0,0,0,0]
[18,"7.5cm K.Gr.rot.Pz (KwK 37)",1,8.27,385,1,6.8,75,54,54,"#C8FFC880",1,0.08,1,0,0,0,0,0,0,0]
[19,"7.5cm Sprgr (KwK 37)",5,9.15,420,1,5.74,75,0,0,0,1,0.66,1,0,0.5,2,8,6,10,16]
[20,"7.5cm Sprgr.34",5,9.18,550,1,5.74,75,0,0,0,1,0.66,1,0,0.5,2,8,6,10,16]
[21,"7.5cm Pzgr.39",2,12.02,740,1,6.8,75,133,133,"#C8FFC880",1,1.7000000000000001E-2,1,0,0,0,0,0,0,0]
[22,"7.5cm Sprgr.42 (KwK 42)",5,15,700,1,5.76,75,0,0,0,1,0.65,1,0,0.5,2,8,6,10,16]
[23,"7.5cm PzGr.39/42 (KwK 42)",2,15,935,1,6.8,75,185,185,"#C8FFC880",1,1.7000000000000001E-2,1,0,0,0,0,0,0,0]
[24,"8.8cm PzGr",2,15,780,1,10.199999999999999,88,162,162,"#C8FFC880",1,0.16,1,0,0,0,0,0,0,0]
[25,"8.8cm SprGr.43",5,15,600,1,9,88,0,0,0,1,0.69800000000000006,1,0,0.5,2,8,6,10,16]
[26,"(Reserved)",0,0,0,0,0,0,0,0,0,0,0,0,0,0,0,0,0,0,0]
[27,"Italian 8mm Ball (Breda MMG)",0,0.03,780,1,1.3000000000000001E-2,8,8,5,0,-1,0,0,0,0,0,0,0,0,0]
[28,"47/32mm APC M35",2,2.9,630,1,1.51,47,47,47,"#C8FFC880",1,1.4999999999999999E-2,1,0,0,0,0,0,0,0]
[29,"47/32mm HE M35",5,2.8,250,1,2.4,47,0,0,0,1,0.15,1,0,0,0,3,4,7,10]
[30,"Mk II Frag Grenade",5,0.60000000000000009,18,1,0.60000000000000009,57,0,0,0,1,0.02,3,4.5,0,0,2,3,6,8]
[31,"Stielhandgranate 39",5,0.62,18,1,0.62,70,0,0,0,1,0.2,3,4.5,0,1.5,6,3,6,8]
[32]
[33]
[34,"Fragmentation",0,0.5,900,1,0.5,25,6,5,0,-1,0,0,0,0,0,0,0,0,0]
[35,"5cm Pzgr.39",2,3.49,835,1,2.06,50,96,96,"#C8FFC880",4,2.5000000000000001E-2,1,0,0,0,0,0,0,0]
[36,"5cm Sprgr.38",5,3.11,550,1,1.82,50,0,0,0,1,0.17,1,0,0,0,3,4,7,10]
[37]
[38]
[39]
[40,"2cm M-Gesch.Patr.151",5,0.30000000000000004,800,1,0.1,20,0,0,"#C8FFC880",1,{"$f":"18.6/1000","v":1.8600000000000002E-2},1,0,0,0,2,1,2,3]
[41,"SC250 Bomb",5,250,0,1,250,370,0,0,0,1,130,1,0,4,15,40,24,45,60]
[42,"81mm HE M43A1 (Charge 0)",5,3.14,170,6,3.14,81,0,0,0,1,0.55000000000000004,1,0,0.5,2,8,4,10,16,71,100,127,136,173,193,null,null,"Charge 0: 235, 332, 419, 449, 572, 638"]
[43,"8cm Wgr.34 (CHARGE 1)",5,3.52,170,3,3.52,80,0,0,0,1,0.5,1,0,0.5,2,8,4,10,16]
[44,"IT 81mm Mortar HE",5,2.4,170,5,2.4,81,0,0,0,1,0.54,1,0,0.5,2,8,4,10,16]
[45,"10.5cm SprGr.",5,19.2,391,1,14.81,105,0,0,0,1,1.36,1,0,1,3,10,5,12,18,200,232,264,317,391,470]
[46,"75/27 HE M32",5,7.7249999999999996,295,1,6.35,75,0,0,0,1,0.60000000000000009,1,0,0.5,2,8,5,10,15]
[47,"M17 HE rifle grenade",5,0.66700000000000004,50,1,0.66700000000000004,58,0,0,0,1,5.7000000000000002E-2,1,4.5,0,0,2,3,6,8]
[48,"M9A1 HEAT AT rifle grenade",7,0.59,50,1,0.59,45,51,51,0,1,0.158,1,0,0,0,2,3,6,8]
[49]
[50,"M8 Smoke Grenade",9,0.7,18,1,0.7,60,0,0,0,5,0.54,3,4.5,0,0,0,0,0,0]
[51]
[52,"Gewehr Sprenggranate",5,0.28000000000000003,50,1,0.28000000000000003,30,0,0,0,4,3.1E-2,1,0,0,0,2,3,6,8]
[53,"Gewehr Panzergranate",7,0.25,50,1,0.25,30,25,25,0,1,0.05,1,0,0,0,2,3,6,8]
[54,"Gross Gewehr Panzergranate",7,0.38,50,1,0.38,45,70,70,0,1,0.12,1,0,0,0,2,3,6,8]
[55,"Italian 6.5mm Ball",0,2.4E-2,700,1,0.01,6.5,8,4,0,-1,0,1,0,0,0,0,0,0,0]
[56,"Italian 20mm AP",1,0.32700000000000001,840,1,0.14599999999999999,20,41,0,"#C8FFC880",1,3.0000000000000001E-3,1,0,0,0,2,1,2,3]
[57,"Italian 20mm HE",5,0.29399999999999998,800,1,0.115,20,0,0,"#C8FFC880",4,6.0000000000000001E-3,1,0,0,0,2,1,2,3]
[58,"47/32mm AP M35",1,2.9,630,1,1.51,47,56,0,"#C8FFC880",1,1.4999999999999999E-2,1,0,0,0,2,1,2,3]
[59,"47/32mm EP",7,2.9,630,1,1.23,47,47,0,0,1,1.4999999999999999E-2,1,0,0,0,2,1,2,3]
[60]
[61]
[62]
[63,"9mm Corto",0,1.2E-2,230,1,6.0000000000000001E-3,9,0.75,0.60000000000000009,0,-1,0,0,0,0,0,0,0,0,0]
[64,"Italian 6.5mm Ball (carbine)",0,2.4E-2,660,1,0.01,6.5,8,4,0,-1,0,1,0,0,0,0,0,0,0]
[65,"Italian 45mm Mortar HE",5,0.46500000000000002,70,4,0.46500000000000002,45,0,0,0,1,7.0000000000000007E-2,1,0,0,1.5,6,5,8,12,58,89,115,136]
[66,"M6 AT Rocket",7,1.5,80,1,0.8,60,30,30,0,4,0.22,1,0,0,0,2,0,0,0]
[67,"Nebelhandgranate 41",9,0.53,18,1,0.53,66,0,0,0,5,0.44,3,7,0,0,0,0,0,0]
[68,"Panzerfaust 30 Klein",7,0.5,28,1,0.5,100,140,140,0,1,0.4,1,0,0,0,2,3,6,8]
[69,"Panzerfaust 30",7,0.5,30,1,0.5,149,200,200,0,1,0.4,1,0,0,0,2,3,6,8]
[70,"8.8cm RPzB. Gr. 4322 Panzershrek Rocket",7,0.45700000000000002,110,1,0.45700000000000002,88,170,170,0,1,0.45,1,0,0,0,2,3,6,8]
[71,"5cm Wgr.36 Nb",9,1,75,4,1,50,0,0,0,5,0.127,1,0,0,0,0,0,0,0,58,89,115,136]
[72,"5cm Wgr.36",5,1,75,4,1,50,0,0,0,1,0.127,1,0,0,1.5,6,5,8,12,58,89,115,136]
[73,"81mm Smoke M57 (Charge 1)",9,5.15,88,4,5.15,81,0,0,0,5,2.08,0,0,0,0,0,0,0,0,291,390,472,544]
[74,"Italian 45mm Mortar smoke",9,0.46500000000000002,70,4,0.46500000000000002,45,0,0,0,5,7.0000000000000007E-2,1,0,0,0,0,0,0,0,58,89,115,136]
[75]
[76]
[77]
[78,"Demo charge (GE)",5,3.63,40,1,3.63,300,0,0,0,1,3.63,3,5,4,15,40,24,45,60]
[79,"Gasoline",5,1,30,1,1,30,0,0,0,7,1,0,0,1,3,0,0,0,0]
[80,"Breda Mod 35 Hand Grenade",5,0.2,18,1,0.2,53,0,0,0,1,0.06,1,0,0,0,2,3,6,8]
[81,"Breda Mod 42 AT Grenade",5,1,16,1,1,90,20,20,0,1,0.60000000000000009,1,0,4,15,40,24,45,60]
[82,"Breda Mod 35 F Smoke Grenade",5,0.2,18,1,0.2,53,0,0,0,5,0.16,1,0,0,0,0,0,0,0]
[83,"IT 81mm Hvy Mortar HE",5,6.6,170,5,6.6,81,0,0,0,1,1,1,0,0.5,2,8,4,10,16]
[84,"IT 81mm Mortar Smoke",9,2.4,170,5,2.4,81,0,0,0,5,2,1,0,0,0,0,0,0,0]
[85,"M6A3 AT Rocket",7,1.5,80,1,0.8,60,30,30,0,4,0.22,1,0,0,0,2,0,0,0]
[86,"M10 WP Rocket",10,1.5,80,1,0.8,60,0,0,0,6,0.4,1,0,0,0,0,0,0,0]
[87]
[88]
[89]
[90]
[91,"7.5mm Balle C",0,2.6000000000000002E-2,830,1,0.01,7.62,8,5,0,-1,0,0,0,0,0,0,0,0,0]
[92,"HE Mle 1916",5,1.32,367,1,0.56000000000000005,37,0,0,0,1,0.03,1,0,0,0,3,4,7,10]
[93,"AP Mle 1937",1,1.1000000000000001,600,1,0.39,37,25,14,"80FFC8C8",-1,0,0,0,0,0,0,0,0,0]
[]
[]
[]
[]
[null,"Fragmentation",0,0.5,900,1,0.5,25,6,5,0,-1,0,0,0,0,0,0,0,0,0]
[null,"Mk II Frag Grenade",5,0.60000000000000009,18,1,0.60000000000000009,57,0,0,0,1,0.02,3,4.5,0,0,2,3,6,8,null,null,null,null,115,4.5,0.42,50,2715,25.5]
[null,"Mk III Offensive Grenade",5,0.4,18,1,0.4,60,0,0,0,1,0.2,3,4.5,0,1.5,6,3,6,8]
[null,"M8 Smoke Grenade",9,0.7,18,1,0.7,60,0,0,0,5,0.54,3,4.5,0,0,0,0,0,0,null,"Duration = 70 * charge seconds"]
[null,"M15 WP Grenade",10,0.9,18,1,0.9,60,0,0,0,6,0.42499999999999999,3,4.5,0,0,0,0,0,0,null,"Duration = 60 * charge seconds"]
[]
[null,"Stielhandgranate 39",5,0.62,18,1,0.62,70,0,0,0,1,0.2,3,4.5,0,1.5,6,3,6,8,null,"blast radius 16yds",null,null,{"$f":"Z223/15432.3584","v":7.4518746272766714E-3},{"$f":"AA223/35.274","v":0.12757271644837556},{"$f":"AB223*25.4","v":10.667999999999999},{"$f":"AC223*1.6093","v":80.465000000000003},{"$f":"AD223*0.3048","v":827.53200000000004},{"$f":"AE223*0.453592","v":11.566596000000001}]
[null,"Eierhandgranate 39",5,0.34,18,1,0.34,50,0,0,0,1,0.11,3,4.5,0,1,5,3,6,8]
[null,"Nebelhandgranate 39",9,0.72,18,1,0.72,70,0,0,0,5,0.42,3,7,0,0,0,0,0,0,null,{"$f":"60*M230","v":25.2},"seconds"]
[null,"Granate geballte Ladung",5,4.3,18,1,4.3,210,0,0,0,1,1.4,3,4.5,0,1.5,6,3,6,8,null,"(7 stick grenade heads)"]
[null,"Nebelhandgranate 41",9,0.53,18,1,0.53,66,0,0,0,5,0.44,3,7,0,0,0,0,0,0]
[]
[]
[]
[null,".30 Ball M2",0,2.6000000000000002E-2,855,1,0.01,7.62,8,5,0,-1,0,0,0,0,0,0,0,0,0]
[null,".30 AP M2",1,2.7E-2,843,1,0.01,7.62,17,12,0,-1,0,0,0,0,0,0,0,0,0]
[null,".30 Tracer M1",0,2.6000000000000002E-2,855,1,0.01,7.62,8,5,"80EBC8C8",-1,0,0,0,0,0,0,0,0,0]
[null,".30 Carbine M1",0,1.3000000000000001E-2,602,1,7.0000000000000001E-3,7.62,4,2,0,-1,0,0,0,0,0,0,0,0,0]
[null,".45 Ball",0,2.1000000000000001E-2,285,1,1.4999999999999999E-2,11.43,1.5,1.2,0,-1,0,0,0,0,0,0,0,0,0]
[null,".50 Ball M2",0,0.12,895,1,4.5999999999999999E-2,12.7,16,9,0,-1,0,0,0,0,0,0,0,0,0]
[null,".50 AP M2",2,0.12,867,1,4.5999999999999999E-2,12.7,28,26,0,-1,0,0,0,0,0,0,0,0,0]
[null,".50 Tracer M1",0,0.12,873,1,4.4999999999999998E-2,12.7,15,8,"80EBC8C8",-1,0,0,0,0,0,0,0,0,0]
[]
[]
[null,"M6 Rocket",7,2.8,82,1,null,null,null,null,0]
[null,"M6A1 Rocket",7,null,82,1,null,null,null,null,0]
[null,"M6A3 Rocket",7,null,null,null,null,null,null,null,0]
[null,"M10 WP Rocket (44-45)"]
[]
[]
[]
[null,"37mm AP-T M74",1,1.51,884,1,0.87,37,89,65,"80FFC8C8",-1,0,0,0,0,0,0,0,0,0]
[null,"37mm APC-T M51",2,1.58,884,1,0.87,37,78,73,"80FFC8C8",-1,0,0,0,0,0,0,0,0,0,null,null,null,null,"81mm @ 0 @ 0m quoted"]
[null,"37mm HE M63",5,1.42,792,1,0.73,37,0,0,0,1,0.04,1,0,0,0,3,4,7,10]
[null,"37mm Cannister M2",8,1.79,762,1,0.88,37,0,0,0,-1,0,0,0,0,0,0,"?","?","?"]
[]
[null,"Smoke Bomb Mk I/L, 2\" Mortar M3",10,0.94,null,1,0.9,51,0,0,0,5,null,null,null,null,null,null,null,null,null,null,null,null,null,"2\" mortar smoke - 2 mins smoke, with weak side wind & 1 round per minute = 45-65m smoke screen"]
[]
[]
[null,null,null,null,"FPS to MPS",null,0.30479999024640003,null,"inch to mm",null,25.4,null,null,null,null,null,null,null,{"$f":"20.9*G262","v":9.4800727999999985}]
[null,null,null,null,"Lbs to KG",null,{"$f":"0.453592","v":0.453592}]
[]
[]
[null,"57mm AP-T M70",1,5.83,900,1,2.85,57,135,104,"80FFC8C8",-1,0,0,0,0,0,0,0,0,0]
[null,"57mm APC-T M86",2,6.31,823,1,3.3,57,110,103,"80FFC8C8",1,0.03,1,0,0,0,2,0,0,0]
[null,"57mm HE (British) (Normandy)"]
[null,"57mm HE M303 (late 44-45)"]
[null,"57mm APDS (British)"]
[null,null,null,null,null,null,null,null,null,null,null,null,null,null,null,null,null,null,null,null,null,null,null,null,null,"Charge 0","Charge 1","Charge 2","Charge 3"]
[null,"60mm HE M49A2 (Charge 0)",5,1.32,58,4,1.32,60,0,0,0,1,0.15,1,0,0,1.5,6,5,8,12,null,null,null,null,"189 ft/s",292,377,449]
[null,"60mm Illuminating M83 (Normandy)",11,1.6800000000000002,95,3,1.6800000000000002,60,0,0,0,-1,0,0,0,0,0,0,0,0,0,null,null,null,null,"Height of burst 153 yds"]
[null,"60mm WP M302 (Post-Normandy)",null,null,48,5,null,null,null,null,null,null,null,null,null,null,null,null,null,null,null,null,null,null,null,58,{"$f":"AA271*0.3048","v":89.00160000000001},{"$f":"AB271*0.3048","v":114.90960000000001},{"$f":"AC271*0.3048","v":136.8552},null,{"$f":"89/58","v":1.5344827586206897},{"$f":"114/58","v":1.9655172413793103},{"$f":"136/58","v":2.3448275862068964}]
[null,null,null,null,null,null,null,null,null,null,null,null,null,null,null,null,null,null,null,null,null,null,null,null,null,null,null,null,null,null,null,{"$f":"AF273-AE273","v":0.43103448275862055},{"$f":"AG273-AF273","v":0.37931034482758608}]
[null,"75mm Gun","M2 Gun=0.95 vel mod. M1897A4 = 0.98",null,null,null,null,null,null,null,null,null,null,null,null,null,null,null,null,null,null,null,null,null,null,null,{"$f":"Z273+31","v":89},{"$f":"AA273+25","v":114.00160000000001},{"$f":"AB273+22","v":136.90960000000001}]
[null,"75mm AP-T M72",1,8.5500000000000007,618,null,6.32,75,109,91,"80FFC8C8",-1,0,0,0,0,0,0,0,0,0,null,null,null,null,"mv/inc",{"$f":"31/Z273","v":0.53448275862068961},{"$f":"25/Z273","v":0.43103448275862066},{"$f":"22/58","v":0.37931034482758619}]
[null,"75mm APC-T M61",2,9.1,618,null,6.8,75,88,102,"80FFC8C8",1,6.5000000000000002E-2,1,0,0,0,0,0,0,0,null,null,null,null,"inc2/inc1"]
[null,"75mm Smoke M89",9,4.47,260,null,3,75,0,0,0,5,null,0,0,0,0,0,0,0,0,null,null,null,null,"2 minute burn time"]
[null,"75mm HE M48",5,8.2799999999999994,462,null,6.68,75,0,0,0,1,0.68,1,0,0.5,2,8,6,10,16]
[null,"75mm WP M64",10,8.6,600,null,7,75,0,0,0,6,0.61,0,0,0,0,0,0,0,0]
[]
[null,"75mm Howitzer"]
[null,"75mm WP M64",10,8.6,600,null,7,75,0,0,0,6,0.61,0,0,0,0,0,0,0,0]
[null,"75mm Smoke M89",9,4.47,260,null,3,75,0,0,0,5,null,0,0,0,0,0,0,0,0,null,null,null,null,"2 minute burn time"]
[null,"75mm HEAT M66",7,7.4,305,null,6.03,75,89,89,0,4,0.36,1,0,0,0.5,2,0,0,0]
[null,"75mm HE M48",5,8.2799999999999994,462,null,6.68,75,0,0,0,1,0.68,1,0,0.5,2,8,6,10,16]
[]
[]
[]
[null,"3 Inch HE M42A1",5,11.07,854,null,5.85,76.2,0,0,0,1,0.39,1,0,0,1,4,4,8,12]
[null,"3 Inch APC M62",2,12.38,792,null,7,76.2,124,132,"80FFC8C8",1,6.5000000000000002E-2,1,0,0,0,0,0,0,0]
[null,"3 Inch AP M79",1,12.18,792,null,6.82,76.2,154,132,"80FFC8C8",-1,0,0,0,0,0,0,0,0,0]
[null,"3 Inch HC M88","(Small production, post-Normandy avail.)"]
[null,"3 inch HVAP"]
[]
[]
[null,"76mm HE M42A1",5,10.050000000000001,823,null,5.85,76,0,0,0,1,0.39]
[null,"76mm APC M62A1",2,11.16,792,null,7,76,125,132,"80FFC8C8",1,6.5000000000000002E-2,1,0,0,0,0,0,0,0]
[null,"76mm Smoke M88",9,6.1,274,null,3.45,76,0,0,0,5,1.43,0,0,0,0,0,0,0,0]
[null,"76mm AP M79",1,11.02,792,null,6.82,76,155,131,"80FFC8C8",-1,0,0,0,0,0,0,0,0,0]
[null,"76mm HVAP",4,null,1035,null,null,76,239,239]
[]
[null,"81mm HE M43A1 (Charge 0)",5,3.14,72,5,3.14,81,0,0,0,1,0.55000000000000004,1,0,0.5,2,8,4,10,16,null,null,null,null,"Charge 0: 235, 332, 419, 449, 572, 638",null,null,null,{"$f":"332/235","v":1.4127659574468086},{"$f":"419/235","v":1.7829787234042553},{"$f":"449/235","v":1.9106382978723404},{"$f":"572/235","v":2.4340425531914893},{"$f":"638/235","v":2.7148936170212767}]
[null,"81mm HE M56 (Charge 1)",5,4.83,93,4,4.83,81,0,0,0,1,1.9500000000000002,1,0,1,3,10,5,12,18,null,null,null,null,"Charge 1: 306, 412, 502, 583",null,null,null,null,{"$f":"AE303-AD303","v":0.37021276595744679},{"$f":"AF303-AE303","v":0.12765957446808507},{"$f":"AG303-AF303","v":0.52340425531914891},{"$f":"AH303-AG303","v":0.28085106382978742}]
[null,"81mm Smoke M57 (Charge 1)",9,5.15,88,4,5.15,81,0,0,0,5,2.08,0,0,0,0,0,0,0,0,null,null,null,null,"Charge 1: 291, 390, 472, 544"]
[null,"81mm WP M57 (Charge 1)",10,5.15,91,4,5.15,81,0,0,0,6,1.85,0,0,0,0,0,0,0,0,null,null,null,null,"Charge 1: 297, 399, 484, 560"]
[]
[]
[]
[]
[]
[null,"105mm HE M1",5,19,472,null,15,105,0,0,0,1,2.1800000000000002,1,0,1,3,12,6,12,20]
[null,"105mm HEAT M67",7,16.8,380,null,13.28,105,128,128,0,4,1.33,1,0,0,1,3,0,0,0]
[null,"105mm WP M60",9,19.75,472,null,15.6,105,0,0,0,6,1.86,0,0,0,0,0,0,0,0]
[null,"105mm Smoke M84",10,19,472,null,14.9,105,0,0,0,5,3.4,0,0,0,0,0,0,0,0]
[]
[]
[]
[null,"155mm HE M107",5,52.27,640,null,43,155,0,0,0,1,6.87,1,0,1.5,9,16,7,14,22]
[null,"155mm Smoke M116",9,51.5,640,null,47.4,155,0,0,0,5,11.7,0,0,0,0,0,0,0,0]
[]
[]
[null,"500lb GP Bomb AN-M64A1",5,227,0,null,227,null,0,0,0,1,120,1,0,4,15,40,24,45,60]
[]
[null,"250kg SC250 Bomb",5,250,0,null,250,null,0,0,0,1,130,1,0,4,15,40,24,45,60]
[]
[]
[]
[null,null,null,null,null,null,null,null,null,null,"#FFFFC880","Yellow"]
[null,null,null,null,null,null,null,null,null,null,"#C8FFC880","Green"]
[null,"9mm Pist. Patr. 08",0,1.2E-2,390,1,8.0000000000000002E-3,9,2,1.4,0,-1,0,null,null,{"$f":"E331*E331*G331*0.5","v":608.4}]
[null,"7.92mm Patr.s.S.",0,2.6000000000000002E-2,755,1,1.3000000000000001E-2,7.92,8,5,0,-1,0,null,null,{"$f":"E332*E332*G332*0.5","v":3705.1625000000004}]
[null,"7.92mm Patr.S.m.K",1,2.9000000000000001E-2,785,1,1.2E-2,7.92,16,12,0,-1,0,null,null,{"$f":"E333*E333*G333*0.5","v":3697.35}]
[]
[null,"7.92mm Patr.318",4,8.4000000000000005E-2,1150,1,1.4E-2,7.92,34,34,0,-1,0]
[]
[null,"Gewehr Sprenggranate",5,0.28000000000000003,null,1,0.28000000000000003,30,0,0,0,"PETN",3.1E-2,1,0]
[null,"Gewehr Panzergranate",7,0.25,null,1,0.25,30,25,25,0,"Cyclo",0.05,1,0]
[null,"Gross Gewehr Panzergranate",7,0.38,null,1,0.38,45,70,70,0,"Cyclo",0.12,1,0]
[]
[null,"5cm Wgr.36 Nb",9,null,70,1,null,50,0,0,0,"HC?"]
[null,"5cm Wgr.36",5,1,70,1,1,50,0,0,0,"TNT",0.127]
[]
[]
[null,"8cm Granat Werfer 34"]
[null,"8cm Wgr.39 (CHARGE 1)",5,null,70,3,3.52,80,0,null,0,"TNT",0.5]
[null,"8cm Wgr.34 Nb (CHARGE 1)",9,null,70,3,3.57,80,0,null,0,"TNT",0.39]
[]
[]
[]
[]
[]
[null,"2cm PzGr.",1,0.32700000000000001,760,1,0.14599999999999999,20,45,28,"YES","TNT?",3.0000000000000001E-3]
[null,"2cm PzGr.40",4,null,1000,1,0.1,20,63,63,"YES",-1,0]
[null,"2cm SprGr.",3,0.29399999999999998,800,1,0.115,20,0,0,"YES","Nitropenta?",6.0000000000000001E-3]
[]
[null,"2.8cm PzGr",4,0.57699999999999996,1400,1,0.13,20,83,83,"YES",-1,0]
[null,"2.8cm Sprg",3,0.63,1400,1,8.7999999999999995E-2,20,0,0,0,"PETN",5.0000000000000001E-3]
[]
[null,"3.7cm PzGr.18 (Flak)",1,1.6,770,1,0.68500000000000005,37,null,null,"YES","PETN",0.01]
[null,"3.7cm SprGr.18 (Flak)",3,1.51,null,1,0.63500000000000001,37,null,null,"YES","PETN",2.5500000000000002E-2]
[]
[null,"3.7cm Sprgr.40",5,1.32,null,1,0.66500000000000004,37,0,null,"YES","PETN",4.2500000000000003E-2,1]
[null,"3.7cm PzGr.",1,1.32,745,1,0.68500000000000005,37,64,50,"YES","PETN",1.3000000000000001E-2,0,0]
[null,"3.7cm PzGr.40",4,0.95,945,1,0.36799999999999999,37,90,null,"YES",255,0,0,0]
[null,"3.7cm Stielgranate 41",7,8.3000000000000007,110,1,8.3000000000000007,37,180,null,0,"Cyclonite/TNT",2.2800000000000002]
[]
[null,0.453592,20,{"$f":"C368*B368","v":9.0718399999999999}]
[null,2.83495E-2,6.75,{"$f":"B369*C369","v":0.19135912499999999}]
[null,null,null,{"$f":"D368+D369","v":9.2631991249999999}]
[]
[null,"4.2cm Pzgr.41",2,1.51,null,1,0.37,28,null,null,"YES",255,0]
[null,"4.2cm Spgr.",3,1.36,null,1,0.28000000000000003,28,0,null,0,"Cyclonite",2.5000000000000001E-2]
[]
[null,"5cm L42"]
[null,"5cm Pzgr.",1,3.46,685,1,2.06,50,null,null,"YES","PETN",1.7000000000000001E-2,1,0]
[null,"5cm Pzgr.39",2,3.49,685,1,2.06,50,null,null,"YES","PETN",2.5000000000000001E-2,1,0]
[null,"5cm Pzgr.40",4,2.73,1050,1,0.92,50,null,null,"YES",null,0,0,0]
[null,"5cm Sprgr.38",5,3.11,450,1,1.82,50,0,null,0,"TNT",0.17,1,0]
[]
[null,"5cm L60"]
[null,"5cm Pzgr.",1,3.46,835,1,2.06,50,null,null,"YES","PETN",1.7000000000000001E-2,1,0]
[null,"5cm Pzgr.39",2,3.49,835,1,2.06,50,null,null,"YES","PETN",2.5000000000000001E-2,1,0]
[null,"5cm Pzgr.40",4,2.73,1180,1,0.92,50,null,null,"YES",null,0,0,0]
[null,"5cm Pzgr.40/1",4,null,1130,1,1.07]
[null,"5cm Sprgr.38",5,3.11,550,1,1.82,50,0,null,0,"TNT",0.17,1,0]
[null,"(Typical load 58HE, 36AP, 5 AP40?)"]
[]
[]
[]
[]
[null,"KwK 37 L24 75mm"]
[null,"7.5cm Pzgr.Patr (KwK 37)",1,8.4700000000000006,385,1,6.8,75,54,null,"YES","TNT",0.08]
[null,"7.5cm Gr.Patr (KwK 37)",5,7.35,420,1,5.74,75,null,null,0,"AMATOL",0.66,1]
[null,"7.5cm Nbgr.Patr. (KwK 37)",9,7.8,null,1,6.2,75,null,null,null,"smoke",0.65]
[null,"7.5cm Gr.38 HL",7,5.84,450,1,4.5,75,52,null,null,"Cyclonite",0.55000000000000004,1]
[null,"7.5cm Gr.38 HL/A",7,5.36,450,1,4.4000000000000004,75,81,null,null,"Cyclonite",0.39400000000000002,1,0]
[null,"7.5cm Gr.38 HL/B",7,5.54,450,1,4.57,75,87,null,null,"Cyclonite",0.50800000000000001,1,0]
[null,"7.5cm Gr.38 HL/C",7,5.86,450,1,5,75,115,null,null,"Cyclonite",0.51]
[]
[null,"(L43 GUN)"]
[null,"7.5cm Sprgr.34",5,9.18,550,1,5.74,75,0,null,0,"AMATOL",0.66,1,0,"NOTE: Frag effect 15m to the side, 7m to the front (from firing table)"]
[null,"7.5cm Pzgr.39",2,12.02,740,1,6.8,75,133,null,"YES","Cyclonite",1.7000000000000001E-2,1,0]
[null,"7.5cm PzGr.40",4,null,920,1,4.0999999999999996,"??",173,null,null,-1,0,0,0]
[]
[null,"(L46 GUN)"]
[null,"7.5cm Sprgr.34",5,9.18,550,1,5.74,75,0,null,0,"AMATOL",0.66,1,0]
[null,"7.5cm Pzgr.39",2,12.02,750,1,6.8,75,146,null,"YES","Cyclonite",1.7000000000000001E-2,1,0]
[null,"7.5cm PzGr.40",4,null,930,1,4.0999999999999996,"??",195,null,null,-1,0,0,0]
[]
[null,"(L48 GUN)"]
[null,"7.5cm Sprgr.34",5,9.18,550,1,5.74,75,0,null,0,"AMATOL",0.66,1,0]
[null,"7.5cm Pzgr.39",2,12.02,750,1,6.8,75,135,null,"YES","Cyclonite",1.7000000000000001E-2,1,0]
[null,"7.5cm PzGr.40",2,null,930,1,4.0999999999999996,"??",176,null,null,-1,0,0,0]
[null,"7.5cm Nbgr.KwK (all?)",9,9.15,540,1,6.2,75,null,null,null,null,null,null,null,"NOTE: 15-20m diameter, 30 seconds"]
[null,"7.5cm Gr.38 HL/B",7,null,450,1,4.57,75,87,null,null,"Cyclonite",0.50800000000000001,1,0]
[null,"7.5cm Gr.38 HL/C",7,null,450,1,5,75,115,null,null,"Cyclonite",0.51]
[]
[]
[null,"(L70)"]
[null,"7.5cm Sprgr.42",5,null,700,1,5.74,75,0,null,0,"AMATOL",0.65]
[null,"7.5cm PzGr.39/42",2,null,935,1,6.8,75,185,null,"YES","Cyclonite",1.7000000000000001E-2]
[null,"7.5cm PzGr.40/42",4,null,1120,1,4.75,"??",265,null,"YES",-1,0]
[]
[null,"7.62cm Sprgr.39",5,9.5,550,1,6.2,76.2,0,null,null,"AMATOL",0.55000000000000004]
[null,"7.62cm Pzgr.39 rot",2,12.7,710,1,7.6,76.2,133,null,"YES","TNT",0.17]
[null,"7.62cm Pzgr.40",4,8.6,990,1,4.1500000000000004,"??",188,null,null,-1]
[null,"7.62cm Gr.38 Hl/B",7,null,450,1,4.62,76.2,90,null,null,null,0.50800000000000001]
[null,"7.62cm Gr.38 Hl/C",7,null,450,1,5.05,76.2,"??"]
[]
[null,"7.5cm lGr.18 (Charge 1)",5,6.18,167,3,5.45,75,0,null,null,"AMATOL",0.66,null,null,"Charge 1: 167, 2: 212, 3: 260 (1944 charge loading)",null,null,null,null,null,null,null,null,{"$f":"212/167","v":1.2694610778443114},{"$f":"260/167","v":1.5568862275449102}]
[null,"7.5cm lGr.38 HL",7,null,260,1,2.95,75,"??",null,null,"Cyclonite",0.52]
[null,"7.5cm lGr.38 HL/A",7,null,345,1,3,75,"??",null,null,"Cyclonite",0.52]
[]
[null,"(8.8cm KwK 36)"]
[null,"8.8cm PzGr",2,null,null,1,9.5,88,null,null,null,null,0.16]
[null,"8.8cm PzGr.39",2,20.87,780,1,10,88,162,null,"YES","Cyclonite",5.9000000000000004E-2]
[null,"8.8cm PzGr.40",4,null,930,1,7.3,88,219,null,"YES",-1,0]
[null,"8.8cm Hl.Gr.39",7,null,600,1,7.65,88,110,null,"YES","Cyclonite",0.64600000000000002]
[null,"8.8cm SprGr Flak",5,"??",810,1,9,88,0,null,0,"AMATOL",0.69800000000000006]
[null,"8.8cm SprGr.43",5,null,380,1]
[]
[]
[]
[null,"10.5cm StuK ",null,null,null,1]
[null,"10.5cm SprGr (below)",null,null,null,1]
[null,"10.5cm NbGr (below)",null,null,null,1]
[]
[]
[null,"10.5cm leFH",null,null,null,1]
[null,"10.5cm PzGr.",1,null,470,1,14,105,null,null,"YES","TNT",0.23]
[null,"10.5cm Gr. 39 Hl",7,null,420,1,11.76,105]
[null,"10.5cm Gr. 39 Hl/A",7,null,420,1,12.3,105,92,null,null,"Cyclonite",1.74]
[null,"10.5cm Gr. 39 Hl/B",7,null,420,1,12.1,105,104,null,null,null,1.49]
[null,"10.5cm Gr. 39 Hl/C",7,null,420,1,12.35,105,115,null,0,"Cyclonite",1.5]
[null,"10.5cm SprGr.",5,null,390,1,14.81,105,0,null,0,"TNT",1.36,null,null,"(Frag - 30m sides, 10m nose)"]
[null,"10.5cm NbGr.",9,null,400,1,14,105,0,null,0,null,null,null,null,"(diameter 25-30m, 40 seconds)"]
[]
[null,"(sIG33 150mm)"]
[null,"15cm Igr.39 HL/A",7,null,275,1,25,150,0,null,"YES","Cyclonite",3.86]
[null,"15cm Igr.38 Nb",9,null,124,6,38.5,150,0,null,0,null,null,null,null,"(50m diameter, 70 seconds)"]
[null,"15cm Stielgranat 42",7,null,103,1,89.5,150,0,null,0,"AMATOL",27.3]
[null,"15cm Igr.38 (Spgr.)",5,null,125,6,38,150,0,null,0,"TNT",18.260000000000002,null,null,"(Charge 1: 125, 2: 152, 3:185, 4:210, 5:230, 6:240)",null,null,null,null,null,{"$f":"152/125","v":1.216},{"$f":"185/152","v":1.2171052631578947},{"$f":"210/185","v":1.1351351351351351},{"$f":"230/210","v":1.0952380952380953},{"$f":"240/230","v":1.0434782608695652}]
[null,null,"(Frag effect on SprGr. 60m sides, 20m ahead, 10m tail)"]
[]
[null,"8.8cm Panzershrek Rocket",7,null,null,1,null,null,null,null,165]
[null,"Panzerfaust 30",7,null,null,1,null,null,null,null,200]
[]
[]
[null,"9mm Corto",0,null,230,1,6.0000000000000001E-3,9,0.75,0.60000000000000009,0,-1,0]
[null,"Italian 6.5mm Ball",0,2.4E-2,755,1,0.01,6.5,8,4,0,-1,0]
[null,null,null,null,"(630m/s in Breda LMG)"]
[]
[null,"Italian 8mm Ball (Breda MMG)",0,0.03,780,1,1.3000000000000001E-2,8,8,5]
[null,"Italian 8mm AP",1,0.03,null,1,1.2E-2,8,16,12]
[]
[]
[null,"Italian 20mm AP",1,0.32700000000000001,840,1,0.14599999999999999,20,41,null,"YES","TNT?",3.0000000000000001E-3]
[null,"Italian 20mm HE",5,0.29399999999999998,800,1,0.115,20,0,null,"YES","Nitropenta?",6.0000000000000001E-3]
[]
[null,"Italian 45mm Mortar HE",5,0.46500000000000002,70,1,0.46500000000000002,45,0,null,0,"TNT",7.0000000000000007E-2]
[]
[]
[null,"Italian 81mm Mortar HE",5,2.4,"?",5,2.4,81,0,null,0,"TNT",0.54]
[null,"Italian 81mm Hvy Mortar HE",5,6.6,"?",5,6.6,81,0,null,0,"TNT",2]
[null,"Italian 81mm Mortar Smoke",9,2.4,"?",5,2.4,81,0,null,0,"HC","??"]
[]
[null,"47/32mm AP M35",1,2.9,630,1,1.51,47,56,null,"GREEN","TNT",1.4999999999999999E-2]
[null,"47/32mm APC M35",2,2.9,630,1,1.51,47,47,null,"GREEN","TNT",1.4999999999999999E-2]
[null,"47/32mm HE M35",5,2.8,250,1,2.4,47,0,null,0,"TNT",0.15]
[null,"47/32mm EP",7,null,null,1,1.23,47,"??",null,0]
[]
[null,"75/18mm APC",2,8.08,475,1,6.42,75,57,null,null,"TNT",0.26500000000000001]
[null,"75/18mm HE M32",5,7.7249999999999996,295,1,6.35,75,0,null,0,"TNT",0.60000000000000009]
[null,"75/18mm EP",7,5.87,null,1,4.5,75,70,null,null,"??"]
[]
[]
[]
[]
[]
[null,"Breda Mod 35 Hand Grenade",5,0.2,18,1,0.2,53,0,null,0,"TNT",0.06,"All impact fused"]
[null,"Breda Mod 42 AT Grenade",5,1,16,1,1,90,0,null,0,"TNT",0.60000000000000009,null,"Quoted pen 20mm of armor"]
[null,"Breda Mod 35 F Smoke Grenade",5,0.2,18,1,0.2,53,0,null,0,"HC",0.16,null,"Quoted 3m wide, 3m high cloud"]
[]
[]
[null,0.453592,3.3,{"$f":"C506*B506","v":1.4968535999999999},null,2.5]
[null,2.83495E-2,1.0625,{"$f":"B507*C507","v":3.0121343750000001E-2},null,{"$f":"F506/35.274","v":7.087373136020865E-2}]
[null,null,null,{"$f":"D506+D507","v":1.52697494375}]
[]
[]
[null,"GERMAN CARTRIDGE DESIGNATIONS"]
[null,"15cm sIG33 and sFH13",6303]
[null,"7.5cm KwK38",6354]
[null,"7.5cm Pak40 and 7.62cm Pak 36",6340]
[null,"8.8cm Flak 36, KwK 36",6347]
[null,"3.7cm Pak",6331]
[null,"3.7cm Flak",6348]
[null,"5cm KwK 38","??"]
[null,"5cm PaK 38",6360]
[null,"7.5cm KwK40",6339]
[null,"7.5cm IG 18",6341]

{"sheet":"Fire Support","index":14,"n_rows":41,"n_cols":24,"rows_kept":41,"cut":false,"hidden":false,"merged":[]}
[null,"Name","Side","Type (4 = fighter aircraft, 5 fighter-bomber, 6 dive bomber","Nation","Echelon","First Available","Last Available","Model Name","Uniform Index","Attack  Air Speed (m/s)","Weapon Count","Weapon","Firing Point","Weapon","Firing Point"]
[null,null,"Side","Type (0 = mortar, 1 = arty, 3 = naval)","Nation","Echelon","First Avail","Last Avail","# Tubes","Tota Ammo (random +/-10%)","Distance (m)","First Shot Delay (s)","Adjust Shots Delay (s)","FFE Shot Delay (s)","Weapon Idx","Ammo Idx"]
["COUNT","14"]
[0,"P-40F",0,4,0,7,0,1,"curtis p40E",0,80,6,35,0,35,1,35,2,35,3,35,4,35,5]
[1,"P-38F",0,5,0,7,0,2,"P38_lightning",0,90,4,37,5,37,5,37,6,37,6]
[2,"P-47D",0,5,0,7,1,2,"P47 Thunderbolt",0,100,4,36,7,36,8,36,9,36,10]
[3,"A-36",0,6,0,7,0,1,"p51mustang",0,80,2,37,2,37,3]
[4,"P-51",0,4,0,7,2,2,"p51mustang",0,100,6,35,0,35,1,35,2,35,3,35,4,35,5]
[5,"FW190F",1,5,1,7,1,2,"FW_190A",0,80,2,40,1,40,3]
[6,"JU 87D",1,6,1,7,0,0,"JU 87D",0,60,1,40,4]
[7,"ME 109G",1,4,1,7,0,2,"ME_BF109",0,90,3,38,0,38,1,39,0]
[8,"81mm Mortar",0,0,0,5,0,2,6,38,2000,20,6,4,41,36]
[9,"105mm Howitzer",0,1,0,7,0,2,4,18,5000,30,10,15,44,39]
[10,"8cm Mortar",1,0,1,5,0,2,6,38,2000,24,8,4,42,81]
[11,"10.5cm Howitzer",1,1,1,7,0,2,4,18,5000,36,12,15,45,86]
[12,"81mm Mortar",1,0,2,6,0,1,6,38,2000,24,8,4,43,109]
[13,"75mm Howitzer",1,1,2,7,0,1,4,26,3000,36,12,10,46,108]
[]
[]
[]
[]
[]
[]
[]
[]
[]
[]
[]
[]
[null,null,null,"Type","Nation","Unit Indx","First Avail","Last Avail","# Tubes","Weapon Idx","Ammo Idx","Tota Ammo (random +/-20%)","Distance (m)","First Shot Delay (s)","Adjust Shots Delay (s)","FFE Shot Delay (s)"]
[null,"US Mortar",null,0,0,"US Inf Bn",0,2,6,"81mm Mortar M1","81mm HE",40,1000,20,6,4]
[null,"US Cannon Coy",null,1,0,"US Inf Rgt",0,1,3,"75mm How",null,24,null,null,null,10]
[null,"US Cannon Coy",null,1,0,"US Inf Rgt",0,1,2,"105mm How M3",null,20,null,null,null,15]
[null,"US Artillery",null,1,0,"US Div Arty",0,2,4,"105mm How M2A1","105mm HE M1",24,5000,30,10,15]
[null,"GE Mortar",null,0,1,"GE Bn",0,2,6,"8cm Mortar","8cm HE",40,1000,24,8,4]
[null,"GE IG Kp",null,1,1,"GE Rgt",0,2,4,"7.5cm IG",null,null,null,null,null,10]
[null,"GE IG Kp",null,1,1,"GE Rgt",0,2,2,"15cm IG"]
[null,"GE Artillery",null,1,1,"GE Div Art",0,2,4,"10.5cm leFH18","10.5cm HE",24,5000,36,12,15]
[null,"IT Mortar",null,0,2,"It Rgt",0,1,6,"81mm Mortar","81m HE",40,1000,24,8,4]
[null,"IT Artillery",null,1,2,"It Div Art",0,1,4,"75/27 Mod.11","75mm HE",36,3000,36,12,10]
[null,"IT Artillery",null,1,2,"It Div Art",0,1,4,"100/17 Mod.14","100mm HE",24,4000,36,12,15]

{"sheet":"VEHICLES","index":15,"n_rows":239,"n_cols":100,"rows_kept":239,"cut":false,"hidden":false,"merged":[]}
[null,"Name","Model Name","Uniform Index","mass (kg)","Drag Force (at v=1)","Power Train -1=immble, 0=push, 1=wheel, 2=all wheel, 3=halftrack, 4=track","engine HP","engine Torque","Brake force","max road speed (kph)","max offroad speed (kph)","max turn speed (d/s)","Passenger Capacity","hull front upper mm","hull front upper angle","hull front lower mm","hull front lower angle","hull side upper mm","hull side upper angle","hull side lower mm","hull side lower angle","hull rear upper mm","hull rear upper angle","hull rear lower mm","hull rear lower angle","hull top mm","hull top angle","hull bottom mm","hull bottom angle","turret front mm","turret front angle","turret side mm","turret side angle","turret rear mm","turret rear angle","turret top mm","turret top angle","Crew Number","Crew0 Position (0-10) 0=Drive, 1=Gunner, 2=Commander, 3=Loader, 4=Radioman, 5=Asst Gunner, 6=Asst Loader, 7=Asst Driver, 8=Ammo, 9=Passenger, 10=Rider","Crew 0 Exposure (0-2) 0=Never, 1=Unbutton, 2=Always","Crew0 Is Turret Position (0/1)","Crew1 Position (0-8)","Crew1 Exposure","Crew1 Is Turret Position (0/1)","Crew2 Position (0-8)","Crew2 Exposure (0-2)","Crew2 Is Turret Position (0/1)","Crew3 Position (0-8)","Crew 3 Exposure (0-2)","Crew3 Is Turret Position (0/1)","Crew4 Position (0-8)","Crew4 Exposure (0-2)","Crew4 Is Turret Position (0/1)","Crew5 Position (0-8)","Crew5 Exposure","Crew5 Is Turret Position (0/1)","Crew6 Position (0-8)","Crew6 Exposure","Crew6 Is Turret Position (0/1)","Crew7 Position (0-8)","Crew7 Exposure","Crew7 Is Turret Position (0/1)","Weapon 0 Index","Weapon 0 Crew (0-8)","Weapon 0 Mount class","Weapon 1 Index","Weapon 1 Crew (0-8)","Weapon 1 Mount class","Weapon 2 Index","Weapon 2 Crew (0-8)","Weapon 2 Mount class","Weapon 3 Index","Weapon 3 Crew (0-8)","Weapon 3 Mount class","Weapon 4 Index","Weapon 4 Crew (0-8)","Weapon 4 Mount class","Weapon 5 Index","Weapon 5 Crew (0-8)","Weapon 5 Mount class","Weapon 6 Index","Weapon 6 Crew (0-8)","Weapon 6 Mount class","Weapon 7 Index","Weapon 7 Crew (0-8)","Weapon 7 Mount class","Num Ammo Pools","Ammo0 Type","Ammo0 Clips","Ammo1 Type","Ammo1 Clips","Ammo2 Type","Ammo2 Clips","Ammo3 Type","Ammo3 Clips","Ammo4 Type","Ammo4 Clips","Ammo5 Type","Ammo5 Clips"]
["COUNT","87"]
[0,"M3 Light Tank","M3 Stuart",30,12700,1.4,4,260,780,32000,58,30,40,0,38,17,44,23,25,0,25,0,25,59,25,20,13,90,13,90,38,10,32,0,32,0,13,90,4,0,0,0,2,1,1,3,0,1,4,0,0,-1,-1,null,-1,-1,0,-1,-1,0,-1,-1,0,4,1,14,2,3,28,3,1,14,-1,-1,-1,-1,-1,-1,-1,-1,-1,-1,-1,-1,-1,-1,-1,4,15,50,16,50,17,6,9,7250]
[1,"M3 Medium Tank","M3 Lee",31,27900,2.5,4,340,1010,60000,39,20,18,0,51,30,38,53,38,0,38,0,38,0,38,10,13,90,25,90,51,47,51,5,51,5,22,90,7,0,0,0,1,0,1,2,1,1,3,0,1,4,0,0,5,0,0,6,0,0,-1,-1,0,6,5,17,4,1,18,3,2,79,3,1,18,-1,-1,-1,-1,-1,-1,-1,-1,-1,-1,-1,-1,6,15,90,16,88,25,10,26,37,28,3,9,9200]
[2,"M4 Medium Tank","M4 Sherman",32,30300,2.2000000000000002,4,460,1190,65000,39,20,20,0,51,56,51,23,38,0,38,0,38,5,38,5,19,90,25,90,76,30,51,5,51,0,25,90,5,0,0,0,1,0,1,2,1,1,3,0,1,4,0,0,-1,-1,0,-1,-1,0,-1,-1,0,6,1,23,2,4,28,3,1,23,-1,-1,-1,-1,-1,-1,-1,-1,-1,-1,-1,-1,-1,-1,-1,4,25,40,26,53,28,4,9,4750]
[3,"M4A1 Medium Tank","M4A1 75mm",33,30300,2.2000000000000002,4,460,1190,65000,39,20,20,0,51,46,51,23,38,0,38,0,38,5,38,5,19,90,25,90,76,30,51,5,51,0,25,90,5,0,0,0,1,0,1,2,1,1,3,0,1,4,0,0,-1,-1,0,-1,-1,0,-1,-1,0,6,1,23,2,4,28,3,1,23,-1,-1,-1,-1,-1,-1,-1,-1,-1,-1,-1,-1,-1,-1,-1,4,25,40,26,46,28,4,9,4750]
[4,"M3 75mm GMC","T12 75mm halftrack",34,9100,1.5,3,150,360,27000,70,30,30,0,13,25,6,26,6,0,6,0,6,0,6,0,0,0,6,90,0,0,0,0,0,0,0,0,5,0,0,0,1,0,0,2,1,0,3,0,0,5,0,0,-1,-1,0,-1,-1,0,-1,-1,0,91,1,19,-1,-1,-1,-1,-1,-1,-1,-1,-1,-1,-1,-1,-1,-1,-1,-1,-1,-1,-1,-1,-1,3,25,40,26,15,28,4]
[5,"M10 3-Inch GMC","M10 wolverine",35,29600,2.2999999999999998,4,410,1000,66000,40,20,18,0,38,55,51,28,19,38,25,0,19,38,25,0,19,90,13,90,57,45,25,15,25,0,0,0,5,0,0,0,1,0,1,2,1,1,3,0,1,4,0,0,-1,-1,0,-1,-1,0,-1,-1,0,7,1,26,-1,-1,-1,-1,-1,-1,-1,-1,-1,-1,-1,-1,-1,-1,-1,-1,-1,-1,-1,-1,-1,3,30,36,31,14,32,4]
[6,"M2 Halftrack (.30 cal)","M3A1 Halftrack",36,8700,1.4,3,150,360,25000,72,31,30,8,13,25,6,26,6,0,6,0,6,0,6,0,0,0,6,90,0,0,0,0,0,0,0,0,2,0,0,0,1,1,0,-1,-1,0,-1,-1,0,-1,-1,0,-1,-1,0,-1,-1,0,-1,-1,0,2,1,29,-1,-1,-1,-1,-1,-1,-1,-1,-1,-1,-1,-1,-1,-1,-1,-1,-1,-1,-1,-1,-1,1,9,7750]
[7,"M2A1 Halftrack (.30 cal)","M3A1 Halftrack",37,8700,1.4,3,150,360,25000,72,31,30,8,13,25,6,26,6,0,6,0,6,0,6,0,0,0,6,90,0,0,0,0,0,0,0,0,2,0,0,0,1,1,0,-1,-1,0,-1,-1,0,-1,-1,0,-1,-1,0,-1,-1,0,-1,-1,0,2,1,27,-1,-1,-1,-1,-1,-1,-1,-1,-1,-1,-1,-1,-1,-1,-1,-1,-1,-1,-1,-1,-1,1,9,7750]
[8,"M3 Halftrack (.30 cal)","M3A1 Halftrack",38,9100,1.4,3,150,360,27000,72,32,31,10,13,25,6,26,6,0,6,0,6,0,6,0,0,0,6,90,0,0,0,0,0,0,0,0,2,0,0,0,1,1,0,-1,-1,0,-1,-1,0,-1,-1,0,-1,-1,0,-1,-1,0,-1,-1,0,2,1,29,-1,-1,-1,-1,-1,-1,-1,-1,-1,-1,-1,-1,-1,-1,-1,-1,-1,-1,-1,-1,-1,1,9,4000]
[9,"M3A1 Halftrack (.30 cal)","M3A1 Halftrack",39,9100,1.4,3,150,360,27000,72,32,31,10,13,25,6,26,6,0,6,0,6,0,6,0,0,0,6,90,0,0,0,0,0,0,0,0,2,0,0,0,1,1,0,-1,-1,0,-1,-1,0,-1,-1,0,-1,-1,0,-1,-1,0,-1,-1,0,2,1,27,-1,-1,-1,-1,-1,-1,-1,-1,-1,-1,-1,-1,-1,-1,-1,-1,-1,-1,-1,-1,-1,1,9,7750]
[10,"T19 105mm HMC","T19_105mmHT",40,9100,1.4,3,150,360,27000,70,30,30,0,13,25,6,26,6,0,6,0,6,0,6,0,0,0,6,90,0,0,0,0,0,0,0,0,6,0,0,0,1,1,0,2,1,0,3,1,0,5,1,0,8,1,0,-1,-1,0,-1,-1,0,8,1,21,-1,-1,-1,-1,-1,-1,-1,-1,-1,-1,-1,-1,-1,-1,-1,-1,-1,-1,-1,-1,-1,1,39,8]
[11,"T30 75mm HMC","T30 75mm halftrack",41,9100,1.4,3,150,360,27000,70,30,30,0,13,25,6,26,6,0,6,0,6,0,6,0,0,0,6,90,0,0,0,0,0,0,0,0,5,0,0,0,1,1,0,2,1,0,3,1,0,8,1,0,-1,-1,0,-1,-1,0,-1,-1,0,5,1,20,-1,-1,-1,-1,-1,-1,-1,-1,-1,-1,-1,-1,-1,-1,-1,-1,-1,-1,-1,-1,-1,3,26,54,27,3,28,3]
[12,"3/4 Ton Weapons Carrier","075t_weapons_carrier",42,2520,1.3,2,92,235,7600,87,20,40,6,1,0,1,0,1,0,1,0,1,0,1,0,0,0,1,0,0,0,0,0,0,0,0,0,1,0,2,0,-1,-1,0,-1,-1,0,-1,-1,0,-1,-1,0,-1,-1,0,-1,-1,0,-1,-1,0,-1,-1,-1,-1,-1,-1,-1,-1,-1,-1,-1,-1,-1,-1,-1,-1,-1,-1,-1,-1,-1,-1,-1,-1,0]
[13,"2 1/2 Ton Truck","Dodge truck",43,4000,1.9,2,91,235,12000,72,18,27,16,1,0,1,0,1,0,1,0,1,0,1,0,0,0,1,0,0,0,0,0,0,0,0,0,1,0,0,0,-1,-1,0,-1,-1,0,-1,-1,0,-1,-1,0,-1,-1,0,-1,-1,0,-1,-1,0,-1,-1,-1,-1,-1,-1,-1,-1,-1,-1,-1,-1,-1,-1,-1,-1,-1,-1,-1,-1,-1,-1,-1,-1,0]
[14,"Jeep","Willys Jeep",44,1100,0.8,2,54,96,4000,105,26,45,5,1,0,1,0,1,0,1,0,1,0,1,0,0,0,1,0,0,0,0,0,0,0,0,0,1,0,2,0,-1,-1,0,-1,-1,0,-1,-1,0,-1,-1,0,-1,-1,0,-1,-1,0,-1,-1,0,-1,-1,-1,-1,-1,-1,-1,-1,-1,-1,-1,-1,-1,-1,-1,-1,-1,-1,-1,-1,-1,-1,-1,-1,0]
[15,"M3 Scout Car","White Scout car",45,5620,1.2,2,87,260,16650,80,20,20,6,13,30,6,30,6,0,6,0,6,0,6,0,0,0,6,90,0,0,0,0,0,0,0,0,3,0,0,0,1,1,0,2,1,0,-1,-1,0,-1,-1,0,-1,-1,0,-1,-1,0,-1,-1,0,90,1,29,-1,-1,-1,-1,-1,-1,-1,-1,-1,-1,-1,-1,-1,-1,-1,-1,-1,-1,-1,-1,-1,1,14,750]
[16,"M20 Armored Utility Car","M20",46,7100,1.7000000000000002,2,110,245,23000,89,22,25,6,19,45,16,30,10,22,10,22,10,0,10,0,0,0,6,90,0,0,0,0,0,0,0,0,2,0,0,0,2,1,0,-1,-1,0,-1,-1,0,-1,-1,0,-1,-1,0,-1,-1,0,-1,-1,0,90,1,27,-1,-1,-1,-1,-1,-1,-1,-1,-1,-1,-1,-1,-1,-1,-1,-1,-1,-1,-1,-1,-1,1,14,1000]
[17,"M8 Armored Car","M8 greyhound",47,7890,1.7000000000000002,2,110,245,23000,89,22,25,0,19,45,16,30,10,22,10,22,10,0,10,0,0,0,6,90,19,15,19,18,19,17,6,90,4,0,0,0,1,0,1,2,1,1,4,0,0,-1,-1,0,-1,-1,0,-1,-1,0,-1,-1,0,4,1,16,90,2,29,3,1,16,-1,-1,-1,-1,-1,-1,-1,-1,-1,-1,-1,-1,-1,-1,-1,5,15,35,16,40,17,5,9,1500,13,400]
[18,"37mm Gun M3","37mmATgunM3",-1,415,0.5,0,0,0,415,8,4,65,0,6,0,6,0,0,0,0,0,0,0,0,0,0,0,0,0,0,0,0,0,0,0,0,0,5,1,2,0,3,2,0,2,2,0,8,2,0,8,2,0,-1,-1,0,-1,-1,0,-1,-1,0,4,0,6,-1,-1,-1,-1,-1,-1,-1,-1,-1,-1,-1,-1,-1,-1,-1,-1,-1,-1,-1,-1,-1,3,15,30,16,26,17,4]
[19,"57mm Gun M1","57mm AT gun",-1,950,0.7,0,0,0,950,8,4,55,0,6,0,6,0,0,0,0,0,0,0,0,0,0,0,0,0,0,0,0,0,0,0,0,0,6,1,2,0,3,2,0,2,2,0,5,2,0,8,2,0,8,2,0,-1,-1,0,-1,-1,0,9,0,7,-1,-1,-1,-1,-1,-1,-1,-1,-1,-1,-1,-1,-1,-1,-1,-1,-1,-1,-1,-1,-1,2,19,55,20,5]
[20,"3 Inch Gun M5","3inch AT",-1,2210,1.1000000000000001,0,0,0,2210,8,4,50,0,6,0,6,0,0,0,0,0,0,0,0,0,0,0,0,0,0,0,0,0,0,0,0,0,5,1,2,0,3,2,0,2,2,0,5,2,0,8,2,0,-1,-1,0,-1,-1,0,-1,-1,0,7,0,9,-1,-1,-1,-1,-1,-1,-1,-1,-1,-1,-1,-1,-1,-1,-1,-1,-1,-1,-1,-1,-1,3,30,25,31,12,32,3]
[21,"105mm Howitzer M2A1","105mm_M2A1",-1,2260,1.1000000000000001,0,0,0,2260,8,4,50,0,6,0,6,0,0,0,0,0,0,0,0,0,0,0,0,0,0,0,0,0,0,0,0,0,6,1,2,0,3,2,0,2,2,0,5,2,0,6,2,0,8,2,0,-1,-1,0,-1,-1,0,8,0,10,-1,-1,-1,-1,-1,-1,-1,-1,-1,-1,-1,-1,-1,-1,-1,-1,-1,-1,-1,-1,-1,3,39,18,40,2,41,2]
[22,"T12 75mm HMC","T12 75mm halftrack","48","9100","1.4","3",150,360,27000,70,30,30,0,13,25,6,26,6,0,6,0,6,0,6,0,0,0,6,90,0,0,0,0,0,0,0,0,4,0,0,0,1,1,0,2,1,0,3,1,0,-1,-1,0,-1,-1,0,-1,-1,0,-1,-1,0,5,1,20,-1,-1,-1,-1,-1,-1,-1,-1,-1,-1,-1,-1,-1,-1,-1,-1,-1,-1,-1,-1,-1,2,26,55,27,5]
[23,"3/4 Ton WC .50cal MG","075t_weapons_carrier_50cal",42,2520,1.3,2,92,235,7600,87,20,40,5,1,0,1,0,1,0,1,0,1,0,1,0,0,0,1,0,0,0,0,0,0,0,0,0,2,0,2,0,1,2,1,-1,-1,0,-1,-1,0,-1,-1,0,-1,-1,0,-1,-1,0,-1,-1,0,90,1,29,-1,-1,-1,-1,-1,-1,-1,-1,-1,-1,-1,-1,-1,-1,-1,-1,-1,-1,-1,-1,-1,1,13,300]
[24,"Jeep .30cal MG","Willys Jeep 30cal",44,1100,0.8,2,54,96,4000,105,26,45,3,1,0,1,0,1,0,1,0,1,0,1,0,0,0,1,0,0,0,0,0,0,0,0,0,2,0,2,0,1,2,1,-1,-1,0,-1,-1,0,-1,-1,0,-1,-1,0,-1,-1,0,-1,-1,0,29,1,29,-1,-1,-1,-1,-1,-1,-1,-1,-1,-1,-1,-1,-1,-1,-1,-1,-1,-1,-1,-1,-1,1,9,750]
[25,"Jeep .50cal MG","Willys Jeep 30cal",44,1100,0.8,2,54,96,4000,105,26,45,3,1,0,1,0,1,0,1,0,1,0,1,0,0,0,1,0,0,0,0,0,0,0,0,0,2,0,2,0,1,2,1,-1,-1,0,-1,-1,0,-1,-1,0,-1,-1,0,-1,-1,0,-1,-1,0,90,1,29,-1,-1,-1,-1,-1,-1,-1,-1,-1,-1,-1,-1,-1,-1,-1,-1,-1,-1,-1,-1,-1,1,13,300]
[26,"M5A1 Light Tank","M5 Stuart","71","15200","1.5","4",296,660,32000,58,30,40,0,29,48,44,23,25,0,25,0,25,49,25,17,13,90,10,90,45,10,32,0,32,0,13,90,4,0,0,0,1,0,1,2,1,1,4,0,0,-1,-1,0,-1,-1,0,-1,-1,0,-1,-1,0,4,1,14,2,3,28,3,1,14,-1,-1,-1,-1,-1,-1,-1,-1,-1,-1,-1,-1,-1,-1,-1,4,15,72,16,70,17,5,9,6750]
[27,"M4A1 (76) Medium Tank","M4A1 76mm","72",32000,2.2000000000000002,4,460,1190,65000,39,20,20,0,64,46,80,23,38,0,38,0,38,5,38,5,19,90,25,90,64,42,64,6,64,0,25,90,5,0,0,0,1,0,1,2,1,1,3,0,1,4,0,0,-1,-1,0,-1,-1,0,-1,-1,0,88,1,24,2,4,28,3,1,23,-1,-1,-1,-1,-1,-1,-1,-1,-1,-1,-1,-1,-1,-1,-1,4,33,40,34,28,35,3,9,6250]
[28,"M4(105) Medium Tank","M4A3 105mm Sherman","73",31500,2.2000000000000002,4,460,1190,65000,39,20,20,0,64,47,80,23,38,0,38,0,38,10,38,10,19,90,15,90,76,30,51,5,25,0,25,90,5,0,0,0,1,0,1,2,1,1,3,0,1,4,0,0,-1,-1,0,-1,-1,0,-1,-1,0,8,1,25,2,4,28,3,1,23,-1,-1,-1,-1,-1,-1,-1,-1,-1,-1,-1,-1,-1,-1,-1,4,39,56,40,4,41,6,9,4000]
[29,"M2 Halftrack (.50 cal)","M3A1 Halftrack",36,8700,1.4,3,150,360,25000,72,31,30,8,13,25,6,26,6,0,6,0,6,0,6,0,0,0,6,90,0,0,0,0,0,0,0,0,2,0,0,0,1,1,0,-1,-1,0,-1,-1,0,-1,-1,0,-1,-1,0,-1,-1,0,-1,-1,0,90,1,29,-1,-1,-1,-1,-1,-1,-1,-1,-1,-1,-1,-1,-1,-1,-1,-1,-1,-1,-1,-1,-1,1,14,700]
[30,"M2A1 Halftrack (.50 cal)","M3A1 Halftrack",37,8700,1.4,3,150,360,25000,72,31,30,8,13,25,6,26,6,0,6,0,6,0,6,0,0,0,6,90,0,0,0,0,0,0,0,0,2,0,0,0,1,1,0,-1,-1,0,-1,-1,0,-1,-1,0,-1,-1,0,-1,-1,0,-1,-1,0,90,1,27,-1,-1,-1,-1,-1,-1,-1,-1,-1,-1,-1,-1,-1,-1,-1,-1,-1,-1,-1,-1,-1,1,14,700]
[31,"M3 Halftrack (.50 cal)","M3A1 Halftrack",38,9100,1.4,3,150,360,27000,72,32,31,10,13,25,6,26,6,0,6,0,6,0,6,0,0,0,6,90,0,0,0,0,0,0,0,0,2,0,0,0,1,1,0,-1,-1,0,-1,-1,0,-1,-1,0,-1,-1,0,-1,-1,0,-1,-1,0,90,1,29,-1,-1,-1,-1,-1,-1,-1,-1,-1,-1,-1,-1,-1,-1,-1,-1,-1,-1,-1,-1,-1,1,14,700]
[32,"M3A1 Halftrack (.50 cal)","M3A1 Halftrack",39,9100,1.4,3,150,360,27000,72,32,31,10,13,25,6,26,6,0,6,0,6,0,6,0,0,0,6,90,0,0,0,0,0,0,0,0,2,0,0,0,1,1,0,-1,-1,0,-1,-1,0,-1,-1,0,-1,-1,0,-1,-1,0,-1,-1,0,90,1,27,-1,-1,-1,-1,-1,-1,-1,-1,-1,-1,-1,-1,-1,-1,-1,-1,-1,-1,-1,-1,-1,1,14,700]
[33,"(Reserved)","0","0","0","0","0","0","0","0","0","0","0",0,"0","0","0","0","0","0","0","0","0","0","0","0","0","0","0","0","0","0","0","0","0","0","0","0","0","0","0","0","0","0","0","0","0","0","0","0","0","0","0","0","0","0","0","0","0","0","0","0","0","-1","0","0","-1","0","0",-1,"0","0",-1,"0","0",-1,"0","0",-1,"0","0",-1,"0","0",-1,"0","0","0"]
[34,"(Reserved)","0","0","0","0","0","0","0","0","0","0","0",0,"0","0","0","0","0","0","0","0","0","0","0","0","0","0","0","0","0","0","0","0","0","0","0","0","0","0","0","0","0","0","0","0","0","0","0","0","0","0","0","0","0","0","0","0","0","0","0","0","0","-1","0","0","-1","0","0",-1,"0","0",-1,"0","0",-1,"0","0",-1,"0","0",-1,"0","0",-1,"0","0","0"]
[35,"(Reserved)","0","0","0","0","0","0","0","0","0","0","0",0,"0","0","0","0","0","0","0","0","0","0","0","0","0","0","0","0","0","0","0","0","0","0","0","0","0","0","0","0","0","0","0","0","0","0","0","0","0","0","0","0","0","0","0","0","0","0","0","0","0","-1","0","0","-1","0","0",-1,"0","0",-1,"0","0",-1,"0","0",-1,"0","0",-1,"0","0",-1,"0","0","0"]
[36,"(Reserved)","0","0","0","0","0","0","0","0","0","0","0",0,"0","0","0","0","0","0","0","0","0","0","0","0","0","0","0","0","0","0","0","0","0","0","0","0","0","0","0","0","0","0","0","0","0","0","0","0","0","0","0","0","0","0","0","0","0","0","0","0","0","-1","0","0","-1","0","0",-1,"0","0",-1,"0","0",-1,"0","0",-1,"0","0",-1,"0","0",-1,"0","0","0"]
[37,"(Reserved)","0","0","0","0","0","0","0","0","0","0","0",0,"0","0","0","0","0","0","0","0","0","0","0","0","0","0","0","0","0","0","0","0","0","0","0","0","0","0","0","0","0","0","0","0","0","0","0","0","0","0","0","0","0","0","0","0","0","0","0","0","0","-1","0","0","-1","0","0",-1,"0","0",-1,"0","0",-1,"0","0",-1,"0","0",-1,"0","0",-1,"0","0","0"]
[38,"(Reserved)","0","0","0","0","0","0","0","0","0","0","0",0,"0","0","0","0","0","0","0","0","0","0","0","0","0","0","0","0","0","0","0","0","0","0","0","0","0","0","0","0","0","0","0","0","0","0","0","0","0","0","0","0","0","0","0","0","0","0","0","0","0","-1","0","0","-1","0","0",-1,"0","0",-1,"0","0",-1,"0","0",-1,"0","0",-1,"0","0",-1,"0","0","0"]
[39,"(Reserved)","0","0","0","0","0","0","0","0","0","0","0",0,"0","0","0","0","0","0","0","0","0","0","0","0","0","0","0","0","0","0","0","0","0","0","0","0","0","0","0","0","0","0","0","0","0","0","0","0","0","0","0","0","0","0","0","0","0","0","0","0","0","-1","0","0","-1","0","0",-1,"0","0",-1,"0","0",-1,"0","0",-1,"0","0",-1,"0","0",-1,"0","0","0"]
[40,"JgPz IV","jgpz IV 48",50,25000,1.8,4,300,710,60000,25,16,23,0,60,50,50,55,30,30,30,0,20,35,20,9,20,90,10,90,0,0,0,0,0,0,0,0,4,0,0,0,1,0,0,2,1,0,3,0,0,-1,-1,0,-1,-1,0,-1,-1,0,-1,-1,0,92,1,55,-1,-1,-1,-1,-1,-1,-1,-1,-1,-1,-1,-1,-1,-1,-1,-1,-1,-1,-1,-1,-1,4,75,40,74,36,76,3,47,1200]
[41,"Pz VIE Tiger","tiger I",51,55000,3.2,4,700,1850,100000,38,20,25,0,100,10,100,24,80,0,60,0,82,8,82,8,26,90,26,90,110,0,80,0,80,0,26,90,5,0,0,0,1,0,1,2,1,1,3,0,1,4,0,0,-1,-1,0,-1,-1,0,-1,-1,0,20,1,61,14,1,61,13,0,49,-1,-1,-1,-1,-1,-1,-1,-1,-1,-1,-1,-1,-1,-1,-1,3,83,50,84,42,47,4800]
[42,"Pz VA Panther","pantherA",52,44800,3.2,4,700,1850,95000,46,24,20,0,80,55,60,55,40,40,40,0,40,30,40,30,16,90,30,90,100,12,45,25,45,25,16,90,5,0,0,0,1,0,1,2,1,1,3,0,1,4,0,0,-1,-1,0,-1,-1,0,-1,-1,0,19,1,60,14,1,60,13,0,49,-1,-1,-1,-1,-1,-1,-1,-1,-1,-1,-1,-1,-1,-1,-1,3,78,40,77,39,47,5100]
[43,"Panzer IIF","panzer II",53,9500,1.4,4,140,380,27000,40,19,32,0,30,10,30,13,15,0,15,0,15,9,15,7,10,90,5,90,30,30,15,21,15,21,10,90,3,0,0,0,2,1,1,3,0,1,-1,-1,0,-1,-1,0,-1,-1,0,-1,-1,0,-1,-1,0,15,1,56,14,1,56,-1,-1,-1,-1,-1,-1,-1,-1,-1,-1,-1,-1,-1,-1,-1,-1,-1,-1,3,59,90,60,90,47,1400]
[44,"Panzer IVF1","Panzer IVF1",54,25000,2.2999999999999998,4,300,710,60000,42,21,30,0,50,10,50,12,30,0,30,0,20,12,20,9,12,90,10,90,50,11,30,26,30,16,10,90,5,0,0,0,1,0,1,2,1,1,3,1,1,4,0,0,-1,-1,0,-1,-1,0,-1,-1,0,17,1,59,14,1,59,13,4,49,-1,-1,-1,-1,-1,-1,-1,-1,-1,-1,-1,-1,-1,-1,-1,4,72,46,70,42,73,4,47,4800]
[45,"Panzer IVG","Panzer IVG",55,25000,2.2999999999999998,4,300,710,60000,40,20,30,0,50,10,50,12,30,0,30,0,20,12,20,9,12,90,10,90,50,11,30,26,30,16,10,90,5,0,0,0,1,0,1,2,1,1,3,1,1,4,0,0,-1,-1,0,-1,-1,0,-1,-1,0,18,1,59,13,4,49,14,1,59,-1,-1,-1,-1,-1,-1,-1,-1,-1,-1,-1,-1,-1,-1,-1,4,75,38,74,38,76,4,47,3150]
[46,"SdKfz 251/1","sdkfz 251",56,7810,1.1000000000000001,3,100,240,22000,52,23,15,10,12,0,12,0,7,0,7,0,7,0,7,0,0,0,7,90,0,0,0,0,0,0,0,0,2,0,0,0,1,1,0,-1,-1,0,-1,-1,0,-1,-1,0,-1,-1,0,-1,-1,0,-1,-1,0,13,1,51,-1,-1,-1,-1,-1,-1,-1,-1,-1,-1,-1,-1,-1,-1,-1,-1,-1,-1,-1,-1,-1,1,12,2500]
[47,"SdKfz 251/9","sdkfz 251_9",57,7810,1.1000000000000001,3,100,240,22000,52,23,15,0,12,0,12,0,7,0,7,0,7,0,7,0,0,0,7,90,0,0,0,0,0,0,0,0,3,0,0,0,1,1,0,3,1,0,-1,-1,0,-1,-1,0,-1,-1,0,-1,-1,0,-1,-1,0,13,1,51,-1,-1,-1,-1,-1,-1,-1,-1,-1,-1,-1,-1,-1,-1,-1,-1,-1,-1,-1,-1,-1,5,70,5,72,36,71,5,73,6,12,1250]
[48,"SdKfz 251/10","sdkfz 251_10",58,7810,1.1000000000000001,3,100,240,22000,52,23,15,8,12,0,12,0,7,0,7,0,7,0,7,0,0,0,7,90,0,0,0,0,0,0,0,0,3,0,0,0,1,1,0,2,1,0,-1,-1,0,-1,-1,0,-1,-1,0,-1,-1,0,-1,-1,0,13,1,51,-1,-1,-1,-1,-1,-1,-1,-1,-1,-1,-1,-1,-1,-1,-1,-1,-1,-1,-1,-1,-1,3,62,88,63,80,12,1100]
[49,"StuG IIIF","StuG IIIG NO skirts",59,25000,1.9,4,300,710,60000,42,21,35,0,50,10,50,12,30,0,30,0,20,12,20,9,12,90,10,90,50,11,30,26,30,16,10,90,4,0,0,0,1,0,0,2,1,0,3,1,0,-1,-1,0,-1,-1,0,-1,-1,0,-1,-1,0,18,1,52,13,3,49,-1,-1,-1,-1,-1,-1,-1,-1,-1,-1,-1,-1,-1,-1,-1,-1,-1,-1,4,75,46,74,42,76,4,47,4800]
[50,"StuG IIIG","StuG IIIG w_skirts",60,25000,1.9,4,300,710,60000,42,21,35,0,50,10,50,12,30,0,30,0,20,12,20,9,12,90,10,90,50,11,30,26,30,16,10,90,4,0,0,0,1,0,0,2,1,0,3,1,0,-1,-1,0,-1,-1,0,-1,-1,0,-1,-1,0,92,1,53,13,3,49,-1,-1,-1,-1,-1,-1,-1,-1,-1,-1,-1,-1,-1,-1,-1,-1,-1,-1,4,75,46,74,42,76,4,47,4800]
[51,"Kubelwagon","Kubelwagen",61,1100,0.8,1,54,96,4000,105,26,40,4,1,0,1,0,1,0,1,0,1,0,1,0,0,0,1,0,0,0,0,0,0,0,0,0,1,0,2,0,-1,-1,0,-1,-1,0,-1,-1,0,-1,-1,0,-1,-1,0,-1,-1,0,-1,-1,0,-1,-1,-1,-1,-1,-1,-1,-1,-1,-1,-1,-1,-1,-1,-1,-1,-1,-1,-1,-1,-1,-1,-1,-1,0]
[52,"Opel Blitz","opel blitz",62,4000,1.5,1,91,235,12000,72,18,25,16,1,0,1,0,1,0,1,0,1,0,1,0,0,0,1,0,0,0,0,0,0,0,0,0,1,0,0,0,-1,-1,0,-1,-1,0,-1,-1,0,-1,-1,0,-1,-1,0,-1,-1,0,-1,-1,0,-1,-1,-1,-1,-1,-1,-1,-1,-1,-1,-1,-1,-1,-1,-1,-1,-1,-1,-1,-1,-1,-1,-1,-1,0]
[53,"PSW 222","PSW 222",63,7100,1.2,2,110,245,22000,89,22,25,0,19,45,16,30,10,22,10,22,10,0,10,0,0,0,6,90,0,0,0,0,0,0,0,0,3,0,0,0,1,1,1,2,1,1,-1,-1,0,-1,-1,0,-1,-1,0,-1,-1,0,-1,-1,0,15,1,62,14,1,62,-1,-1,-1,-1,-1,-1,-1,-1,-1,-1,-1,-1,-1,-1,-1,-1,-1,-1,3,59,90,60,90,47,1050]
[54,"PSW 231","PSW 232 8rad",64,7100,1.6,2,110,245,22000,89,22,18,0,19,45,16,30,10,22,10,22,10,0,10,0,0,0,6,90,0,0,0,0,0,0,0,0,4,0,0,0,1,1,1,2,1,1,7,0,0,-1,-1,0,-1,-1,0,-1,-1,0,-1,-1,0,15,1,63,14,1,63,-1,-1,-1,-1,-1,-1,-1,-1,-1,-1,-1,-1,-1,-1,-1,-1,-1,-1,3,59,90,60,90,47,1050]
[55,"SdKfz 250/1","sdKfz 250",65,7810,1,3,100,240,22000,52,23,24,6,12,0,12,0,7,0,7,0,7,0,7,0,0,0,7,90,0,0,0,0,0,0,0,0,2,0,0,0,1,1,0,-1,-1,0,-1,-1,0,-1,-1,0,-1,-1,0,-1,-1,0,-1,-1,0,13,1,51,-1,-1,-1,-1,-1,-1,-1,-1,-1,-1,-1,-1,-1,-1,-1,-1,-1,-1,-1,-1,-1,1,47,2000]
[56,"SdKfz 250/8","sdKfz 250_8",66,7810,1,3,100,240,22000,52,23,24,0,12,0,12,0,7,0,7,0,7,0,7,0,0,0,7,90,0,0,0,0,0,0,0,0,3,0,0,0,1,1,0,3,1,0,-1,-1,0,-1,-1,0,-1,-1,0,-1,-1,0,-1,-1,0,13,1,51,-1,-1,-1,-1,-1,-1,-1,-1,-1,-1,-1,-1,-1,-1,-1,-1,-1,-1,-1,-1,-1,5,70,2,72,12,71,2,73,4,12,1000]
[57,"SdKfz 250/10","sdKfz 250_10",67,7810,1,3,100,240,22000,52,23,24,4,12,0,12,0,7,0,7,0,7,0,7,0,0,0,7,90,0,0,0,0,0,0,0,0,3,0,0,0,2,1,0,3,1,0,-1,-1,0,-1,-1,0,-1,-1,0,-1,-1,0,-1,-1,0,13,1,51,-1,-1,-1,-1,-1,-1,-1,-1,-1,-1,-1,-1,-1,-1,-1,-1,-1,-1,-1,-1,-1,3,62,68,63,50,12,1100]
[58,"2cm Flak 38","20mmFlak38",-1,450,0.9,0,0,0,450,8,4,70,0,6,0,6,0,0,0,0,0,0,0,0,0,0,0,0,0,0,0,0,0,0,0,0,0,4,1,2,1,3,2,0,2,2,0,8,2,0,-1,-1,0,-1,-1,0,-1,-1,0,-1,-1,0,15,0,35,-1,-1,-1,-1,-1,-1,-1,-1,-1,-1,-1,-1,-1,-1,-1,-1,-1,-1,-1,-1,-1,2,59,80,60,80]
[59,"3.7cm Pak 36","37mmPaK36",-1,327,0.60000000000000009,0,0,0,327,8,4,65,0,6,0,6,0,0,0,0,0,0,0,0,0,0,0,0,0,0,0,0,0,0,0,0,0,4,1,2,0,3,2,0,2,2,0,8,2,0,-1,-1,0,-1,-1,0,-1,-1,0,-1,-1,0,16,0,39,-1,-1,-1,-1,-1,-1,-1,-1,-1,-1,-1,-1,-1,-1,-1,-1,-1,-1,-1,-1,-1,2,62,30,63,30]
[60,"5cm Pak 38","5cm PaK 38",-1,830,0.60000000000000009,0,0,0,830,8,4,55,0,6,0,6,0,0,0,0,0,0,0,0,0,0,0,0,0,0,0,0,0,0,0,0,0,5,1,2,0,3,2,0,2,2,0,8,2,0,8,2,0,-1,-1,0,-1,-1,0,-1,-1,0,34,0,41,-1,-1,-1,-1,-1,-1,-1,-1,-1,-1,-1,-1,-1,-1,-1,-1,-1,-1,-1,-1,-1,3,64,25,65,21,66,4]
[61,"7.5cm Pak 40","7_5cm_pak40","-1",1425,0.8,0,0,0,1425,8,4,50,0,6,0,6,0,0,0,0,0,0,0,0,0,0,0,0,0,0,0,0,0,0,0,0,0,5,1,2,0,3,2,0,2,2,0,8,2,0,8,2,0,-1,-1,0,-1,-1,0,-1,-1,0,92,0,42,-1,-1,-1,-1,-1,-1,-1,-1,-1,-1,-1,-1,-1,-1,-1,-1,-1,-1,-1,-1,-1,3,75,20,74,18,76,2]
[62,"8.8cm Flak","88mm flak 36","74",1425,1.3,0,0,0,1425,0,0,0,0,6,0,6,0,0,0,0,0,0,0,0,0,0,0,0,0,0,0,0,0,0,0,0,0,6,1,2,1,3,2,0,2,2,0,5,2,0,8,2,0,8,2,0,-1,-1,0,-1,-1,0,20,0,37,-1,-1,-1,-1,-1,-1,-1,-1,-1,-1,-1,-1,-1,-1,-1,-1,-1,-1,-1,-1,-1,2,83,16,84,24]
[63,"7.5cm le.IG 18","75mm_leIG18",-1,400,0.2,0,0,0,400,8,4,65,0,6,0,6,0,0,0,0,0,0,0,0,0,0,0,0,0,0,0,0,0,0,0,0,0,6,1,2,0,3,2,0,2,2,0,6,2,0,8,2,0,8,2,0,-1,-1,0,-1,-1,0,93,0,45,-1,-1,-1,-1,-1,-1,-1,-1,-1,-1,-1,-1,-1,-1,-1,-1,-1,-1,-1,-1,-1,2,68,27,69,3]
[64,"Panzer IIIJ long","Panzer III J long","68",21300,2.2000000000000002,4,300,710,60000,40,20,30,0,70,9,50,21,30,0,30,0,50,15,50,10,16,90,15,90,70,15,30,25,30,12,10,90,5,0,0,0,1,0,1,2,1,1,3,1,1,4,0,0,-1,-1,0,-1,-1,0,-1,-1,0,89,1,57,14,1,57,13,4,49,-1,-1,-1,-1,-1,-1,-1,-1,-1,-1,-1,-1,-1,-1,-1,4,64,50,65,40,66,2,47,4950]
[65,"Panzer IVH","Panzer IVG",55,26000,2.2999999999999998,4,300,710,60000,38,20,30,0,80,10,80,14,30,0,30,0,20,11,20,8,12,90,10,90,50,10,30,26,30,15,15,90,5,0,0,0,1,0,1,2,1,1,3,1,1,4,0,0,-1,-1,0,-1,-1,0,-1,-1,0,92,1,59,13,4,49,14,1,59,-1,-1,-1,-1,-1,-1,-1,-1,-1,-1,-1,-1,-1,-1,-1,4,75,43,74,40,76,4,47,3150]
[66,"Panzer IIIJ short","Panzer III J short","68",21500,2.2000000000000002,4,300,710,60000,40,20,30,0,50,9,50,21,30,0,30,0,50,15,50,10,16,90,15,90,50,15,30,25,30,12,10,90,5,0,0,0,1,0,1,2,1,1,3,1,1,4,0,0,-1,-1,0,-1,-1,0,-1,-1,0,34,1,57,14,1,57,13,4,49,-1,-1,-1,-1,-1,-1,-1,-1,-1,-1,-1,-1,-1,-1,-1,4,64,55,65,40,66,4,47,3750]
[67,"Marder IIIH","Marder IIIH SdKfz_138","69",10500,1.8,4,125,405,60000,35,20,32,0,25,17,25,16,15,0,15,0,10,60,15,12,8,90,8,90,25,31,10,9,0,0,0,0,4,0,0,0,1,1,1,2,1,1,4,1,1,-1,0,0,-1,-1,0,-1,-1,0,-1,-1,0,18,1,64,13,3,49,-1,-1,-1,-1,-1,-1,-1,-1,-1,-1,-1,-1,-1,-1,-1,-1,-1,-1,4,75,24,74,14,76,4,47,1200]
[68,"Panzer IIIN","Panzer III N","68",23000,2.2000000000000002,4,300,710,60000,40,20,30,0,70,9,50,21,30,0,30,0,50,15,50,10,16,90,15,90,50,15,30,25,30,12,10,90,5,0,0,0,1,0,1,2,1,1,3,1,1,4,0,0,-1,-1,0,-1,-1,0,-1,-1,0,17,1,58,14,1,57,13,4,49,-1,-1,-1,-1,-1,-1,-1,-1,-1,-1,-1,-1,-1,-1,-1,4,72,50,71,8,76,7,47,3450]
[69,"2.8cm sPzB 41","20mmFlak38",-1,450,0.9,0,0,0,450,8,4,70,0,6,0,6,0,0,0,0,0,0,0,0,0,0,0,0,0,0,0,0,0,0,0,0,0,3,1,2,0,3,2,0,8,2,0,-1,-1,0,-1,-1,0,-1,-1,0,-1,-1,0,-1,-1,0,15,0,35,-1,-1,-1,-1,-1,-1,-1,-1,-1,-1,-1,-1,-1,-1,-1,-1,-1,-1,-1,-1,-1,1,61,80]
[70,"SdKfz 251/2","sdkfz 251","56",7810,1.1000000000000001,3,100,240,22000,52,23,15,0,12,0,12,0,7,0,7,0,7,0,7,0,0,0,7,90,0,0,0,0,0,0,0,0,7,0,0,0,1,1,0,3,1,0,2,1,0,6,1,0,8,1,0,8,1,0,-1,-1,0,13,1,51,-1,-1,-1,-1,-1,-1,-1,-1,-1,-1,-1,-1,-1,-1,-1,-1,-1,-1,-1,-1,-1,1,12,2500]
[71,"SdKfz 250/7","sdKfz 250",65,7810,1,3,100,240,22000,52,23,24,0,12,0,12,0,7,0,7,0,7,0,7,0,0,0,7,90,0,0,0,0,0,0,0,0,5,0,0,0,1,1,0,3,1,0,2,1,0,8,1,0,-1,-1,0,-1,-1,0,-1,-1,0,13,1,51,-1,-1,-1,-1,-1,-1,-1,-1,-1,-1,-1,-1,-1,-1,-1,-1,-1,-1,-1,-1,-1,1,47,2000]
[72,"2.8cm sPzB 41","37mmPaK36",-1,229,0.60000000000000009,0,0,0,300,8,4,65,0,6,0,6,0,0,0,0,0,0,0,0,0,0,0,0,0,0,0,0,0,0,0,0,0,3,1,2,0,3,2,0,8,2,0,-1,-1,0,-1,-1,0,-1,-1,0,-1,-1,0,-1,-1,0,100,0,38,-1,-1,-1,-1,-1,-1,-1,-1,-1,-1,-1,-1,-1,-1,-1,-1,-1,-1,-1,-1,-1,1,61,60]
[73,"7.62cm Pak 36(r)","7_5cm_pak40","-1",1425,0.8,0,0,0,1425,8,4,50,0,6,0,6,0,0,0,0,0,0,0,0,0,0,0,0,0,0,0,0,0,0,0,0,0,5,1,2,0,3,2,0,2,2,0,8,2,0,8,2,0,-1,-1,0,-1,-1,0,-1,-1,0,108,0,43,-1,-1,-1,-1,-1,-1,-1,-1,-1,-1,-1,-1,-1,-1,-1,-1,-1,-1,-1,-1,-1,2,79,20,80,16]
[74,"(Reserved)","0","0","0","0","0","0","0","0","0","0","0",0,"0","0","0","0","0","0","0","0","0","0","0","0","0","0","0","0","0","0","0","0","0","0","0","0","0","0","0",0,"0","0",0,"0","0",0,"0","0",0,"0","0",0,"0","0",0,"0","0",0,"0","0",0,"-1","0","0","-1","0","0",-1,"0","0",-1,"0","0",-1,"0","0",-1,"0","0",-1,"0","0",-1,"0","0","0"]
[75,"(Reserved)","0","0","0","0","0","0","0","0","0","0","0",0,"0","0","0","0","0","0","0","0","0","0","0","0","0","0","0","0","0","0","0","0","0","0","0","0","0","0","0",0,"0","0",0,"0","0",0,"0","0",0,"0","0",0,"0","0",0,"0","0",0,"0","0",0,"-1","0","0","-1","0","0",-1,"0","0",-1,"0","0",-1,"0","0",-1,"0","0",-1,"0","0",-1,"0","0","0"]
[76,"(Reserved)","0","0","0","0","0","0","0","0","0","0","0",0,"0","0","0","0","0","0","0","0","0","0","0","0","0","0","0","0","0","0","0","0","0","0","0","0","0","0","0",0,"0","0",0,"0","0",0,"0","0",0,"0","0",0,"0","0",0,"0","0",0,"0","0",0,"-1","0","0","-1","0","0",-1,"0","0",-1,"0","0",-1,"0","0",-1,"0","0",-1,"0","0",-1,"0","0","0"]
[77,"(Reserved)","0","0","0","0","0","0","0","0","0","0","0",0,"0","0","0","0","0","0","0","0","0","0","0","0","0","0","0","0","0","0","0","0","0","0","0","0","0","0","0",0,"0","0",0,"0","0",0,"0","0",0,"0","0",0,"0","0",0,"0","0",0,"0","0",0,"-1","0","0","-1","0","0",-1,"0","0",-1,"0","0",-1,"0","0",-1,"0","0",-1,"0","0",-1,"0","0","0"]
[78,"(Reserved)","0","0","0","0","0","0","0","0","0","0","0",0,"0","0","0","0","0","0","0","0","0","0","0","0","0","0","0","0","0","0","0","0","0","0","0","0","0","0","0",0,"0","0",0,"0","0",0,"0","0",0,"0","0",0,"0","0",0,"0","0",0,"0","0",0,"-1","0","0","-1","0","0",-1,"0","0",-1,"0","0",-1,"0","0",-1,"0","0",-1,"0","0",-1,"0","0","0"]
[79,"(Reserved)","0","0","0","0","0","0","0","0","0","0","0",0,"0","0","0","0","0","0","0","0","0","0","0","0","0","0","0","0","0","0","0","0","0","0","0","0","0","0","0",0,"0","0",0,"0","0",0,"0","0",0,"0","0",0,"0","0",0,"0","0",0,"0","0",0,"-1","0","0","-1","0","0",-1,"0","0",-1,"0","0",-1,"0","0",-1,"0","0",-1,"0","0",-1,"0","0","0"]
[80,"(Reserved)","0","0","0","0","0","0","0","0","0","0","0",0,"0","0","0","0","0","0","0","0","0","0","0","0","0","0","0","0","0","0","0","0","0","0","0","0","0","0","0",0,"0","0",0,"0","0",0,"0","0",0,"0","0",0,"0","0",0,"0","0",0,"0","0",0,"-1","0","0","-1","0","0",-1,"0","0",-1,"0","0",-1,"0","0",-1,"0","0",-1,"0","0",-1,"0","0","0"]
[81,"M14/41","M14_41",70,25000,1.6,4,300,710,60000,42,21,35,0,50,10,50,12,30,0,30,0,20,12,20,9,12,90,10,90,50,11,30,26,30,16,10,90,4,0,0,0,2,1,1,3,0,1,4,0,1,-1,-1,0,-1,-1,0,-1,-1,0,-1,-1,0,23,1,75,22,3,74,22,1,75,-1,-1,-1,-1,-1,-1,-1,-1,-1,-1,-1,-1,-1,-1,-1,3,103,50,104,42,93,2400]
[82,"Cannone da 47/32 M35","47mm 47_32 AT gun",-1,277,0.2,0,0,0,277,8,4,55,0,6,0,6,0,0,0,0,0,0,0,0,0,0,0,0,0,0,0,0,0,0,0,0,0,6,1,2,0,3,2,0,2,2,0,6,2,0,8,2,0,8,2,0,-1,-1,0,-1,-1,0,23,0,73,-1,-1,-1,-1,-1,-1,-1,-1,-1,-1,-1,-1,-1,-1,-1,-1,-1,-1,-1,-1,-1,2,103,20,104,20]
[83,"20mm Breda AA Gun","20mmFlak38",-1,277,0.2,0,0,0,277,8,4,55,0,6,0,6,0,0,0,0,0,0,0,0,0,0,0,0,0,0,0,0,0,0,0,0,0,4,1,2,0,3,2,0,2,2,0,8,2,0,-1,-1,0,-1,-1,0,-1,-1,0,-1,-1,0,57,0,73,-1,-1,-1,-1,-1,-1,-1,-1,-1,-1,-1,-1,-1,-1,-1,-1,-1,-1,-1,-1,-1,2,99,80,100,80]
[84,"Semovente 75/18","Semovente M41","75",25000,1.9,4,300,710,60000,42,21,35,0,50,10,50,12,30,0,30,0,20,12,20,9,12,90,10,90,50,11,30,26,30,16,10,90,3,0,0,0,2,0,0,3,1,0,-1,-1,0,-1,-1,0,-1,-1,0,-1,-1,0,-1,-1,0,59,1,52,54,3,50,-1,-1,-1,-1,-1,-1,-1,-1,-1,-1,-1,-1,-1,-1,-1,-1,-1,-1,4,105,46,106,42,107,4,92,1200]
[85,"Renault R-35","Renault MR-35","-1",10600,1.2,4,85,275,27000,20,12,32,0,43,37,40,25,40,10,40,0,32,24,32,24,25,90,10,90,40,5,40,28,40,30,25,90,2,0,0,0,2,1,1,-1,-1,0,-1,-1,0,-1,-1,0,-1,-1,0,-1,-1,0,-1,-1,0,94,1,68,95,1,68,-1,-1,-1,-1,-1,-1,-1,-1,-1,-1,-1,-1,-1,-1,-1,-1,-1,-1,3,115,42,114,58,113,2400]
[86,"Fiat SPA 38","opel blitz IT","76",4000,1.5,1,91,235,12000,72,18,25,16,1,0,1,0,1,0,1,0,1,0,1,0,0,0,1,0,0,0,0,0,0,0,0,0,1,0,0,0,-1,-1,0,-1,-1,0,-1,-1,0,-1,-1,0,-1,-1,0,-1,-1,0,-1,-1,0,-1,-1,-1,-1,-1,-1,-1,-1,-1,-1,-1,-1,-1,-1,-1,-1,-1,-1,-1,-1,-1,-1,-1,-1,0]
[]
[]
[]
[]
[]
[]
[]
[]
[]
[]
[]
[]
[]
[]
[]
[]
[]
[]
[]
[]
[]
[]
[]
[]
[]
[]
[]
[]
[]
[]
[]
[]
[]
[]
[]
[]
[]
[]
[]
[null,"M14/41",null,null,"Name"]
[null,"Carro Armato M14/41",null,null,"Notes"]
[null,"Tank",null,null,"Type"]
[null,"missing",null,null,"Model Name"]
[null,1,null,null,"# Textures, Followed by texture names"]
[null,"xxx"]
[null,1,null,null,"# Wreck Textures, followed by texture names"]
[null,"xxx"]
[null,"14500",null,null,"# Weight (kg)"]
[null,"32",null,null,"# Top road speed (kph)"]
[null,"18",null,null,"# Top offroad speed (kph)"]
[null,"?",null,null,"# Acceleration (m/s)"]
[null,"?",null,null,"# Turning Speed (deg/s)"]
[null,"0",null,null,"# Hull Rotation Speed (deg/s)"]
[null,"?",null,null,"# Turret Rotation Speed (deg/s)"]
[null,"30","30",null,"#Hull Armor - Front Lower, Thickness @ angle (from the vertical)"]
[null,"30","11",null,"# Front Upper"]
[null,"25","0",null,"# Side Lower"]
[null,"25","9",null,"# Side Upper"]
[null,"25","0",null,"# Rear Lower"]
[null,"25","0",null,"# Rear Upper"]
[null,"14","0",null,"# Top"]
[null,"6","0",null,"# Bottom"]
[null,"37","16",null,"#Turret Armor - Front Lower, Thickness @ angle (from the vertical)"]
[null,"37","16",null,"# Front Upper"]
[null,"25","22",null,"# Side Lower"]
[null,"25","22",null,"# Side Upper"]
[null,"25","22",null,"# Rear Lower"]
[null,"25","22",null,"# Rear Upper"]
[null,"14","5",null,"# Top"]
[null,"0","0",null,"# Bottom"]
[null,"3",null,null,"# Weapon Count, followed by weapon data, followed by ammo entry count, followed by ammo"]
[null,"Cannon 47/32",null,null,"# Weapon class and data"]
[null,"2",null,null,"# Count of ammo types for this weapon"]
[null,"AP","43",null,"# Ammo class and number of rounds/clips"]
[null,"HE","44",null,"# Ammo class and number of rounds/clips"]
[null,"Coax 8mm Breda 38"]
[null,"1"]
[null,"ball","900rnds"]
[null,"Bow Dual 8mm Breda 38"]
[null,"1"]
[null,"ball","1800rnds"]
[null,"4",null,null,"# Crew Position Count"]
[null,"0",null,null,"#  Crew Function (0 = driver, 1 = gunner, 2 = commander, 3 = loader, 4 = radioman, 5 = secondary driver, 6 = secondary gunner, 7 = secondary loader, 7 = passenger, 8 = rider)"]
[null,"1",null,null,"#  Crew exposure (0 = always buttoned, 1 = can unbutton, 2 = always unbuttoned)"]
[null,"0",null,null,"#  Crew weapon count, followed by List of weapon indexes w/ exposured to fire = 0 or 1"]
[null,"1",null,null,"# gunner"]
[null,"0",null,null,"# always buttoned"]
[null,"2",null,null,"# 2 weapons"]
[null,"0","0",null,"# Main gun"]
[null,"1","0",null,"# coax mg"]
[null,"3",null,null,"# loader"]
[null,"0"]
[null,"0"]
[null,"4",null,null,"# radio"]
[null,"0"]
[null,"1",null,null,"# 1 weapon"]
[null,"2",null,null,"# bow MG"]
[null,"###################################"]
[null,"Semovente",null,null,"Name"]
[null,"Semovente da 75/18",null,null,"Notes"]
[null,"Tank",null,null,"Type"]
[null,"missing",null,null,"Model Name"]
[null,1,null,null,"# Textures, Followed by texture names"]
[null,"xxx"]
[null,1,null,null,"# Wreck Textures, followed by texture names"]
[null,"xxx"]
[null,"15000",null,null,"# Weight (kg)"]
[null,"30",null,null,"# Top road speed (kph)"]
[null,"16",null,null,"# Top offroad speed (kph)"]
[null,"?",null,null,"# Acceleration (m/s)"]
[null,"?",null,null,"# Turning Speed (deg/s)"]
[null,"0",null,null,"# Hull Rotation Speed (deg/s)"]
[null,"0",null,null,"# Turret Rotation Speed (deg/s)"]
[null,"30","30",null,"#Hull Armor - Front Lower, Thickness @ angle (from the vertical)"]
[null,"25 + 25","5",null,"# Front Upper"]
[null,"25","0",null,"# Side Lower"]
[null,"25","9",null,"# Side Upper"]
[null,"25","0",null,"# Rear Lower"]
[null,"25","0",null,"# Rear Upper"]
[null,"10","0",null,"# Top"]
[null,"15","0",null,"# Bottom"]
[null,"25 + 25","0",null,"#Turret Armor - Front Lower, Thickness @ angle (from the vertical)"]
[null,"25 + 25","0",null,"# Front Upper"]
[null,"25","9",null,"# Side Lower"]
[null,"25","9",null,"# Side Upper"]
[null,"25","0",null,"# Rear Lower"]
[null,"25","0",null,"# Rear Upper"]
[null,"10","0",null,"# Top"]
[null,"0","0",null,"# Bottom"]
[null,"2",null,null,"# Weapon Count, followed by weapon data, followed by ammo entry count, followed by ammo"]
[null,"75/18 howitzer",null,null,"# Weapon class and data"]
[null,"2",null,null,"# Count of ammo types for this weapon"]
[null,"AP","43",null,"# Ammo class and number of rounds/clips"]
[null,"HE","44",null,"# Ammo class and number of rounds/clips"]
[null,"Coax 8mm Breda 38"]
[null,"1"]
[null,"ball","900rnds"]
[null,"3",null,null,"# Crew Position Count"]
[null,"0",null,null,"#  Crew Function (0 = driver, 1 = gunner, 2 = commander, 3 = loader, 4 = radioman, 5 = secondary driver, 6 = secondary gunner, 7 = secondary loader, 7 = passenger, 8 = rider)"]
[null,"1",null,null,"#  Crew exposure (0 = always buttoned, 1 = can unbutton, 2 = always unbuttoned)"]
[null,"0",null,null,"#  Crew weapon count, followed by List of weapon indexes w/ exposured to fire = 0 or 1"]
[null,"1",null,null,"# gunner"]
[null,"0",null,null,"# always buttoned"]
[null,"2",null,null,"# 2 weapons"]
[null,"0","0",null,"# Main gun"]
[null,"1","0",null,"# coax mg"]
[null,"3",null,null,"# loader"]
[null,"0"]
[null,"0"]
[null,"################"]

{"sheet":"ANIMATIONS","index":16,"n_rows":255,"n_cols":19,"rows_kept":255,"cut":false,"hidden":false,"merged":[]}
["Index","Start","Length","Loops?","Hands 0-2","Action frame","Velocity","SUBANIMS","Name",null,null,null,null,"TIME",null,"MOVEMENT SPEED"]
["Count",144]
[0,0,2,1,0,-1,0,null,"T pose "]
[{"$f":"A3+1","v":1},{"$f":"B3+C3+1","v":3},59,0,0,-1,0,"x","artilleryman seated aiming operating gun",null,null,null,null,{"$f":"C4/24","v":2.4583333333333335}]
[2,63,85,0,0,-1,0,null,"artilleryman bend to push plus half step ",null,null,null,null,{"$f":"C5/24","v":3.5416666666666665}]
[3,149,33,0,0,-1,0,null,"artilleryman firing AT gun ",null,null,null,null,{"$f":"C6/24","v":1.375}]
[4,183,71,0,0,-1,0,null,"artilleryman last step to stand relaxed ",null,null,null,null,{"$f":"C7/24","v":2.9583333333333335}]
[5,255,54,0,0,-1,0,null,"artilleryman loading ",null,null,null,null,{"$f":"C8/24","v":2.25}]
[6,310,56,1,0,-1,0.57899999999999996,null,"artilleryman push loop ",null,null,null,null,null,null,0.57899999999999996]
[7,367,2,0,0,-1,0,null,"artilleryman stand relaxed ",null,null,null,null,{"$f":"C10/24","v":8.3333333333333329E-2}]
[8,370,42,0,0,-1,0,null,"commander fire order ",null,null,null,null,{"$f":"C11/24","v":1.75}]
[9,413,42,0,0,-1,0,"x","crewed weapon asst PRONE ",null,null,null,null,{"$f":"C12/24","v":1.75}]
[10,456,89,1,0,-1,0,null,"crewed weapon asst SEATED "]
[11,546,42,0,0,-1,0,"x","crewed weapon operator PRONE ",null,null,null,null,{"$f":"C14/24","v":1.75}]
[12,589,23,0,0,-1,0,"x","crewed weapon operator SEATED ",null,null,null,null,0.95833333333333337]
[13,613,48,0,2,-1,0,null,"crouch aim idle ",null,null,null,null,2]
[14,662,25,0,2,-1,0,"x","crouch fire burst ",null,null,null,null,1.0416666666666667]
[15,688,25,0,2,-1,0,"x","crouch fire continuous ",null,null,null,null,1.0416666666666667]
[16,714,23,0,2,-1,0,"x","crouch fire single ",null,null,null,null,0.95833333333333337]
[17,738,45,0,0,18,0,null,"crouch grenade throw ",null,null,null,null,1.875]
[18,784,47,0,2,-1,0,null,"crouch idle ",null,null,null,null,1.9583333333333333]
[19,832,25,0,0,-1,0,"x","crouch taking cover ",null,null,null,null,1.0416666666666667]
[20,858,95,0,0,-1,0,"x","crouch use_pick up object on ground ",null,null,null,null,3.9583333333333335]
[21,954,29,1,2,-1,0.79600000000000004,null,"crouch walk aim fwd loop ",null,null,null,null,null,null,0.79600000000000004]
[22,984,29,1,2,-1,0.79600000000000004,null,"crouch walk aim fwd loop in place "]
[23,1014,28,1,2,-1,0.85599999999999998,null,"crouch walk fwd loop ",null,null,null,null,null,null,0.85599999999999998]
[24,1043,28,1,2,-1,0.85599999999999998,null,"crouch walk fwd loop in place "]
[25,1072,30,0,0,-1,0,"x","crouch use binoculars ",null,null,null,null,{"$f":"C28/24","v":1.25}]
[26,1103,53,0,0,-1,0,null,"death crouch fall back ",null,null,null,null,2.2083333333333335]
[27,1157,32,0,0,-1,0,null,"death crouch fall fwd ",null,null,null,null,1.3333333333333333]
[28,1190,55,0,0,-1,0,null,"death fall back ",null,null,null,null,2.2916666666666665]
[29,1246,34,0,0,-1,0,null,"death fall down ",null,null,null,null,1.4166666666666667]
[30,1281,32,0,0,-1,0,null,"death fall fwd ",null,null,null,null,1.3333333333333333]
[31,1314,10,0,0,-1,0,null,"death prone v1 ",null,null,null,null,0.41666666666666669]
[32,1325,38,0,0,-1,0,null,"death prone v2 ",null,null,null,null,1.5833333333333333]
[{"$f":"A35+1","v":33},{"$f":"B35+C35+1","v":1364},17,0,0,-1,0,null,"death thrown v1",null,null,null,null,0.70833333333333337]
[34,1382,17,0,0,-1,0,null,"death thrown v2",null,null,null,null,0.70833333333333337]
[35,1400,17,0,0,-1,0,null,"death thrown v3",null,null,null,null,0.70833333333333337]
[36,1418,70,0,1,-1,0,"x","fence jump v1",null,null,null,null,2.9166666666666665]
[37,1489,23,0,2,11,0,null,"hand to hand bayonet thrust v1",null,null,null,null,0.95833333333333337]
[38,1513,23,0,2,11,0,null,"hand to hand block",null,null,null,null,0.95833333333333337]
[39,1537,19,0,2,4,0,null,"hand to hand weapon butt",null,null,null,null,0.79166666666666663]
[40,1557,18,1,2,-1,2.8460000000000001,null,"jog aim fwd loop",null,null,null,null,null,null,2.8460000000000001]
[41,1576,22,1,2,-1,2.8460000000000001,null,"jog aim fwd loop in place"]
[42,1599,18,1,2,-1,2.8069999999999999,null,"jog fwd loop",null,null,null,null,null,null,2.8069999999999999]
[43,1618,17,1,2,-1,2.8069999999999999,null,"jog fwd in place loop"]
[44,1636,39,1,2,-1,0,null,"jog fwd jump loop in place"]
[45,1676,53,0,0,-1,0,"x","mortar reload",null,null,null,null,{"$f":"C48/24","v":2.2083333333333335}]
[46,1730,45,0,0,-1,0,"x","operating turret HMG gun",null,null,null,null,{"$f":"C49/24","v":1.875}]
[47,1776,29,0,1,-1,0,null,"PISTOL crouch idle",null,null,null,null,{"$f":"C50/24","v":1.2083333333333333}]
[48,1806,29,0,1,-1,0.95900000000000007,null,"PISTOL crouch walk fwd aim loop",null,null,null,null,{"$f":"C51/24","v":1.2083333333333333},null,0.95900000000000007]
[49,1836,17,1,1,-1,2.931,null,"PISTOL jog fwd aim loop",null,null,null,null,null,null,2.931]
[50,1854,16,1,1,-1,4.0860000000000003,null,"PISTOL run fwd aim loop",null,null,null,null,null,null,4.0860000000000003]
[51,1871,106,0,1,-1,0,null,"PISTOL stand aim fidgit v1",null,null,null,null,{"$f":"C54/24","v":4.416666666666667}]
[52,1978,47,0,1,-1,0,null,"PISTOL stand aim idle",null,null,null,null,1.9583333333333333]
[53,2026,47,1,1,-1,0,null,"PISTOL stand aim reload",null,null,null,null,1.9583333333333333]
[54,2074,124,0,1,-1,0,null,"PISTOL stand relaxed figit v1",null,null,null,null,5.166666666666667]
[55,2199,48,0,1,-1,0,null,"PISTOL stand relaxed idle",null,null,null,null,2]
[56,2248,70,1,1,-1,0,null,"PISTOL stand relaxed reload",null,null,null,null,2.9166666666666665]
[57,2319,25,0,1,-1,0,null,"PISTOL stand relaxed to aim",null,null,null,null,1.0416666666666667]
[58,2345,46,0,1,-1,0,null,"PISTOL stand relaxed to crouch",null,null,null,null,1.9166666666666667]
[59,2392,26,1,1,-1,1.222,null,"PISTOL walk fwd aim loop",null,null,null,null,null,null,1.222]
[60,2419,2,1,2,-1,0,null,"prone aim"]
[61,2422,1,1,2,-1,0,null,"prone base pose"]
[62,2424,201,1,2,-1,0.4,null,"prone crawl",null,null,null,null,null,null,0.4]
[63,2626,24,0,2,-1,0,"x","prone fire burst",null,null,null,null,{"$f":"C66/24","v":1}]
[64,2651,25,0,2,-1,0,"?","prone fire single",null,null,null,null,1.0416666666666667]
[{"$f":"A67+1","v":65},{"$f":"B67+C67+1","v":2677},135,0,2,92,0,null,"prone grenade throw",null,null,null,null,5.625]
[66,2813,71,1,1,-1,0,"x","prone reload_repair",null,null,null,null,2.9583333333333335]
[67,2885,59,0,0,-1,0,"x","prone taking cover",null,null,null,null,2.4583333333333335]
[68,2945,152,1,0,-1,0,"x","prone use_pick up object on the ground",null,null,null,null,6.333333333333333]
[69,3098,24,0,0,-1,0,"x","prone using binoculars",null,null,null,null,1]
[70,3123,16,1,2,-1,4.2359999999999998,null,"run fwd loop",null,null,null,null,null,null,4.2359999999999998]
[71,3140,16,1,2,-1,4.2359999999999998,null,"run fwd in place loop"]
[72,3157,32,1,2,-1,0,null,"run fwd jump loop in place"]
[73,3190,2,1,0,-1,0,null,"seated driving"]
[74,3193,2,1,0,-1,0,null,"seated passengers"]
[75,3196,33,0,2,-1,0,"x","shoulder fired weapon operator",null,null,null,null,{"$f":"C78/24","v":1.375}]
[76,3230,131,0,2,-1,0,null,"stand aim figit v1",null,null,null,null,5.458333333333333]
[77,3362,171,0,2,-1,0,null,"stand aim figit v2",null,null,null,null,7.125]
[78,3534,112,0,2,-1,0,null,"stand aim figit v3",null,null,null,null,4.666666666666667]
[79,3647,95,0,2,-1,0,null,"stand aim figit v4",null,null,null,null,3.9583333333333335]
[80,3743,62,0,0,31,0,null,"stand grenade throw",null,null,null,null,2.5833333333333335]
[81,3806,70,0,1,-1,0,null,"stand aim holster",null,null,null,null,2.9166666666666665]
[82,3877,47,0,2,-1,0,null,"stand aim idle",null,null,null,null,1.9583333333333333]
[83,3925,28,0,0,-1,0,null,"stand climb up",null,null,null,null,1.1666666666666667]
[84,3954,56,0,0,-1,0,null,"stand jump down",null,null,null,null,2.3333333333333335]
[85,4011,217,0,2,-1,0,null,"stand relaxed figit",null,null,null,null,9.0416666666666661]
[86,4229,80,0,2,-1,0,null,"stand relaxed idle",null,null,null,null,3.3333333333333335]
[87,4310,31,0,0,-1,0,"x","stand use binoculars",null,null,null,null,1.2916666666666667]
[88,4342,29,1,0,-1,1.121,null,"surrender walk fwd loop v1",null,null,null,null,null,null,1.121]
[89,4372,29,1,0,-1,1.121,null,"surrender walk fwd loop v2",null,null,null,null,null,null,1.121]
[90,4402,30,1,0,-1,1.121,null,"surrender walk fwd loop v3",null,null,null,null,null,null,1.121]
[91,4433,1,1,2,-1,0,null,"stand aim point center"]
[92,4435,100,1,1,-1,0,null,"stand aim reload",null,null,null,null,{"$f":"C95/24","v":4.166666666666667}]
[93,4536,144,1,1,-1,0,null,"stand aim unjam",null,null,null,null,6]
[94,4681,23,0,2,-1,0,null,"stand fire burst",null,null,null,null,0.95833333333333337]
[95,4705,25,0,2,-1,0,null,"stand fire continuous",null,null,null,null,1.0416666666666667]
[96,4731,25,0,2,-1,0,null,"stand fire single",null,null,null,null,1.0416666666666667]
[{"$f":"A99+1","v":97},{"$f":"B99+C99+1","v":4757},292,0,2,-1,0,null,"stand relaxed figit v2",null,null,null,null,12.166666666666666]
[98,5050,254,0,2,-1,0,null,"stand relaxed figit v3",null,null,null,null,10.583333333333334]
[99,5305,238,0,2,-1,0,null,"stand relaxed figit v4",null,null,null,null,9.9166666666666661]
[100,5544,129,1,1,-1,0,null,"stand relaxed reload",null,null,null,null,5.375]
[101,5674,150,1,1,-1,0,null,"stand relaxed unjam",null,null,null,null,6.25]
[102,5825,27,1,2,-1,1.1140000000000001,null,"walk fwd aim loop",null,null,null,null,null,null,1.1140000000000001]
[103,5853,28,1,2,-1,1.1140000000000001,null,"walk fwd aim loop in place"]
[104,5882,29,1,2,-1,1.1219999999999999,null,"walk fwd loop",null,null,null,null,null,null,1.1219999999999999]
[105,5912,29,1,2,-1,1.1219999999999999,null,"walk fwd loop in place"]
[106,5942,18,1,2,-1,2.8149999999999999,null,"Crouch jog LOOP",null,null,null,null,null,null,2.8149999999999999]
[107,5961,16,1,2,-1,4.2309999999999999,null,"Crouch run LOOP",null,null,null,null,null,null,4.2309999999999999]
[108,5978,129,1,1,-1,0,null,"Crouch reload",null,null,null,null,{"$f":"C111/24","v":5.375}]
[109,6108,150,1,1,-1,0,null,"Crouch unjam",null,null,null,null,{"$f":"C112/24","v":6.25}]
[110,6259,203,1,2,-1,0.4,null,"Crawl in place loop"]
[111,6463,56,1,0,-1,0.57899999999999996,null,"artilleryman push loop in place: [6463,56]"]
[112,6520,29,1,1,-1,0.95900000000000007,null,"PISTOL crouch walk fwd aim loop in place: [6520,29]"]
[113,6550,17,1,1,-1,2.931,null,"PISTOL jog fwd aim loop in place: [6550,17]"]
[114,6568,16,1,1,-1,4.0860000000000003,null,"PISTOL run fwd aim loop in place: [6568,16]"]
[115,6585,28,1,1,-1,1.222,null,"PISTOL walk fwd aim loop in place: [6585,28]"]
[116,6614,18,1,2,-1,2.8149999999999999,null,"Crouch jog LOOP in place: [6614,18]"]
[117,6633,16,1,2,-1,4.2309999999999999,null,"Crouch run LOOP in place: [6633,16]"]
[118,6650,2,0,1,-1,0,null,"PISTOL crouch aim: [6650,2]"]
[119,6653,2,0,1,-1,0,null,"PISTOL prone aim: [6653,2]"]
[120,6656,2,0,1,-1,0,null,"PISTOL stand aim: [6656,2]"]
[121,{"$f":"O124+INDIRECT($M124)","v":10},{"$f":"1+$P124-$O124","v":12},1,0,-1,0,null,"artilleryman seated cranking",null,null,null,"B4",null,7,18]
[122,22,29,0,0,-1,0,null,"artilleryman seated aiming gun",null,null,null,"B4",null,19,47]
[123,419,17,1,0,-1,0,null,"MMG Prone loader loop",null,null,null,"B12",null,6,22]
[124,456,89,1,0,-1,0,null,"MMG Crouch loader loop",null,null,null,"B13",null,0,88]
[125,553,10,0,0,-1,0,null,"MMG Prone Gunner Load",null,null,null,"B14",null,7,16]
[126,570,6,0,0,-1,0,null,"MMG Prone Gunner Fire",null,null,null,"B14",null,24,29]
[127,598,6,0,0,-1,0,null,"MMG Crouch Gunner Fire",null,null,null,"B15",null,9,14]
[128,662,14,0,2,-1,0,null,"Crouch Fire Burst",null,null,null,"B17",null,0,13]
[{"$f":"A131+1","v":129},688,25,0,2,-1,0,null,"Crouch Fire Continuous",null,null,null,"B18",null,0,24]
[130,714,18,0,2,-1,0,null,"Crouch Fire Single",null,null,null,"B19",null,0,17]
[131,744,13,1,0,-1,0,null,"Crouch taking cover",null,null,null,"B20",null,6,18]
[132,892,54,1,0,-1,0,null,"Crouch use object",null,null,null,"B23",null,34,87]
[133,1084,7,1,0,-1,0,null,"Crouch use Binocs",null,null,null,"B28",null,12,18]
[134,1737,15,0,0,-1,0,null,"Turret HMG Load",null,null,null,"B49",null,7,21]
[135,1752,6,0,0,-1,0,null,"Turret HMG Fire",null,null,null,"B49",null,22,27]
[136,1730,7,1,0,-1,0,null,"Turret HMG Pose",null,null,null,"B49",null,0,6]
[137,2636,6,0,2,-1,0,null,"Prone Fire Burst",null,null,null,"B66",null,10,15]
[138,2823,50,1,1,-1,0,null,"Prone reload or repair",null,null,null,"B69",null,10,59]
[139,2891,9,1,0,-1,0,null,"Prone Cover",null,null,null,"B70",null,6,14]
[140,2981,38,1,0,-1,0,null,"Prone use object",null,null,null,"B71",null,36,73]
[141,3105,10,1,0,-1,0,null,"Prone use Binocs",null,null,null,"B72",null,7,16]
[142,3208,7,1,2,-1,0,null,"AT aim or fire",null,null,null,"B78",null,12,18]
[143,4322,7,1,0,-1,0,null,"Stand use binocs",null,null,null,"B90",null,12,18]
[]
[]
[]
[]
[]
[]
[]
[]
[]
[]
[]
[]
[null,null,null,null,null,null,"0 = None, 1 = alert, 2 = under fire/firing"]
[]
[null,null,"(0 = stand, 1 = crouch, 2 = prone, 3 = vehicle crew, 4 = vehicle)","(index from CCUnitSoldierAction::ACTION)","(Index from CCWeaponData Weapon Types)","(0 = relaxed, 1 = alert, 2 = fighting)",null,null,null,null,null,null,"ACTIONS",null,null,"WEAPON_TYPE_MELEE",null,null,0]
[null,null,"SOLDIER","SOLDIER","SOLDIER",null,"Animation",null,null,null,null,null,"ACTION_NONE","= -1,",null,"WEAPON_TYPE_THROWN,",null,null,1]
[null,null,"STANCE","ACTION","WEAPON","Alertness","Index",null,null,null,null,null,"ACTION_REST","= 0,",null,"WEAPON_TYPE_PISTOL,",null,null,2]
[null,"COUNT",91,null,null,null,null,null,null,null,null,null,"ACTION_MOVE_CRAWL","= 1,",null,"WEAPON_TYPE_RIFLE,",null,null,3]
["default",0,-1,-1,-1,-1,0,null,null,null,null,null,"ACTION_MOVE_WALK","= 2,",null,"WEAPON_TYPE_SMG,",null,null,4]
["stand default",{"$f":"B165+1","v":1},0,-1,-1,-1,86,null,null,null,null,null,"ACTION_MOVE_RUN","= 3,",null,"WEAPON_TYPE_LMG,",null,null,5]
["stand walk",2,0,2,-1,-1,105,null,null,null,null,null,"ACTION_COWER","= 4,",null,"WEAPON_TYPE_AT,",null,null,6]
["stand run",3,0,3,-1,-1,43,null,null,null,null,null,"ACTION_TURN","= 5,",null,"WEAPON_TYPE_FLAME,",null,null,7]
["stand aim",4,0,16,-1,-1,82,null,null,null,null,null,"ACTION_PRONE","= 6,",null,"WEAPON_TYPE_SMOKE,",null,null,8]
["stand fire",5,0,17,-1,-1,96,null,null,null,null,null,"ACTION_CROUCH","= 7,",null,"WEAPON_TYPE_HMG,",null,null,9]
["stand throw",6,0,17,1,-1,80,null,null,null,null,null,"ACTION_STAND","= 8, ",null,"WEAPON_TYPE_MORTAR,",null,null,10]
["stand load",7,0,13,-1,-1,82,null,null,null,null,null,"ACTION_LOADER","= 9,",null,"WEAPON_TYPE_LARGEGUN,",null,null,11]
["stand reload",8,0,14,-1,-1,92,null,null,null,null,null,"ACTION_SPOTTER","= 10,"]
["crouch default",9,1,-1,-1,-1,18,null,null,null,null,null,"ACTION_AMMO","= 11,"]
["crouch walk",10,1,2,-1,-1,22,null,null,null,null,null,"ACTION_SETUP","= 12,"]
["crouch run",11,1,3,-1,-1,116,null,null,null,null,null,"ACTION_LOAD","= 13,"]
["crouch aim",12,1,16,-1,-1,13,null,null,null,null,null,"ACTION_RELOAD","= 14,"]
["crouch fire",13,1,17,-1,-1,130,null,null,null,null,null,"ACTION_REPAIR","= 15,"]
["crouch throw",14,1,17,1,-1,17,null,null,null,null,null,"ACTION_AIM","= 16,"]
["crouch load",15,1,13,-1,-1,13,null,null,null,null,null,"ACTION_FIRE","= 17,"]
["crouch reload",16,1,14,-1,-1,108,null,null,null,null,null,"ACTION_SURRENDER","= 18,"]
["prone default",17,2,-1,-1,-1,61,null,null,null,null,null,"ACTION_DRIVE","= 19,"]
["prone crawl",18,2,1,-1,-1,110,null,null,null,null,null,"ACTION_ROTATE","= 20,"]
["prone aim",19,2,16,-1,-1,60,null,null,null,null,null,"ACTION_PLOT","= 21, "]
["prone fire",20,2,17,-1,-1,64,null,null,null,null,null,"ACTION_SCAVENGE","= 22,"]
["prone throw",21,2,17,1,-1,65,null,null,null,null,null,"ACTION_PUSH","= 23,"]
["prone load",22,2,13,-1,-1,60,null,null,null,null,null,"ACTION_SPRINT","= 24,"]
["prone reload",23,2,14,-1,-1,138,null,null,null,null,null,"ACTION_MOUNT","= 25,"]
["stand die",24,0,99,-1,-1,28,29,30,null,null,null,"ACTION_DISMOUNT","= 26,"]
["crouch die",25,1,99,-1,-1,26,27,null,null,null,null,"ACTION_LEAP","= 27,"]
["prone die",26,2,99,-1,-1,31,32,null,null,null,null,"ACTION_VAULT","= 28,"]
["die explosion",27,-1,98,-1,-1,33,34,35,null,null,null,"DIE EXPLOSION",98]
["VEH DRIVE",28,3,19,-1,-1,73,null,null,null,null,null,"DIE",99]
["VEH PASSENGER",29,3,-1,-1,-1,74]
["VEH LOADER",30,3,9,-1,-1,45]
["VEH FIRE",31,3,17,-1,-1,131]
["VEH SPOTTER",32,3,10,-1,-1,143]
["VEH SPOTTER",{"$f":"B197+1","v":33},3,10,-1,2,133]
["VEH AMMO",34,3,11,-1,-1,132]
["GUN PUSH",35,-1,23,-1,-1,111]
["H2H Attack",36,-1,17,0,-1,37,38,39]
["Stand idle",37,0,0,-1,-1,76,77,78,79]
["Stand idle",38,0,0,-1,0,85,97,98,99]
["crouch idle",39,1,0,-1,-1,13,18]
["COWER",40,-1,4,-1,-1,131]
["COWER",41,2,4,-1,-1,139]
["LOADER",42,-1,9,-1,-1,132]
["PRONE LOADER",43,2,9,-1,-1,140]
["CROUCH MG LOADER",44,1,9,9,-1,124]
["PRONE MG LOADER",45,2,9,9,-1,123]
["MORTAR LOADER",46,1,9,10,-1,45]
["STAND SPOTTER",47,0,10,-1,-1,143]
["CROUCH SPOTTER",48,1,10,-1,-1,133]
["PRONE SPOTTER",49,2,10,-1,-1,141]
["CROUCH AMMO",50,-1,11,-1,-1,132]
["PRONE AMMO",51,2,11,-1,-1,140]
["CROUCH SETUP",52,-1,12,-1,-1,132]
["PRONE SETUP",53,2,12,-1,-1,140]
["STAND REPAIR",54,0,15,-1,-1,93,101]
["CROUCH REPAIR",55,1,15,-1,-1,109]
["PRONE REPAIR",56,2,15,-1,-1,138]
["AT Aim",57,-1,16,6,-1,142]
["AT Fire",58,-1,17,6,-1,142]
["CROUCH MG REST",59,1,0,9,-1,127]
["CROUCH MG AIM",60,1,16,9,-1,127]
["CROUCH MG FIRE",61,1,17,9,-1,127]
["PRONE MG REST",62,2,0,9,-1,126]
["PRONE MG AIM",63,2,16,9,-1,126]
["PRONE MG FIRE",64,2,17,9,-1,126]
["PRONE MG LOAD",{"$f":"B229+1","v":65},2,13,9,-1,125]
["PISTOL stand idle",66,0,0,2,-1,52,54,55]
["PISTOL walk",67,0,2,2,-1,59]
["PISTOL Jog",68,0,3,2,-1,113]
["PISTOL Run",69,0,3,2,2,114]
["PISTOL crouch idle",70,1,0,2,-1,47]
["PISTOL crouch walk",71,1,2,2,-1,112]
["PISTOL crouch Jog",72,1,3,2,-1,113]
["PISTOL stand reload",73,0,14,2,-1,56]
["PISTOL stand reload",74,0,14,2,2,53]
["SURRENDER",75,-1,18,-1,-1,88,89,90]
["PLOT",76,-1,21,-1,-1,132]
["PLOT PRONE",77,2,21,-1,-1,140]
["SCAVENGE",78,-1,22,-1,-1,132]
["SCAVENGE PRONE",79,2,22,-1,-1,140]
["SPRINT",80,-1,24,-1,-1,71]
["CROUCH SPRINT",81,1,24,-1,-1,117]
["MOUNT",82,-1,25,-1,-1,83]
["DISMOUNT",83,-1,26,-1,-1,84]
["VAULT",84,-1,28,-1,-1,36]
["PISTOL AIM",85,0,16,2,-1,120]
["PISTOL CROUCH AIM",86,1,16,2,-1,118]
["PISTOL PRONE AIM",87,2,16,2,-1,119]
["PISTOL FIRE",88,0,17,2,-1,120]
["PISTOL CROUCH FIRE",89,1,17,2,-1,118]
["PISTOL PRONE FIRE",90,2,17,2,-1,119]

{"sheet":"AMMO TYPES","index":17,"n_rows":13,"n_cols":7,"rows_kept":13,"cut":false,"hidden":false,"merged":[]}
["Full Name","Index","Abbreviation","Soft Target ","Hard Target"]
["Ball",0,"BALL",1,1]
["Armor Piercing",1,"AP",1,1]
["Armor Piercing Capped",2,"APC",1,1]
["Armor Piercing Ballistic Cap",3,"APBC",1,1]
["Armor Piercing Composite Rigid",4,"APCR",1,1]
["High Explosive",5,"HE",1,0,null,"KE ^ 0.25 + (7 * charge^0.33), where KE is 0.5 *  m * v^2 and 'charge' is TNT equivalent weight. Units are m, kg, second"]
["Shrapnel",6,"SH",1,0]
["High Explosive Anti Tank",7,"HEAT",1,1]
["Cannister",8,"CAN",1,0]
["Smoke",9,"SMK",0,0]
["White Phosphorus",10,"WP",1,0]
["Illumination",11,"ILM",0,0]

{"sheet":"EXPLOSIVES","index":18,"n_rows":36,"n_cols":10,"rows_kept":36,"cut":false,"hidden":false,"merged":[]}
["NAME","RE Rating (TNT=1.0)","Det. Vel. (m/s)","Explosion Color","Smoke Amount","Smoke Color",null,null,null,"Notes"]
["Black Powder",0.5,600]
["Smokeless Powder",0.5,600]
["Torpex",1.5,null,null,null,null,null,null,null,"(RDX/TNT/AL 42/40/18)"]
["HBX",null,null,null,null,null,null,null,null,"(RDX/TNT/Al 40/40/20)"]
["Minol ",null,null,null,null,null,null,null,null,"(AN/TNT/Al 40/40/20)"]
["Tritonal ",1.17,6759,null,null,null,null,null,null,"(TNT/Al 80/20)"]
["DBX ",null,null,null,null,null,null,null,null,"(AN/RDX/TNT/Al 20/20/40/20)"]
["Comp B",1.35,7840,null,null,null,null,null,null,"(RDX/TNT 63/36)"]
["Ednatol ",null,7400,null,null,null,null,null,null,"(Halite/TNT 58/42)"]
["TNT",1,6900]
["Picratol ",null,6972,null,null,null,null,null,null,"(Exp D/TNT 52/48)"]
["Amatex ",null,null,null,null,null,null,null,null,"(AN/TNT/RDX 51/40/9)"]
["Amatol ",0.91,6590,null,null,null,null,null,null,"(AN/TNT 50/50)"]
["Explosive D",null,null,null,null,null,null,null,null,"Amonium Picrate"]
[]
[]
[]
["HC Smoke",0,0,0]
["FS Smoke",0,0,0]
["WP Smoke",0,0,0]
[]
[]
["FX LIST"]
["Muzzle Blast"]
["HE Explosion"]
["Secondary Explosion"]
["HC Smoke"]
["WP Smoke"]
["Fire"]
["Black smoke"]
["Vehicle Exhaust"]
["DustCloud"]
["Backblast"]
["Vip"]
["Sparks/Ricochet"]

{"sheet":"Blast Work","index":19,"n_rows":170,"n_cols":32,"rows_kept":170,"cut":false,"hidden":false,"merged":[]}
[null,"FRAGMENTATION",null,null,null,null,"m/ft",0.30480000000000002,null,"Area",10.763999999999999]
[null,null,null,null,null,null,null,null,null,"Human",null,null,null,"58 foot/lbs of energy minimum"]
[null,null,"Hand Grenade, MkII (TNT)",null,null,null,null,null,null,"Standing",{"$f":"2*K1","v":21.527999999999999}]
[null,2900,"Initial Fragment velocity (ft/s)",null,null,null,null,null,null,"Crouch",{"$f":"1.5*K1","v":16.146000000000001},null,null,null,null,null,"Vs. 3mm Mild Steel"]
["Distance (ft)","Distance (m)","# eff frags","Avg per ft^2","Stand","Crouch","Prone",null,null,"Prone",{"$f":"0.5*K1","v":5.3819999999999997},null,null,null,null,"Distance (ft)","m","Avg Eff / Sq Foot","2 x 2.5m Target"]
[10,{"$f":"A6*$H$1","v":3.048},312,0.217,{"$f":"1-((1-$D6)^$K$3)","v":0.99483698705919699},{"$f":"1-((1-$D6)^$K$4)","v":0.980739063023777},{"$f":"1-((1-$D6)^$K$5)","v":0.73194383288951026},null,null,null,null,null,null,null,null,10,{"$f":"P6*$H$1","v":3.048},6.8600000000000008E-2,{"$f":"1-((1-$R6)^50)","v":0.971370637348838}]
[20,6.0960000000000001,254,5.0500000000000003E-2,0.67227339865203306,0.5668545360726176,0.24337981430896194,null,null,null,null,null,null,null,null,20,6.0960000000000001,8.6E-3,0.35069951322965998]
[30,9.1440000000000001,188,1.66E-2,0.30257769848188409,0.23682897550208271,8.6152016873356496E-2,null,null,null,null,null,null,null,null,30,9.1440000000000001,2E-3,9.5253181995963998E-2]
[40,12.192,147,7.3000000000000001E-3,0.14592034825425315,0.11156884186899596,3.8665355296095827E-2,null,null,null,null,null,null,null,null,40,12.192,5.0000000000000001E-4,2.4696185672210325E-2]
[50,15.24,111,3.5000000000000001E-3,7.2701878990673152E-2,5.503758579808149E-2,1.8693117236319168E-2,null,null,null,null,null,null,null,null,50,15.24,2.0000000000000001E-4,9.9511564321964618E-3]
[60,18.288,86,1.9E-3,4.0115301373043089E-2,3.0239922146364839E-2,1.0183322093991976E-2,null,null,null,null,null,null,null,null,60,18.288,1E-4,4.9877695769898756E-3]
[70,21.336000000000002,64,1E-3,2.1308468293345761E-2,1.6024301012781961E-2,5.3702213235578E-3,null,null,null,null,null,null,null,null,70,21.336000000000002,1E-4,4.9877695769898756E-3]
[80,24.384,47,6.0000000000000006E-4,1.2837562995322127E-2,9.6437057750913269E-3,3.2249577640444116E-3]
[100,30.48,30,2.0000000000000001E-4,4.2967729602623184E-3,3.2243136631378011E-3,1.0759284278549774E-3]
[120,36.576000000000001,19,1E-4,2.1505918037381111E-3,1.61337783979143E-3,5.3808209367267601E-4]
[140,42.672000000000004,13,1E-4,2.1505918037381111E-3,1.61337783979143E-3,5.3808209367267601E-4,null,null,null,null,null,null,null,null,"Avg/Sq Ft"]
[null,null,null,null,null,null,null,null,null,null,null,null,null,null,null,0.2,{"$f":"1-((1-P17)^$K$3)","v":0.99180174844700608},{"$f":"1-((1-P17)^$K$4)","v":0.97275474167727372},{"$f":"1-((1-P17)^$K$5)","v":0.69909437246350259}]
[null,null,null,null,null,null,null,null,null,null,null,null,null,null,null,0.05,{"$f":"1-((1-P18)^$K$3)","v":0.66853797851490526},{"$f":"1-((1-P18)^$K$4)","v":0.56315705024051421},{"$f":"1-((1-P18)^$K$5)","v":0.24123298391884562}]
[null,null,"75mm HE M48",null,null,null,null,null,null,null,null,null,null,null,null,0.02,{"$f":"1-((1-P19)^$K$3)","v":0.35268606328735352},{"$f":"1-((1-P19)^$K$4)","v":0.27833404427208408},{"$f":"1-((1-P19)^$K$5)","v":0.10302830336547275}]
[null,3120,"Initial Fragment velocity (ft/s)"]
["Distance (ft)","Distance (m)","# eff frags","Avg per ft^2","Stand","Crouch","Prone"]
[20,{"$f":"A22*$H$1","v":6.0960000000000001},1070,0.21299999999999999,{"$f":"1-((1-$D22)^$K$3)","v":0.99423838760636984},{"$f":"1-((1-$D22)^$K$4)","v":0.97908740009717277},{"$f":"1-((1-$D22)^$K$5)","v":0.72449086099279003},null,null,null,null,null,null,null,null,null,"Range 0","Range 1","Range 2"]
[30,9.1440000000000001,920,8.09E-2,0.83734267391426642,0.74387308324664358,0.36493466540899189,null,null,null,null,null,null,null,null,"Mk II Grenade",3,6,8]
[40,12.192,750,3.7499999999999999E-2,0.56081136670308085,0.46050388865395109,0.18592808352012302,null,null,null,null,null,null,null,null,"75mm HE",6,10,16]
[60,18.288,640,1.4100000000000001E-2,0.26339620424371968,0.20489320612463324,7.3578792898928214E-2,null,null,null,null,null,null,null,null,"3\" HE",4,8,12]
[80,24.384,510,6.4000000000000003E-3,0.12909465647029983,9.8474082771072946E-2,3.3965272782558564E-2,null,null,null,null,null,null,null,null,"81mm",4,10,16]
[100,30.48,450,3.6000000000000003E-3,7.4703115871149417E-2,5.6567517924623112E-2,1.9222995064396509E-2,null,null,null,null,null,null,null,null,"105mm",6,12,20]
[150,45.72,370,1.3000000000000002E-3,2.7616112924326308E-2,2.0784418827735296E-2,6.9767007673758874E-3,null,null,null,null,null,null,null,null,"155mm",7,14,22]
[200,60.96,320,6.0000000000000006E-4,1.2837562995322127E-2,9.6437057750913269E-3,3.2249577640444116E-3,null,null,null,null,null,null,null,null,"500lb Bomb",24,45,60]
[300,91.44,250,2.0000000000000001E-4,4.2967729602623184E-3,3.2243136631378011E-3,1.0759284278549774E-3,null,null,null,null,null,null,null,null,null,null,null,null,null,null,0,3,5,9,10,15,null,25,30,35,40]
[400,121.92,200,1E-4,2.1505918037381111E-3,1.61337783979143E-3,5.3808209367267601E-4,null,null,null,null,null,null,null,null,null,null,null,null,null,null,null,{"$f":"4*PI()*6.2^2","v":483.05128641596667}]
[null,null,null,null,null,null,null,null,null,null,null,null,null,null,null,null,"* Effective = pen 1.5mm steel",null,null,null,null,{"$f":"4*PI()*V34^2","v":113.09733552923255},{"$f":"4*PI()*W34^2","v":314.15926535897933},{"$f":"4*PI()*X34^2","v":1017.8760197630929},{"$f":"4*PI()*Y34^2","v":1256.6370614359173},{"$f":"4*PI()*Z34^2","v":2827.4333882308138}]
[null,null,null,null,null,null,null,null,null,null,null,null,null,null,null,"Rheinmetall 1982 Weapon Data - # effective frags for AA shells",null,null,null,null,null,null,"Avg per sq. m"]
[null,null,"3\" HE M42A1",null,null,null,null,null,null,null,null,null,null,null,null,"Shell","3m","5m","9m","10m","15m",3,5,9,10,15]
[null,2260,"Initial Fragment velocity (ft/s)",null,null,null,null,null,null,null,null,null,null,null,null,"20mm",36,20,6,0,null,{"$f":"Q35/V$32","v":0.31830988618379069},6.3661977236758135E-2,5.8946275219220502E-3,0,0]
["Distance (ft)","Distance (m)","# eff frags","Avg per ft^2","Stand","Crouch","Prone",null,null,null,null,null,null,null,null,"30mm",220,160,90,75,15,1.9452270822342763,0.50929581789406508,8.8419412828830743E-2,5.9683103659460751E-2,5.3051647697298452E-3]
[20,{"$f":"A37*$H$1","v":6.0960000000000001},547,0.109,{"$f":"1-((1-$D37)^$K$3)","v":0.91663817525953672},{"$f":"1-((1-$D37)^$K$4)","v":0.84485942048624452},{"$f":"1-((1-$D37)^$K$5)","v":0.46266911596090832},null,null,null,null,null,null,null,null,"40mm",350,300,160,130,70,{"$f":"Q37/V$32","v":3.0946794490090759},{"$f":"R37/W$31","v":0.62105206721603268},{"$f":"S37/X$32","v":0.15719006725125467},{"$f":"T37/Y$32","v":0.10345071300973196},{"$f":"U37/Z$32","v":2.4757435592072607E-2}]
[30,9.1440000000000001,498,4.3999999999999997E-2,0.62042508371259797,0.51641465773069184,0.21508184159143284,null,null,null,null,null,null,null,null,null,null,"^^ @ 6.2m",null,null,null,{"$f":"2*V35","v":0.63661977236758138},0.12732395447351627,1.17892550438441E-2,0,0]
[40,12.192,465,2.3100000000000002E-2,0.39536517218075407,0.31432254577668262,0.11819351198570527,null,null,null,null,null,null,null,null,null,null,null,null,null,null,3.8904541644685526,1.0185916357881302,0.17683882565766149,0.1193662073189215,1.061032953945969E-2]
[60,18.288,409,9.0000000000000011E-3,0.17686013783927301,0.13581798180072413,4.7492490209492977E-2,null,null,null,null,null,null,null,null,null,null,null,null,null,null,6.1893588980181518,1.2421041344320654,0.31438013450250935,0.20690142601946393,4.9514871184145215E-2]
[80,24.384,370,4.5999999999999999E-3,9.4490279842809999E-2,7.1739570524863017E-2,2.4508972477487623E-2]
[100,30.48,331,2.6000000000000003E-3,5.4504065762480236E-2,4.1163077662383696E-2,1.3913719621446829E-2,null,null,null,null,null,null,null,null,null,null,null,null,null,null,null,null,"FOR AA PROJECTILES"]
[150,45.72,282,1E-3,2.1308468293345761E-2,1.6024301012781961E-2,5.3702213235578E-3,null,null,null,null,null,null,null,null,null,null,null,null,null,null,null,null,"20mm",2,3,5]
[200,60.96,244,5.0000000000000001E-4,1.0708938526879375E-2,8.0425035373454801E-3,2.6880536706890279E-3,null,null,null,null,null,null,null,null,null,null,null,null,null,null,null,null,"30mm",3,5,8]
[300,91.44,191,2.0000000000000001E-4,4.2967729602623184E-3,3.2243136631378011E-3,1.0759284278549774E-3]
[400,121.92,149,1E-4,2.1505918037381111E-3,1.61337783979143E-3,5.3808209367267601E-4]
[]
[]
[null,null,"81mm HE M43A1"]
[null,3930,"Initial Fragment velocity (ft/s)"]
["Distance (ft)","Distance (m)","# eff frags","Avg per ft^2","Stand","Crouch","Prone"]
[20,{"$f":"A52*$H$1","v":6.0960000000000001},818,0.16300000000000001,{"$f":"1-((1-$D52)^$K$3)","v":0.97830130278536764},{"$f":"1-((1-$D52)^$K$4)","v":0.94346397833138285},{"$f":"1-((1-$D52)^$K$5)","v":0.61619695595459234}]
[30,9.1440000000000001,695,6.1500000000000006E-2,0.74498535940851651,0.64114100564742649,0.2893736966198609]
[50,15.24,645,3.2100000000000004E-2,0.50459682493892799,0.4095011050025269,0.16104301082021166]
[60,18.288,541,1.2E-2,0.2288701707058477,0.17710271905299213,6.2908764983741872E-2]
[80,24.384,459,5.7000000000000002E-3,0.11578997260429047,8.8164331105458738E-2,3.0296732669301552E-2]
[100,30.48,384,3.1000000000000003E-3,6.4655582274922851E-2,4.8894552792238088E-2,1.6571274540541969E-2]
[150,45.72,267,9.0000000000000008E-4,1.919726383355802E-2,1.4432777409520203E-2,4.8342581965284959E-3]
[200,60.96,169,3.0000000000000003E-4,6.4385520755693149E-3,4.8328109225906912E-3,1.6135390822794582E-3]
[300,91.44,76,1E-4,2.1505918037381111E-3,1.61337783979143E-3,5.3808209367267601E-4]
[]
[]
[null,null,"105mm HE M1"]
[null,3500,"Initial Fragment velocity (ft/s)"]
["Distance (ft)","Distance (m)","# eff frags","Avg per ft^2","Stand","Crouch","Prone"]
[20,{"$f":"A66*$H$1","v":6.0960000000000001},1160,0.23100000000000001,{"$f":"1-((1-$D66)^$K$3)","v":0.99649875708309155},{"$f":"1-((1-$D66)^$K$4)","v":0.98560649104165199},{"$f":"1-((1-$D66)^$K$5)","v":0.7567484810659898}]
[30,9.1440000000000001,1115,9.8600000000000007E-2,0.8929799629952071,0.81288921422379901,0.42803918779542127]
[40,12.192,1072,5.33E-2,0.69246110146665418,0.5870237836998764,0.25531087168020583]
[60,18.288,996,2.1999999999999999E-2,0.38053772113886219,0.30174967036068723,0.11283639610864726]
[80,24.384,932,1.1600000000000001E-2,0.22212116280994099,0.17170704550282034,6.0865080444545083E-2]
[100,30.48,875,7.0000000000000001E-3,0.14034652790677538,0.10722387798910571,3.7100734552649062E-2]
[150,45.72,745,2.6000000000000003E-3,5.4504065762480236E-2,4.1163077662383696E-2,1.3913719621446829E-2]
[200,60.96,642,1.3000000000000002E-3,2.7616112924326308E-2,2.0784418827735296E-2,6.9767007673758874E-3]
[300,91.44,513,4.0000000000000002E-4,8.5759377397224279E-3,6.4388730661653071E-3,2.1509141366593543E-3]
[400,121.92,433,2.0000000000000001E-4,4.2967729602623184E-3,3.2243136631378011E-3,1.0759284278549774E-3]
[500,152.4,358,1E-4,2.1505918037381111E-3,1.61337783979143E-3,5.3808209367267601E-4]
[]
[]
[null,null,"155mm HE M107"]
[null,3500,"Initial Fragment velocity (ft/s)"]
["Distance (ft)","Distance (m)","# eff frags","Avg per ft^2","Stand","Crouch","Prone"]
[20,{"$f":"A82*$H$1","v":6.0960000000000001},1460,0.29099999999999998,{"$f":"1-((1-$D82)^$K$3)","v":0.99939086696799018},{"$f":"1-((1-$D82)^$K$4)","v":0.99612265796669164},{"$f":"1-((1-$D82)^$K$5)","v":0.84289932980453308}]
[30,9.1440000000000001,1400,0.124,0.94215998491053599,0.88205723684299153,0.50959250452301252]
[40,12.192,1360,6.7600000000000007E-2,0.77838581369860549,0.67700323827029241,0.31388108935021697]
[60,18.288,1280,2.8300000000000002E-2,0.46099442103151156,0.37093583612990144,0.14316279653820374]
[80,24.384,1190,1.4800000000000001E-2,0.27457360862790248,0.21395933655752775,7.7113405055807105E-2]
[100,30.48,1130,9.0000000000000011E-3,0.17686013783927301,0.13581798180072413,4.7492490209492977E-2]
[150,45.72,990,3.4000000000000002E-3,7.0696515293023898E-2,5.350532652947293E-2,1.8163006349011801E-2]
[200,60.96,900,1.8000000000000002E-3,3.8042797418446295E-2,2.8669976047276835E-2,9.6494714875874354E-3]
[300,91.44,767,6.9999999999999999E-4,1.4961819687475786E-2,1.1242483213837362E-2,3.7616264963806767E-3]
[400,121.92,669,3.0000000000000003E-4,6.4385520755693149E-3,4.8328109225906912E-3,1.6135390822794582E-3]
[600,182.88,540,1E-4,2.1505918037381111E-3,1.61337783979143E-3,5.3808209367267601E-4]
[]
[]
[null,null,"500lb GP Bomb AN-64"]
[null,7390,"Initial Fragment velocity (ft/s)"]
["Distance (ft)","Distance (m)","# eff frags","Avg per ft^2","Stand","Crouch","Prone"]
[70,{"$f":"A98*$H$1","v":21.336000000000002},14940,0.39800000000000002,{"$f":"1-((1-$D98)^$K$3)","v":0.99998200494146017},{"$f":"1-((1-$D98)^$K$4)","v":0.99972371013904437},{"$f":"1-((1-$D98)^$K$5)","v":0.93486891456081544}]
[80,24.384,13450,0.27400000000000002,0.99898551981104455,0.99431562556176767,0.8215317797975844]
[100,30.48,11830,0.154,0.97268324072596846,0.93280733265143267,0.59345624527266305]
[150,45.72,8160,4.7300000000000002E-2,0.64765482813109809,0.54267363047650341,0.22955421915420726]
[200,60.96,6100,1.9900000000000001E-2,0.35126259601181753,0.27714414355659378,0.10253559100966714]
[250,76.2,4920,1.03E-2,0.19979573707381681,0.15394100810571798,5.4198028042267588E-2]
[300,91.44,4160,6.0000000000000001E-3,0.1215155402374114,9.2596265148674362E-2,3.1870350515446511E-2]
[500,152.4,2340,1.2000000000000001E-3,2.5517884382976641E-2,1.9200118312213466E-2,6.4414425294294642E-3]
[700,213.36,1330,4.0000000000000002E-4,8.5759377397224279E-3,6.4388730661653071E-3,2.1509141366593543E-3]
[1000,304.8,430,1E-4,2.1505918037381111E-3,1.61337783979143E-3,5.3808209367267601E-4]
[]
[null,"Crater for 500lb bomb = 20 feet diameter, 6 feet deep in soft soil. 90% in medium, 70% in hard (round down for depth)"]
[]
[null,null,null,"2 PSI 50% knock down",null,null,null,"OVERPRESSURE VALUES (kPa) unit?"]
[null,"BLAST",null,"15 PSI 50% eardrums ruptured (5-45)",null,null,null,"Barotrauma",56,{"$f":"I112/6.8948","v":8.1220630040030173}]
[null,null,null,"50 PSI 50% Thrown 7.5 m/s",null,null,null,"Mild Contusion",130,{"$f":"I113/6.8948","v":18.854789116435576}]
[null,null,null,"85 PSI 50% Serious Injury",null,null,null,"Moderate Injury",237,{"$f":"I114/6.8948","v":34.373730927655622}]
[null,null,null,"500 PSI 50% fatal",null,null,null,"Heavy Injury",371,{"$f":"I115/6.8948","v":53.808667401519983}]
[null,null,null,null,null,null,null,"Lethal Injury",1074,{"$f":"I116/6.8948","v":155.7695654696293}]
[null,null,null,null,null,null,null,null,null,null,null,"Structures"]
[null,null,null,null,null,null,null,null,null,null,null,"Damage"]
[null,null,null,"Leathal","Serious","Throw","Eardrums","Knock Down",null,null,"Demolished","Beyond Repair","Repairable"]
[null,"500lb Bomb",260,4,8,9,15,40,null,null,6,11,18]
[null,"155mm HE",15.13,1.5,2.5,3,9,16]
[null,"105mm HE M1",4.8,1,2,2.5,3,12]
[null,"81mm HE M43",1.22,0.5,1,1.5,2,8]
[null,"75mm HE M48",1.47,0.5,1,1.5,2,8]
[null,"60mm HE",0.34,0,1,1,1.5,6]
[null,"37mm HE M63",8.5000000000000006E-2,0,0,0,0,3]
[null,"US Grenade",4.5999999999999999E-2,0,0,0,0,2]
[null,"GE Grenade",{"$f":"0.198*2.2","v":0.43560000000000004}]
[null,null,null,null,null,null,null,null,null,null,null,null,{"$f":"100*3.28","v":328},null,null,0.453592]
[null,null,null,null,null,null,null,null,null,null,null,null,null,null,null,{"$f":"1/0.3048","v":3.280839895013123}]
[null,"v(m) = mv * 2.718282 ^ (range(m) * 0.7 * -0.0000001 * K)"]
[]
[null,null,null,null,null,null,null,null,null,null,null,null,"divide mass","Multiply Mv/v"]
[null,"Ballistic Coeff.","Form","Drag","K Factor","Mv (m/s)","Mass (kg)","Length (mm)","Area (sq m)",null,null,"DRAG (kg/m/s^2)","m/s^2","?/s"]
["75mm APC",1.7349999999999999,0.98499999999999999,0.14599999999999999,2321,{"$f":"2030*0.3048","v":618.74400000000003},{"$f":"14.96*0.453592","v":6.7857363200000007},{"$f":"4.9*75","v":367.5},{"$f":"0.0375*0.0375*3.14","v":4.4156250000000003E-3},null,null,{"$f":"($E$144*D135*I135*F135*F135)/2","v":150.55558665654706},{"$f":"L135/G135","v":22.18706704131808},{"$f":"M135/F135","v":3.5858233843589722E-2},null,{"$f":"LOG(F135)","v":2.7915110005807757}]
[]
["37mm APC",0.98399999999999999,0.92,0.10100000000000001,3061,{"$f":"2900*0.3048","v":883.92000000000007},{"$f":"1.92*0.453592","v":0.87089664},{"$f":"4.35*37","v":160.94999999999999},{"$f":"0.0185*0.0185*3.14","v":1.0746650000000005E-3},null,null,{"$f":"($E$144*D137*I137*F137*F137)/2","v":51.730923893800806},{"$f":"L137/G137","v":59.399613591115482},{"$f":"M137/F137","v":6.7200214488998419E-2},null,{"$f":"LOG(F137)","v":2.9464129605665188}]
[]
["76mm APC",1.627,1.052,0.129,2407,{"$f":"2148*0.3048","v":654.71040000000005},{"$f":"15.4*0.453592","v":6.9853167999999997},{"$f":"4.81*76","v":365.56000000000006},{"$f":"0.038*0.038*3.14","v":4.5341599999999998E-3},null,null,{"$f":"($E$144*D139*I139*F139*F139)/2","v":152.93780965114811},{"$f":"L139/G139","v":21.894183761450609},{"$f":"M139/F139","v":3.344102027621771E-2},null,{"$f":"LOG(F139)","v":2.8160492396950807}]
["90mm M77",1.5640000000000001,1.19,0.25600000000000001,3531,{"$f":"2700*0.3048","v":822.96},{"$f":"23.4*0.453592","v":10.6140528},null,{"$f":"0.045*0.045*3.13","v":6.3382499999999993E-3},null,null,{"$f":"($E$144*D140*I140*F140*F140)/2","v":670.34229062318889},{"$f":"L140/G140","v":63.15611041836808},{"$f":"M140/F140","v":7.6742624694235539E-2},null,{"$f":"LOG(F140)","v":2.9153787268265501}]
[]
[null,null,null,"D = (air * Cd * area * v * v)/2",null,null,{"$f":"0.101*0.001075","v":1.0857500000000001E-4},{"$f":"3061*2","v":6122}]
[null,null,null,null,"kg m3","lb ft 2",null,null,null,null,null,"m/s","k",{"$f":"300*0.9144","v":274.32},{"$f":"500*0.9144","v":457.2},{"$f":"1000*0.9144","v":914.4}]
[null,null,null,"air",1.22,{"$f":"E144*0.0624279620336","v":7.6162113680992002E-2},null,null,null,null,null,884,3061,{"$f":"$L$144*2.718282^(N143*0.7*-0.0000001*$M$144)","v":833.5373502531329},{"$f":"$L$144*2.718282^(O143*0.7*-0.0000001*$M$144)","v":801.50628410993659},{"$f":"$L$144*2.718282^(P143*0.7*-0.0000001*$M$144)","v":726.71077315352773}]
[null,null,null,null,null,null,null,null,null,null,null,null,null,{"$f":"N144*3.28","v":2734.0025088302759},{"$f":"O144*3.28","v":2628.9406118805923},{"$f":"P144*3.28","v":2383.6113359435712}]
[]
[null,"HE vs. RHA Plate","kg","mm","mm",null,"Direct Hit, instant explosion, blast only effect"]
[null,"Deform (mm)","weight","thickness","standoff",null,"60mm mortar: 2mm armor, 2cm deformation"]
[null,{"$f":"C151*C149^1.6458/(D149^1.8796*E149^2.058)","v":13.831272486131203},0.15,16,20,null,"75mm HE M48: 4mm armor, causes 8cm deformation"]
[null,null,null,null,null,null,"81mm M43A1: 7mm, 6cm deformation"]
[null,"a",27392697,null,null,null,"105mm HE M1: 14mm, 6cm deformation"]
[null,"A",144780000000,null,null,null,"155mm HE M107: 22mm, 7cm deformation",null,null,null,null,null,"HE Pen:"]
[null,null,null,null,null,null,"500lb Bomb:68mm on a direct hit. 10mm w/in 1m",null,null,null,null,null,"Quad root of projectile KE + (7 * cube root of TNT(kg) charge)"]
[null,"stand off (mm)","Wt (kg)","thickness"]
[null,1,1.4,10]
[null,null,null,null,null,null,null,null,null,null,null,null,null,"mm RHA"]
[null,"Hole (mm)","W(kg)","T(mm)","S(mm)",null,null,null,null,null,null,null,"Mass","Charge (kg)","Explosve","Total","3 Root Rule","exp/root","mm/chrg wt"]
[null,{"$f":"(C152^2*C158^5.1716/(E158^7.3669*D158^4.8233)-E158^2)^0.5","v":370.2245393839658},6.25,52,58.4,null,null,null,null,null,null,"100lb bomb",{"$f":"100/2.2","v":45.454545454545453},{"$f":"57/2.2","v":25.909090909090907},{"$f":"0.8*25.4","v":20.32},{"$f":"1.8*25.4","v":45.72},{"$f":"3.84*25.4","v":97.535999999999987},{"$f":"O158/Q158","v":0.20833333333333337},{"$f":"O158/N158","v":0.78428070175438602}]
[null,null,null,null,null,null,null,null,null,null,null,"250lb bomb",{"$f":"250/2.2","v":113.63636363636363},{"$f":"124.6/2.2","v":56.636363636363626},{"$f":"1*25.4","v":25.4},{"$f":"2.3*25.4","v":58.419999999999995},{"$f":"4.99*25.4","v":126.746},{"$f":"O159/Q159","v":0.20040080160320642},{"$f":"O159/N159","v":0.44847512038523279}]
[null,"Tc = 42471.686 * W^1.0722 / S^1.9420",null,null,null,null,null,null,null,null,null,"500lb bomb",{"$f":"500/2.2","v":227.27272727272725},{"$f":"266/2.2","v":120.90909090909089},{"$f":"1.5*25.4","v":38.099999999999994},{"$f":"3*25.4","v":76.199999999999989},{"$f":"6.43*25.4","v":163.32199999999997},{"$f":"O160/Q160","v":0.23328149300155521},{"$f":"O160/N160","v":0.31511278195488723}]
[null,"Charge (kg)","Distance (mm)","Thickness (mm)",null,null,null,null,null,null,null,"1000lb bomb",{"$f":"1000/2.2","v":454.5454545454545},{"$f":"545.2/2.2","v":247.81818181818181},{"$f":"2.1*25.4","v":53.339999999999996},{"$f":"3.8*25.4","v":96.52},{"$f":"8.17*25.4","v":207.518},{"$f":"O161/Q161","v":0.25703794369645039},{"$f":"O161/N161","v":0.21523844460748348}]
[null,0.04,18.5,{"$f":"42471.686*(B162^1.0722)/(C162^1.942)","v":4.65994432200592}]
[null,null,null,null,null,null,null,null,null,null,"75mm M48 HE",160,1.32,0.1545]
[null,null,null,null,null,null,{"$f":"0.2/1000","v":2.0000000000000001E-4},null,null,null,null,null,{"$f":"0.5*M163*L163*L163","v":16896}]
[null,"W^1.0722=(Tc * S^1.9420) / 42471.686",null,null,null,"v (m/s)","d0 (mm)","d(boom) mm",null,null,null,null,{"$f":"M164^0.25","v":11.401079531087193},{"$f":"7*N163^0.333333","v":3.7561345273611124},{"$f":"M165+N165","v":15.157214058448305}]
[null,"W = (Tc^0.9327 * S^1.811) / 20731.389",null,null,null,400,95,{"$f":"G166-(F166*G164*1000)","v":15},null,null,null,null,{"$f":"M164^0.33333","v":25.659441991917909}]
[null,"Standoff (mm)","Thickness (mm)","Charge (kg)"]
[null,60,16,{"$f":"(C168^0.9327*B168^1.811)/20731.389","v":1.0633744508485017},null,null,null,null,null,null,null,null,"Mass","Vel","Charge Mass","KE"]
[null,null,null,null,null,null,null,null,null,null,null,null,6.8,400,0.68,{"$f":"0.5*M169*N169*N169","v":544000}]
[null,null,null,null,null,null,null,null,null,null,null,null,null,null,null,{"$f":"P169^0.25","v":27.158121374340876},{"$f":"7*(O169^0.33)","v":6.1634798600442231},{"$f":"P170+Q170","v":33.321601234385099}]

{"sheet":"Armor Pen","index":20,"n_rows":110,"n_cols":24,"rows_kept":110,"cut":false,"hidden":false,"merged":[]}
[]
[null,"Penetration Percent Chance:",null,null,"f(x) = ","1.0 / (1 + 2.71828^-25(x - 1))",null,null,"Where x = Pen/Eff Arm in the range >=0.8 and <=1.20"]
[]
[]
[]
[]
[null,"Effective Armor Calcs"]
[null,"HEAT",null,null,"E=T/COS(A)",null,null,null,null,"1. Determine lateral angle L"]
[null,"AP/APC/APCR",null,null,"Equation",null,null,null,null,"2. Determine angle from vertical V"]
[null,null,null,null,null,null,null,null,null,"3. Compound angle A = ACOS(COS(L) * COS(V))"]
[null,null,null,null,null,null,null,null,null,"4. Armor Thickness T"]
[null,null,null,null,null,null,null,null,null,"5. Projectile Diamter D"]
[null,null,null,null,null,null,null,null,null,"6 Effective Armor = T * a * (T/D)^b"]
[]
[null,null,null,null,"APC/APCBC",null,null,null,"APBC",null,null,null,"AP",null,null,null,"APCR"]
["APC",null,null,null,"Slope Mult","T/D Power",null,null,"Slope Mult","T/D Power",null,null,"Slope Mult","T/D Power",null,null,"Slope Mult","T/D Power","1/COS(A)"]
[null,null,null,0,1,1.0100000000000001E-2,null,0,1.0201,7.0000000000000001E-3,null,0,1,4.4299999999999999E-2,null,0,1,0,{"$f":"1/COS(RADIANS(P17))","v":1}]
[null,null,null,5,1.0023,1.6300000000000002E-2,null,5,1.028,1.0400000000000001E-2,null,5,1,5.6500000000000002E-2,null,5,1.00197907326033,0,1.0038198375433474]
[null,null,null,10,1.0234000000000001,2.2500000000000003E-2,null,10,1.0389999999999999,1.5550000000000001E-2,null,10,1,6.3700000000000007E-2,null,10,1.0120591308401501,0,1.0154266118857451]
[null,null,null,15,1.0531999999999999,3.27E-2,null,15,1.0549999999999999,2.315E-2,null,15,1.0006600000000001,9.69E-2,null,15,1.0349976456991299,0,1.035276180410083]
[null,null,null,20,1.1039000000000001,4.5400000000000003E-2,null,20,1.077,3.4480000000000004E-2,null,20,1.0361,0.13561000000000001,null,20,1.07538159524404,0,1.0641777724759121]
["AP",null,null,25,1.1740999999999999,5.4900000000000004E-2,null,25,1.1080000000000001,5.1340000000000004E-2,null,25,1.1115999999999999,0.16164000000000001,null,25,1.1386277969490499,0,1.1033779189624917]
[null,null,null,30,1.2666999999999999,6.5500000000000003E-2,null,30,1.155,7.7100000000000002E-2,null,30,1.2195,0.19702000000000003,null,30,1.23189971102673,0,1.1547005383792515]
[null,null,null,35,1.3925000000000001,9.9299999999999999E-2,null,35,1.2170000000000001,1.1384E-2,null,35,1.3771,0.22546000000000002,null,35,1.3653046744361701,0,1.2207745887614561]
[null,null,null,40,1.5642,0.13880000000000001,null,40,1.3129999999999999,1.6951999999999998E-2,null,40,1.6263000000000001,0.26313000000000003,null,40,1.5536737180369899,0,1.3054072893322786]
[null,null,null,45,1.7932999999999999,0.16550000000000001,null,45,1.4410000000000001,0.24604000000000001,null,45,2.0032999999999999,0.34717000000000003,null,45,1.81938477376969,0,1.4142135623730949]
[null,null,null,50,2.1053000000000002,0.20350000000000001,null,50,1.6819999999999999,0.37909999999999999,null,50,2.6447000000000003,0.5735300000000001,null,50,2.19702603539996,0,1.5557238268604123]
[null,null,null,55,2.5367999999999999,0.2427,null,55,2.11,0.56444000000000005,null,55,3.2309999999999999,0.69075000000000009,null,55,2.7413428102736499,0,1.7434467956210977]
[null,null,null,60,3.0796000000000001,0.245,null,60,3.4969999999999999,1.0741100000000001,null,60,4.0708000000000002,0.8182600000000001,null,60,3.5411657439200099,0,1.9999999999999996]
[null,null,null,65,4.0041000000000002,0.33540000000000003,null,65,5.335,1.4618800000000001,null,65,6.2655000000000003,0.91920000000000002,null,65,4.7445079690084597,0,2.3662015831524985]
[null,null,null,70,5.0803000000000003,0.3478,null,70,9.4770000000000003,1.8151999999999999,null,70,8.6592000000000002,1.00539,null,70,6.6050915477260403,0,2.9238044001630863]
[null,null,null,75,6.7445000000000004,0.3831,null,75,20.22,2.1915499999999999,null,75,13.751200000000001,1.0740000000000001,null,75,9.5711965713812504,0,3.8637033051562737]
[null,null,null,80,9.0597999999999992,0.41310000000000002,null,80,56.2,2.5621,null,80,21.871300000000002,1.1797299999999999,null,80,14.4606892295986,0,5.758770483143631]
[null,null,null,85,12.8207,0.45500000000000002,null,85,221.3,2.9326500000000002,null,85,34.486199999999997,1.2863100000000001,null,85,22.817252460592901,0,11.47371324566986]
[]
[]
[null,null,null,"ARMOR TYPE MULTIPLIERS"]
[null,null,null,"Cast:","0.8063 + T * 0.001238 - 0.0002628 * D + (T/D) * 0.02706"]
[]
[null,null,null,"FH:",null,"NOTE: Uncapped vs. FH reduced to 0.75, Capped vs. FH reduced to 0.95?"]
[null,null,null,null,null,"Very effective vs. 20mm or less when T/D > 1",null,null,null,null,null,null,null,"APC vs. RHA",null,null,"AP vs. FH"]
[null,null,null,null,null,null,null,null,null,null,null,null,null,"D","Ratio",null,"D","Ratio"]
[null,null,null,"AP",null,null,null,null,"APC",null,null,null,null,3.6999999999999998E-2,0.93,null,{"$f":"7.62/1000","v":7.62E-3},0.72]
[null,null,null,"RHA","FH",null,null,null,"RHA","FH",null,null,null,5.7000000000000002E-2,1.04,null,{"$f":"20/1000","v":0.02},0.8]
[null,37,null,76,57,{"$f":"E45/D45","v":0.75},null,null,66,65,{"$f":"J45/I45","v":0.98484848484848486},null,null,7.4999999999999997E-2,1.21,null,{"$f":"37/1000","v":3.6999999999999998E-2},0.84]
[null,37,null,89,65,0.7303370786516854,null,null,78,73,0.9358974358974359,null,null,7.5999999999999998E-2,1.05,null,{"$f":"57/1000","v":5.7000000000000002E-2},0.83]
[null,57,null,135,104,0.77037037037037037,null,null,110,103,0.9363636363636364,null,null,0.09,null,null,{"$f":"75/1000","v":7.4999999999999997E-2},0.83]
[null,75,null,95,82,0.86315789473684212,null,null,78,92,1.1794871794871795,null,null,null,null,null,7.5999999999999998E-2,0.86]
[null,75,null,109,91,0.83486238532110091,null,null,88,102,1.1590909090909092,null,null,null,null,null,0.09,0.89]
[null,76.2,null,154,132,0.8571428571428571,null,null,124,124,1]
[null,90,null,188,168,0.8936170212765957,null,null,125,124,0.99199999999999999]
[null,90,null,206,183,0.88834951456310685,null,null,164,151,0.92073170731707321]
[null,null,null,null,null,null,null,null,169,161,0.9526627218934911]
[null,null,null,null,null,null,null,null,null,null,{"$f":"SUM(K45:K53)/9","v":1.0067868972109122}]
[]
[null,"AP",null,null,null,null,null,"APC"]
[null,null,null,"RHA","FH","FH/RHA Ratio",null,null,"RHA","FH","FH/RHA Ratio"]
[null,"7.62mm",null,{"$f":"25.4*0.657","v":16.687799999999999},{"$f":"25.4*0.472","v":11.988799999999999},{"$f":"E58/D58","v":0.71841704718417043},null,"37mm",78,73,{"$f":"J58/I58","v":0.9358974358974359},null,{"$f":"D58*25.4","v":423.87011999999999},304.51551999999998,null,{"$f":"I58*25.4","v":1981.1999999999998},1854.1999999999998]
[null,"12.7mm",null,{"$f":"25.4*1.085","v":27.558999999999997},{"$f":"25.4*1.03","v":26.161999999999999},0.94930875576036866,null,"57mm",110,103,{"$f":"J59/I59","v":0.9363636363636364},null,699.9985999999999,664.51479999999992,null,2794,2616.1999999999998]
[null,"20mm",null,1.56,1.25,0.80128205128205121,null,"75mm",88,102,{"$f":"J60/I60","v":1.1590909090909092},null,39.624000000000002,31.75,null,2235.1999999999998,2590.7999999999997]
[null,"37mm",null,4.6399999999999997,3.875,0.83512931034482762,null,"76mm",125,124,{"$f":"J61/I61","v":0.99199999999999999},null,117.85599999999998,98.424999999999997,null,3175,3149.6]
[null,"57mm",null,5.6,4.6500000000000004,0.83035714285714302,null,"90mm",169,161,{"$f":"J62/I62","v":0.9526627218934911},null,142.23999999999998,118.11,null,4292.5999999999995,4089.3999999999996]
[null,"75mm",null,109,91,0.83486238532110091,null,null,null,null,null,null,2768.6,2311.4]
[null,"3 Inch",null,154,132,0.8571428571428571,null,null,null,null,null,null,3911.6,3352.7999999999997]
[null,"90mm",null,188,168,0.8936170212765957,null,null,null,null,null,null,4775.2,4267.2]
[]
[null,null,null,null,null,null,null,null,null,null,null,null,"RHA Pen = refpen * (v/refv)^1.4283",null,null,null,"v^1.4283 * d^1.0714 * (w/d^3)^0.7143"]
[null,null,null,null,null,null,null,null,null,null,null,null,"FH Pen = refpen * (v/refv)^1.25",null,null,null,"v^1.25 * d^1.25 * (w/d^3)^0.625",null,null,null,null,null,null,2100]
[null,null,null,null,null,null,null,null,null,null,null,null,null,null,null,null,null,null,null,null,null,null,null,3875]
[null,"AP","Mass","MV (fps)","RHA","FH","FH/RHA",null,null,null,null,null,"Mass","MV (fps)","Ref RHA","Ref FH","Calc RHA","Calc FH","K(RHA)","K(FH)","Calc RHA","Calc FH",null,"De Marre, R=0, A=2000"]
[null,7.62,0.01,2765,17,12,null,null,null,null,"APC",12.7,4.5999999999999999E-2,2935,28,26,{"$f":"($N71*0.3048)^1.4283*$L71^1.0714*($M71/$L71^3)^0.7143","v":119.64249483675917},{"$f":"($N71*0.3048)^1.25*$L71^1.25*($M71/$L71^3)^0.625","v":145.83949590808902},{"$f":"O71/Q71","v":0.23403055944464668},{"$f":"P71/R71","v":0.17827818066777823},{"$f":"Q71*VALUE(S71)","v":28},{"$f":"R71*VALUE(T71)","v":26},null,{"$f":"100*((POWER(M71,0.5)*N71*0.305)/($X$68*POWER((L71/100),0.75)))^(1/0.7)","v":29.924100703263367}]
[null,null,null,null,null,null,null,null,null,null,"Ball",12.7,4.5999999999999999E-2,2935,12,9,{"$f":"($N72*0.3048)^1.4283*$L72^1.0714*($M72/$L72^3)^0.7143","v":119.64249483675917},{"$f":"($N72*0.3048)^1.25*$L72^1.25*($M72/$L72^3)^0.625","v":145.83949590808902},0.13,6.5000000000000002E-2,{"$f":"Q72*VALUE(S72)","v":15.553524328778693},{"$f":"R72*VALUE(T72)","v":9.4795672340257866},null,{"$f":"100*((POWER(M72,0.5)*N72*0.305)/($X$69*POWER((L72/100),0.75)))^(1/0.7)","v":12.472290943242854}]
[null,37,0.87,2600,76,57]
[null,37,0.87,2900,89,65,null,null,null,null,"APC",37,0.87,2600,66,65,{"$f":"($N74*0.3048)^1.4283*$L74^1.0714*($M74/$L74^3)^0.7143","v":261.27355763766656},{"$f":"($N74*0.3048)^1.25*$L74^1.25*($M74/$L74^3)^0.625","v":403.46776601710701},{"$f":"O74/Q74","v":0.25260880051064571},0.16110332838148961,{"$f":"Q74*VALUE(S74)","v":66},65,null,{"$f":"100*((POWER(M74,0.5)*N74*0.305)/($X$68*POWER((L74/100),0.75)))^(1/0.7)","v":65.347917366681031}]
[null,40,null,2600,82,62,null,null,null,null,"APC",37,0.87,2900,78,73,{"$f":"($N75*0.3048)^1.4283*$L75^1.0714*($M75/$L75^3)^0.7143","v":305.37402009141505},{"$f":"($N75*0.3048)^1.25*$L75^1.25*($M75/$L75^3)^0.625","v":462.47648551029232},0.25542447905899252,0.15784586305929146,78,73,null,{"$f":"100*((POWER(M75,0.5)*N75*0.305)/($X$68*POWER((L75/100),0.75)))^(1/0.7)","v":76.38028087847097}]
[null,null,null,null,null,null,null,null,null,null,"AP",37,0.87,2600,76,57,{"$f":"($N76*0.3048)^1.4283*$L76^1.0714*($M76/$L76^3)^0.7143","v":261.27355763766656},{"$f":"($N76*0.3048)^1.25*$L76^1.25*($M76/$L76^3)^0.625","v":403.46776601710701},0.29088286119407686,0.14127522642684473,76,57,null,{"$f":"100*((POWER(M76,0.5)*N76*0.305)/($X$68*POWER((L76/100),0.75)))^(1/0.7)","v":65.347917366681031}]
[null,57,null,2700,117,93,null,null,null,null,"AP",37,0.87,2900,89,65,{"$f":"($N77*0.3048)^1.4283*$L77^1.0714*($M77/$L77^3)^0.7143","v":305.37402009141505},{"$f":"($N77*0.3048)^1.25*$L77^1.25*($M77/$L77^3)^0.625","v":462.47648551029232},0.29144587995192733,0.14054768628567049,89,65,null,{"$f":"100*((POWER(M77,0.5)*N77*0.305)/($X$68*POWER((L77/100),0.75)))^(1/0.7)","v":76.38028087847097}]
[null,57,null,2830,128,100]
[null,57,2.85,2950,135,104,null,null,null,null,"APCHE",57,3.3,2700,110,103,{"$f":"($N79*0.3048)^1.4283*$L79^1.0714*($M79/$L79^3)^0.7143","v":449.76953462127148},{"$f":"($N79*0.3048)^1.25*$L79^1.25*($M79/$L79^3)^0.625","v":742.8016096111611},{"$f":"O79/Q79","v":0.24456969966324091},{"$f":"P79/R79","v":0.13866421217627414},{"$f":"Q79*VALUE(S79)","v":110},{"$f":"R79*VALUE(T79)","v":103},null,{"$f":"100*((POWER(M79,0.5)*N79*0.305)/($X$68*POWER((L79/100),0.75)))^(1/0.7)","v":112.49569676413876}]
[null,57,null,3247,134,107,null,null,null,null,"AP",57,2.85,2950,135,104,{"$f":"($N80*0.3048)^1.4283*$L80^1.0714*($M80/$L80^3)^0.7143","v":459.66467767925877},{"$f":"($N80*0.3048)^1.25*$L80^1.25*($M80/$L80^3)^0.625","v":757.09865737880318},{"$f":"O80/Q80","v":0.29369235130613897},{"$f":"P80/R80","v":0.13736650961720717},{"$f":"Q80*VALUE(S80)","v":135},{"$f":"R80*VALUE(T80)","v":104},null,{"$f":"100*((POWER(M80,0.5)*N80*0.305)/($X$68*POWER((L80/100),0.75)))^(1/0.7)","v":114.97365969439295}]
[]
[null,75,6.32,1850,95,82,null,null,null,null,"APCHE",75,6.8,1850,78,92,{"$f":"($N82*0.3048)^1.4283*$L82^1.0714*($M82/$L82^3)^0.7143","v":327.38058731214181},{"$f":"($N82*0.3048)^1.25*$L82^1.25*($M82/$L82^3)^0.625","v":612.89791601502577},{"$f":"O82/Q82","v":0.23825481113707794},0.15010656358267749,{"$f":"Q82*VALUE(S82)","v":78},92,null,{"$f":"100*((POWER(M82,0.5)*N82*0.305)/($X$68*POWER((L82/100),0.75)))^(1/0.7)","v":81.876309640734789}]
[null,75,6.32,2030,109,91,null,null,null,null,"APCHE",75,6.8,2030,88,102,{"$f":"($N83*0.3048)^1.4283*$L83^1.0714*($M83/$L83^3)^0.7143","v":373.8076067489061},{"$f":"($N83*0.3048)^1.25*$L83^1.25*($M83/$L83^3)^0.625","v":688.32498115374335},0.23541522005225357,0.14818581744488135,88,102.00000000000001,null,{"$f":"100*((POWER(M83,0.5)*N83*0.305)/($X$68*POWER((L83/100),0.75)))^(1/0.7)","v":93.489839929078784}]
[null,76.2,null,2900,200,164,null,null,null,null,"AP",75,6.32,1850,95,82,{"$f":"($N84*0.3048)^1.4283*$L84^1.0714*($M84/$L84^3)^0.7143","v":310.70197661711563},{"$f":"($N84*0.3048)^1.25*$L84^1.25*($M84/$L84^3)^0.625","v":585.48833679788788},0.30575923923738157,0.14005402814421325,95,82,null,{"$f":"100*((POWER(M84,0.5)*N84*0.305)/($X$68*POWER((L84/100),0.75)))^(1/0.7)","v":77.705150618934582}]
[null,76.2,6.82,2600,154,132,null,null,null,null,"AP",75,6.32,2030,109,91,{"$f":"($N85*0.3048)^1.4283*$L85^1.0714*($M85/$L85^3)^0.7143","v":354.76374223943208},{"$f":"($N85*0.3048)^1.25*$L85^1.25*($M85/$L85^3)^0.625","v":657.54220704882061},0.30724673077339248,0.13839415785706896,109,91,null,{"$f":"100*((POWER(M85,0.5)*N85*0.305)/($X$68*POWER((L85/100),0.75)))^(1/0.7)","v":88.727033801421754}]
[]
[null,85,null,2600,142,131,null,null,null,null,"APCHE",76,7,2600,125,124,{"$f":"($N87*0.3048)^1.4283*$L87^1.0714*($M87/$L87^3)^0.7143","v":535.78033560444908},{"$f":"($N87*0.3048)^1.25*$L87^1.25*($M87/$L87^3)^0.625","v":947.13779695655978},{"$f":"O87/Q87","v":0.23330456848323719},{"$f":"P87/R87","v":0.13092075978643183},{"$f":"Q87*VALUE(S87)","v":125},124.00000000000001,null,{"$f":"100*((POWER(M87,0.5)*N87*0.305)/($X$68*POWER((L87/100),0.75)))^(1/0.7)","v":134.00853357420775}]
[null,90,null,2700,188,168,null,null,null,null,"APCHE",76.2,7,2600,124,124,{"$f":"($N88*0.3048)^1.4283*$L88^1.0714*($M88/$L88^3)^0.7143","v":534.27368280158976},{"$f":"($N88*0.3048)^1.25*$L88^1.25*($M88/$L88^3)^0.625","v":945.58332768216337},{"$f":"O88/Q88","v":0.23209078790813131},0.14000000000000001,123.99999999999999,132.38166587550288,null,{"$f":"100*((POWER(M88,0.5)*N88*0.305)/($X$68*POWER((L88/100),0.75)))^(1/0.7)","v":133.63171703420119}]
[null,90,null,2800,206,183,null,null,null,null,"AP",76.2,6.82,2600,154,132,{"$f":"($N89*0.3048)^1.4283*$L89^1.0714*($M89/$L89^3)^0.7143","v":524.423845883642},{"$f":"($N89*0.3048)^1.25*$L89^1.25*($M89/$L89^3)^0.625","v":930.31230516145865},{"$f":"O89/Q89","v":0.29365560168324073},{"$f":"P89/R89","v":0.14188783623268422},154,132,null,{"$f":"100*((POWER(M89,0.5)*N89*0.305)/($X$68*POWER((L89/100),0.75)))^(1/0.7)","v":131.16813969192418}]
[null,100,null,2919,208,178]
[null,122,25,2600,196,174]
[null,152,null,1968,165,146]
[null,null,null,null,null,null,null,null,null,null,"AP",7.62,0.01,2765,17,12,{"$f":"($N93*0.3048)^1.4283*$L93^1.0714*($M93/$L93^3)^0.7143","v":63.852364129815946},{"$f":"($N93*0.3048)^1.25*$L93^1.25*($M93/$L93^3)^0.625","v":71.765508396255356},{"$f":"O93/Q93","v":0.26623916328983388},{"$f":"P93/R93","v":0.16721124490251849},{"$f":"Q93*VALUE(S93)","v":17},12.000000000000002,null,{"$f":"100*((POWER(M93,0.5)*N93*0.305)/($X$68*POWER((L93/100),0.75)))^(1/0.7)","v":15.969790423098255}]
[null,null,null,null,null,null,null,null,null,null,"Ball",7.62,0.01,2800,7,4,{"$f":"($N94*0.3048)^1.4283*$L94^1.0714*($M94/$L94^3)^0.7143","v":65.009920591084864},{"$f":"($N94*0.3048)^1.25*$L94^1.25*($M94/$L94^3)^0.625","v":72.902829662824487},0.13,6.5000000000000002E-2,8.4512896768410322,4.7386839280835922,null,{"$f":"100*((POWER(M94,0.5)*N94*0.305)/($X$69*POWER((L94/100),0.75)))^(1/0.7)","v":6.7768594572054139}]
[null,null,null,null,null,null,null,null,null,null,"Ball",7.62,7.0000000000000001E-3,1975,6,null,{"$f":"($N95*0.3048)^1.4283*$L95^1.0714*($M95/$L95^3)^0.7143","v":30.60665289144756},{"$f":"($N95*0.3048)^1.25*$L95^1.25*($M95/$L95^3)^0.625","v":37.708737836155429},0.13,6.5000000000000002E-2,3.9788648758881831,2.451067959350103,null,{"$f":"100*((POWER(M95,0.5)*N95*0.305)/($X$69*POWER((L95/100),0.75)))^(1/0.7)","v":3.1902575749207753}]
[null,null,null,null,null,null,null,null,null,null,"Ball",11.43,1.4999999999999999E-2,935,3,null,{"$f":"($N96*0.3048)^1.4283*$L96^1.0714*($M96/$L96^3)^0.7143","v":11.741247570008918},{"$f":"($N96*0.3048)^1.25*$L96^1.25*($M96/$L96^3)^0.625","v":18.505948951598988},0.13,6.5000000000000002E-2,1.5263621841011594,1.2028866818539343,null,{"$f":"100*((POWER(M96,0.5)*N96*0.305)/($X$69*POWER((L96/100),0.75)))^(1/0.7)","v":1.2236123657780962}]
[null,null,null,null,null,null,null,null,null,null,9,9,6.0000000000000001E-3,{"$f":"230/0.3048","v":754.59317585301835},null,null,{"$f":"($N97*0.3048)^1.4283*$L97^1.0714*($M97/$L97^3)^0.7143","v":5.8038804410947593},{"$f":"($N97*0.3048)^1.25*$L97^1.25*($M97/$L97^3)^0.625","v":9.2704914587843703},0.13,6.5000000000000002E-2,0.75450445734231875,0.60258194482098404,null,{"$f":"100*((POWER(M97,0.5)*N97*0.305)/($X$69*POWER((L97/100),0.75)))^(1/0.7)","v":0.60481293388649049}]
[]
[null,null,null,null,null,null,null,null,null,null,"GE APHE",20,0.14599999999999999,{"$f":"760/0.3048","v":2493.4383202099734},45,null,{"$f":"($N99*0.3048)^1.4283*$L99^1.0714*($M99/$L99^3)^0.7143","v":132.95652581966277},{"$f":"($N99*0.3048)^1.25*$L99^1.25*($M99/$L99^3)^0.625","v":184.32904707627384},{"$f":"O99/Q99","v":0.33845649713377968},{"$f":"P99/R99","v":0},{"$f":"Q99*VALUE(S99)","v":45},{"$f":"R99*VALUE(T99)","v":0},null,{"$f":"100*((POWER(M99,0.5)*N99*0.305)/($X$68*POWER((L99/100),0.75)))^(1/0.7)","v":33.253166561232867}]
[]
[null,null,null,null,null,null,null,null,null,null,"APHE",20,0.14599999999999999,760,45,null,{"$f":"($N101)^1.4283*$L101^1.0714*($M101/$L101^3)^0.7143","v":132.95652581966277},{"$f":"($N101)^1.25*$L101^1.25*($M101/$L101^3)^0.625","v":184.32904707627384},{"$f":"O101/Q101","v":0.33845649713377968},0.15414215286665101,{"$f":"Q101*VALUE(S101)","v":45},{"$f":"R101*VALUE(T101)","v":28.412876152195111}]
[null,null,null,null,null,null,null,null,null,null,"APCR",37,0.36799999999999999,945,90,null,{"$f":"($N102)^1.4283*$L102^1.0714*($M102/$L102^3)^0.7143","v":181.70471701067507},{"$f":"($N102)^1.25*$L102^1.25*($M102/$L102^3)^0.625","v":293.64226800005071},{"$f":"O102/Q102","v":0.49530910083480412},0.45,{"$f":"Q102*VALUE(S102)","v":90},{"$f":"R102*VALUE(T102)","v":132.13902060002283}]
[null,null,null,null,null,null,null,null,null,null,"HVAP",76.2,null,1036,246]
[]
[null,null,null,null,null,null,null,null,null,"IT","Ball",6.5,0.01,2475,null,null,null,null,null,null,null,null,null,{"$f":"100*((POWER(M105,0.5)*N105*0.305)/($X$69*POWER((L105/100),0.75)))^(1/0.7)","v":6.7368168472137864}]
[null,null,null,null,null,null,null,null,null,"IT","Ball ",8,1.3000000000000001E-2,2557,null,null,null,null,null,null,null,null,null,{"$f":"100*((POWER(M106,0.5)*N106*0.305)/($X$69*POWER((L106/100),0.75)))^(1/0.7)","v":6.8147073330681831}]
[null,null,null,null,null,null,null,null,null,"GE","Ball",7.92,1.3000000000000001E-2,2475,null,null,null,null,null,null,null,null,null,{"$f":"100*((POWER(M107,0.5)*N107*0.305)/($X$69*POWER((L107/100),0.75)))^(1/0.7)","v":6.5750885822712517}]
[null,null,null,null,null,null,null,null,null,"GE","AP",7.92,1.2E-2,2570,null,null,null,null,null,null,null,null,null,{"$f":"100*((POWER(M108,0.5)*N108*0.305)/($X$68*POWER((L108/100),0.75)))^(1/0.7)","v":15.722256018208125}]
[]
[null,null,null,null,null,null,null,null,null,null,"HE",75,6.68,1515,null,null,null,null,null,null,null,null,null,{"$f":"100*((POWER(M110,0.5)*N110*0.305)/($X$69*POWER((L110/100),0.75)))^(1/0.7)","v":25.329034846838717}]

{"sheet":"Pen Work","index":21,"n_rows":83,"n_cols":29,"rows_kept":83,"cut":false,"hidden":false,"merged":[]}
[null,null,null,null,null,null,null,null,null,null,null,null,null,null,"K","g"]
[null,"PENETRATION VS ARMOR RATIO",null,null,null,null,null,null,null,null,null,null,"37mm APC M51",null,7701,-9.8000000000000007]
[null,0.88,0,{"$f":"C4*0.8","v":8.0000000000000002E-3},null,null,"v = Mv * 2.718282 (range * 0.7 * -0.0000001 * K)",null,null,null,null,null,null,null,null,null,null,null,null,"30 DEG",null,null,null,null,null,"15 DEG"]
[null,0.89,0.01,8.0000000000000002E-3,null,null,"pen = Pen0 * 2.718282 (range * 0.7 * -0.0000001 * K)",null,null,null,null,null,"Range","Vel","Pen","Time","Drop",null,null,"AP","APC",null,"APCR","HEAT",null,null,"AP","APC"]
[null,0.9,0.01,8.0000000000000002E-3,null,null,null,null,null,null,null,null,0,755,47,0,0,null,23,1.2195,1.2666999999999999,20,1.2319,1.1547000000000001,null,20,1.0006999999999999,1.0531999999999999,47]
[null,0.91,0.01,1.6E-2,null,null,"Vavg = (Vel1 - Mv)/(0.7 * range * 0.0000001 x K)",null,null,null,null,null,100,{"$f":"N5*2.718282^(M6*0.7*-0.0000001*$O$2)","v":715.37776501404858},{"$f":"O5*2.718282^(M6*0.7*-0.0000001*$O$2)","v":44.533450272397722},{"$f":"M6/((N6-$N$5)/(0.7*M6*-0.0000001*$O$2))","v":0.13605239588103352},{"$f":"$P$2*P6","v":-1.3333134796341286},null,null,0.19700000000000001,6.5500000000000003E-2,null,1,null,null,null,9.69E-2,3.27E-2]
[null,0.92,0.02,3.2000000000000001E-2,null,null,null,null,null,null,null,null,200,{"$f":"N6*2.718282^(M7*0.7*-0.0000001*$O$2)","v":642.2622690532362},{"$f":"O6*2.718282^(M7*0.7*-0.0000001*$O$2)","v":39.981889596691524},{"$f":"M7/((N7-$N$5)/(0.7*M7*-0.0000001*$O$2))","v":0.19126515869103514},{"$f":"$P$2*P7","v":-1.8743985551721445}]
[null,0.93,0.04,5.6000000000000008E-2,null,null,"Time of Flight = range / Vavg ",null,null,null,null,null,500,{"$f":"N7*2.718282^(M8*0.7*-0.0000001*$O$2)","v":490.51787563124645},{"$f":"O7*2.718282^(M8*0.7*-0.0000001*$O$2)","v":30.53554987373322},{"$f":"M8/((N8-$N$5)/(0.7*M8*-0.0000001*$O$2))","v":0.50955239535243879},{"$f":"$P$2*P8","v":-4.9936134744539009}]
[null,0.94,7.0000000000000007E-2,8.8000000000000009E-2,null,null,null,null,null,null,null,null,1000,{"$f":"N8*2.718282^(M9*0.7*-0.0000001*$O$2)","v":286.11438774688651},{"$f":"O8*2.718282^(M9*0.7*-0.0000001*$O$2)","v":17.811094336561144},{"$f":"M9/((N9-$N$5)/(0.7*M9*-0.0000001*$O$2))","v":1.1496833895363794},{"$f":"$P$2*P9","v":-11.266897217456519}]
[null,0.95,0.11,0.128,null,null,"Drop = g * time of flight",null,null,null,null,null,2000,{"$f":"N9*2.718282^(M10*0.7*-0.0000001*$O$2)","v":97.344050944110407},{"$f":"O9*2.718282^(M10*0.7*-0.0000001*$O$2)","v":6.0598283369181303},{"$f":"M10/((N10-$N$5)/(0.7*M10*-0.0000001*$O$2))","v":3.2787356414786313},{"$f":"$P$2*P10","v":-32.131609286490587},null,{"$f":"$S$5 * $T$5 * POWER($S$5/$V$5, $T$6)","v":28.831491864263185},"AP",null,{"$f":"S10*1.0683","v":30.800682758592362},null,null,null,{"$f":"AA5*(Z5/AC5)^AA6","v":0.92118620131180107},"AP"]
[null,0.96,0.16,0.18400000000000002,null,null,null,null,null,null,null,null,null,null,null,null,null,null,{"$f":"$S$5 * $U$5 * POWER($S$5/$V$5, $U$6)","v":29.402029914209756},"APC",null,{"$f":"S11*1.0683","v":31.410188557350281},null,null,null,{"$f":"AB5*(Z5/AC5)^AB6","v":1.0241815106560768},"APC"]
[null,0.97,0.23,0.248,null,null,null,null,null,null,null,null,null,null,null,null,null,null,{"$f":"$S$5 * $W$5","v":28.3337},"APCR"]
[null,0.98,0.31,0.32000000000000006,null,null,null,null,null,null,null,null,null,null,null,null,null,null,{"$f":"$S$5 * $X$5","v":26.558100000000003},"HEAT"]
[null,0.99,0.4,0.4]
[null,1,0.5,null,0]
[null,1.01,0.60000000000000009,{"$f":"C15*1.2","v":0.6}]
[null,1.02,0.69,{"$f":"C16*1.15","v":0.69000000000000006},null,null,null,null,null,null,null,null,null,null,null,null,null,null,null,"AT Rifle <S> 830 m/s. 400m @ 15 degrees 20mm, 500m, 0 deg, 30mm (MILD STEEL = 0.8)"]
[null,1.03,0.77,{"$f":"C17*1.12","v":0.77280000000000004}]
[null,1.04,0.84,{"$f":"C18*1.09","v":0.83930000000000005},null,null,null,null,null,null,null,null,null,null,null,null,null,null,null,null,null,null,null,null,null,"0 DEG"]
[null,1.05,0.89,{"$f":"C19*1.2","v":1.008},null,null,null,null,null,null,null,null,null,null,null,null,null,null,null,null,null,"500m",null,null,null,null,"AP","APC"]
[null,1.06,0.93,1.0680000000000001,null,null,null,null,null,null,null,null,null,null,null,null,null,null,null,"IT 20mm",null,30,623,null,null,40,1,1,47]
[null,1.07,0.96,1.1160000000000001,null,null,null,null,null,null,null,null,null,null,null,null,null,null,null,null,1160,null,null,null,null,null,4.4299999999999999E-2,1.01E-2]
[null,1.08,0.98,1.1519999999999999,null,null,null,null,null,null,null,null,null,null,null,null,null,null,null,"47mm",40]
[null,1.0900000000000001,0.99,1.1759999999999999,null,null,null,null,null,null,null,null,null,null,null,null,null,null,"V",630,472]
[null,1.1000000000000001,0.99,1.1879999999999999]
[null,1.1100000000000001,0.99,1.1879999999999999,null,null,null,null,null,null,null,null,null,null,null,null,null,null,null,null,60,null,null,null,null,{"$f":"$Z$21 * $AA$21 * POWER($Z$21/$AC$21, $AA$22)","v":39.715251201756999},"AP"]
[null,1.1200000000000001,1,1.1879999999999999,null,null,null,null,null,null,null,null,null,null,null,null,null,null,null,null,null,null,null,null,null,{"$f":"$Z$21 * $AB$21 * POWER($Z$21/$AC$21, $AB$22)","v":39.934900699903487},"APC"]
[]
[]
[null,null,"Range (m)","P(sight)","P(hit)"]
[null,null,50,0.36,1]
[null,null,100,0.254,0.93]
[null,null,150,0.16200000000000001,0.76]
[null,null,200,7.0000000000000007E-2,0.54,null,null,null,null,null,null,null,null,null,null,null,null,null,null,null,null,null,500,832,2470,0.14599999999999999]
[null,null,250,4.7E-2,0.38]
[null,null,300,2.8000000000000001E-2,0.28000000000000003,null,null,null,null,null,null,null,null,null,null,null,null,null,null,null,null,null,{"$f":"X34 * POWER(2.718282, W34 * 0.7 * -0.0000001 * Y34)","v":763.09492621844095},{"$f":"30 * POWER(X34/W36,1.4283)","v":33.942703925863263}]
[null,null,350,2.4E-2,0.22]
[null,null,400,1.6E-2,0.17]
[]
[null,null,null,null,null,null,null,null,"51@46","M4 Sherman Front"]
[null,null,null,null,"Mv","M(kg)","KE","Pen","Arm","Target M","%KE","KE left","Wt/KE",null,"Mp + ratio","x2","x3"]
[null,"75mm Pak40 vs. M4 Front",null,null,740,6.8,{"$f":"0.5*F42*E42*E42","v":1861840},133,91,30300,{"$f":"1-(91/133)","v":0.31578947368421051},{"$f":"K42*G42","v":587949.47368421045},{"$f":"L42/J42","v":19.404273058884833},null,{"$f":"F42+M42","v":26.204273058884834},{"$f":"O42*2","v":52.408546117769667},{"$f":"O42*3","v":78.612819176654497}]
[null,"37mm Kwk vs. M4 Side",null,null,745,0.68500000000000005,190096.06250000003,64,38,30300,{"$f":"1-(I43/H43)","v":0.40625},77226.525390625015,2.5487302109117165,null,3.2337302109117165,6.4674604218234331,9.70119063273515]
[null,"37mm Kwk vs. M3 front",null,null,745,0.68500000000000005,190096.06250000003,64,39,12700,0.390625,74256.274414062515,5.8469507412647648,null,6.5319507412647653,13.063901482529531,19.595852223794296]
[null,"7.62mm Ball vs. Jeep",null,null,855,0.01,3655.1250000000005,8,9,1100,-0.125,-456.89062500000006,-0.41535511363636368,null,-0.40535511363636367,-0.81071022727272735,-1.2160653409090911]
[null,"75mm M3 APC vs. Tiger Side",null,null,618,6.8,1298541.5999999999,88,80,55000,9.0909090909090939E-2,118049.23636363639,2.1463497520661163,null,8.9463497520661157,17.892699504132231,26.839049256198347]
[null,"75mm M3 APC vs. PzIV Front",null,null,618,6.8,1298541.5999999999,88,51,25000,0.42045454545454541,545977.71818181803,21.83910872727272,null,28.639108727272721,57.278217454545441,85.917326181818169]
[null,"37mm M6 APC vs. PzIV Front",null,null,884,0.87,339933.36000000004,78,51,25000,0.34615384615384615,117669.24,4.7067696000000003,null,5.5767696000000004,11.153539200000001,16.730308800000003]
[]
[]
[]
[]
[]
[]
[]
[]
[]
[]
[]
[null,null,null,null,null,null,null,null,null,1,1,1,null,null,null,null,1.0006999999999999,1.0531999999999999,1.0349999999999999,null,null,null,null,1.2195,1.2666999999999999,1.2319]
[null,null,null,null,null,null,null,"0 DEG",null,4.4299999999999999E-2,1.01E-2,null,null,null,"15 DEG",null,9.69E-2,3.27E-2,null,null,null,"30 DEG",null,0.19700000000000001,6.5500000000000003E-2,1]
[null,"d","mv","wt","K",null,"mm","range","v","AP","APC","APCR",null,"mm","range","v","AP","APC","APCR",null,"mm","range","v","AP","APC","APCR"]
["IT 20mm",20,832,0.14599999999999999,7701,null,30,500,{"$f":"$C63 * POWER(2.718282, $H63 * 0.7 * -0.0000001 * $E63)","v":635.42713341513365},{"$f":"$G63 * $J$60 * POWER($G63/$B63, $J$61) * POWER($C63/$I63,1.4283)","v":44.886467204086422},{"$f":"$G63 * $K$60 * POWER($G63/$B63, $K$61) * POWER($C63/$I63,1.4283)","v":44.268326506301527},{"$f":"$G63 * $L$60 * POWER($C63/$I63,1.4283)","v":44.087409660153071},null,20,400,{"$f":"$C63 * POWER(2.718282, $O63 * 0.7 * -0.0000001 * $E63)","v":670.62118672224119},{"$f":"$N63 * $Q$60 * POWER($N63/$B63, $Q$61) * POWER($C63/$P63,1.4283)","v":27.232565563123288},{"$f":"$N63 * $R$60 * POWER($N63/$B63, $R$61) * POWER($C63/$P63,1.4283)","v":28.661275158470517},{"$f":"$N63 * $S$60 * POWER($C63/$P63,1.4283)","v":28.165989165416811},null,null,null,{"$f":"$C63 * POWER(2.718282, $V63 * 0.7 * -0.0000001 * $E63)","v":832},{"$f":"$U63 * $X$60 * POWER($U63/$B63, $X$61) * POWER($C63/$W63,1.4283)","v":0},{"$f":"$U63 * $Y$60 * POWER($U63/$B63, $Y$61) * POWER($C63/$W63,1.4283)","v":0},{"$f":"$U63 * $Z$60 * POWER($C63/$W63,1.4283)","v":0}]
["IT 47mm",47,630,1.51,3560,null,36,1200,{"$f":"$C64 * POWER(2.718282, $H64 * 0.7 * -0.0000001 * $E64)","v":467.16373220467671},{"$f":"$G64 * $J$60 * POWER($G64/$B64, $J$61) * POWER($C64/$I64,1.4283)","v":54.534097466698384},{"$f":"$G64 * $K$60 * POWER($G64/$B64, $K$61) * POWER($C64/$I64,1.4283)","v":55.033651738035495},{"$f":"$G64 * $L$60 * POWER($C64/$I64,1.4283)","v":55.18205431354049},null,20,2700,{"$f":"$C64 * POWER(2.718282, $O64 * 0.7 * -0.0000001 * $E64)","v":321.46214021839523},{"$f":"$N64 * $Q$60 * POWER($N64/$B64, $Q$61) * POWER($C64/$P64,1.4283)","v":48.16615596456063},{"$f":"$N64 * $R$60 * POWER($N64/$B64, $R$61) * POWER($C64/$P64,1.4283)","v":53.551482108645367},{"$f":"$N64 * $S$60 * POWER($C64/$P64,1.4283)","v":54.117149553835382},null,55,500,{"$f":"$C64 * POWER(2.718282, $V64 * 0.7 * -0.0000001 * $E64)","v":556.19547795812502},{"$f":"$U64 * $X$60 * POWER($U64/$B64, $X$61) * POWER($C64/$W64,1.4283)","v":82.6575256932082},{"$f":"$U64 * $Y$60 * POWER($U64/$B64, $Y$61) * POWER($C64/$W64,1.4283)","v":84.100299288257119},{"$f":"$U64 * $Z$60 * POWER($C64/$W64,1.4283)","v":80.952055291983967}]
["IT 75/18",75,475,6.42,2350,null,36,1200,{"$f":"$C65 * POWER(2.718282, $H65 * 0.7 * -0.0000001 * $E65)","v":389.90955094708511},{"$f":"$G65 * $J$60 * POWER($G65/$B65, $J$61) * POWER($C65/$I65,1.4283)","v":46.198648378942096},{"$f":"$G65 * $K$60 * POWER($G65/$B65, $K$61) * POWER($C65/$I65,1.4283)","v":47.372992487959998},{"$f":"$G65 * $L$60 * POWER($C65/$I65,1.4283)","v":47.725477569136409},null,46,200,{"$f":"$C65 * POWER(2.718282, $O65 * 0.7 * -0.0000001 * $E65)","v":459.6267752300742},{"$f":"$N65 * $Q$60 * POWER($N65/$B65, $Q$61) * POWER($C65/$P65,1.4283)","v":46.01479511388812},{"$f":"$N65 * $R$60 * POWER($N65/$B65, $R$61) * POWER($C65/$P65,1.4283)","v":49.972873612019704},{"$f":"$N65 * $S$60 * POWER($C65/$P65,1.4283)","v":49.900643385525825},null,46,200,{"$f":"$C65 * POWER(2.718282, $V65 * 0.7 * -0.0000001 * $E65)","v":459.6267752300742},{"$f":"$U65 * $X$60 * POWER($U65/$B65, $X$61) * POWER($C65/$W65,1.4283)","v":53.397856508490612},{"$f":"$U65 * $Y$60 * POWER($U65/$B65, $Y$61) * POWER($C65/$W65,1.4283)","v":59.147132038104843},{"$f":"$U65 * $Z$60 * POWER($C65/$W65,1.4283)","v":59.393818924279479}]
[]
["GE 2cm AP",20,780,0.14799999999999999,7701,null,null,null,null,null,null,null,null,null,null,null,null,null,null,null,23,100,{"$f":"$C67 * POWER(2.718282, $V67 * 0.7 * -0.0000001 * $E67)","v":739.06577047808992},{"$f":"$U67 * $X$60 * POWER($U67/$B67, $X$61) * POWER($C67/$W67,1.4283)","v":31.139080256437659},{"$f":"$U67 * $Y$60 * POWER($U67/$B67, $Y$61) * POWER($C67/$W67,1.4283)","v":31.755282505363208},{"$f":"$U67 * $Z$60 * POWER($C67/$W67,1.4283)","v":30.601446585406354}]
["28mm APCR",20,1430,0.121,9943,null,null,null,null,null,null,null,null,null,null,null,null,null,null,null,60,100,1333.8552586959879,100.34590189953319,90.209060877493854,81.63951276084903]
["37mm AP",37,745,0.68500000000000005,5395,null,null,null,null,null,null,null,null,null,null,null,null,null,null,null,34,100,717.38970602819802,43.037998466989094,45.203605986195917,44.205887010874676]
["50mm APC",50,835,2.06,5061,null,null,null,null,null,null,null,null,null,null,null,null,null,null,null,69,100,805.93631248382042,94.311042258089785,93.89887962749799,89.412865826784397]
["50mm APCR",50,1180,0.92500000000000004,8101,null,null,null,null,null,null,null,null,null,null,null,null,null,null,null,130,100,1114.9476296653402,207.51544217269807,190.09618042165815,173.65781051202208]
["75mm APC",75,385,6.8,2205,null,null,null,null,null,null,null,null,null,null,null,null,null,null,null,41,100,379.10315063413003,45.380720489992321,51.033203557771195,51.633752227313551]
["75mm APC",75,740,6.8,2361,null,null,null,null,null,null,null,null,null,null,null,null,null,null,null,99,100,727.87052722039164,130.56350757965907,130.75499932625044,124.87123154681061]
["75mm APC",75,925,6.8,2448,null,null,null,null,null,null,null,null,null,null,null,null,null,null,null,138,100,909.28423623829553,194.47308864920839,186.43520900955988,174.21440067604601]
["76.2 APC",76.2,720,7.6,2279,null,null,null,null,null,null,null,null,null,null,null,null,null,null,null,98,100,708.60497337756726,128.47835850266648,129.10789337784547,123.50860663527372]
["88 APC",88,773,10.199999999999999,1778,null,null,null,null,null,null,null,null,null,null,null,null,null,null,null,120,100,763.43886376775049,158.35032497711541,157.90579278675222,150.47937907518772]
[]
["37SA18",37,600,0.39,5031,null,null,null,null,null,null,null,null,null,null,null,null,null,null,null,25,100,{"$f":"$C78 * POWER(2.718282, $V78 * 0.7 * -0.0000001 * $E78)","v":579.2375402818667},{"$f":"$U78 * $X$60 * POWER($U78/$B78, $X$61) * POWER($C78/$W78,1.4283)","v":29.677373383557587},{"$f":"$U78 * $Y$60 * POWER($U78/$B78, $Y$61) * POWER($C78/$W78,1.4283)","v":32.456885411641871},{"$f":"$U78 * $Z$60 * POWER($C78/$W78,1.4283)","v":32.386250392581829}]
[]
["37 APC",37,{"$f":"2900*0.3028","v":878.12},0.87,6410,null,null,null,null,null,null,null,null,null,null,null,null,null,null,null,{"$f":"2.6*25.6","v":66.56},0,{"$f":"$C80 * POWER(2.718282, $V80 * 0.7 * -0.0000001 * $E80)","v":878.12},{"$f":"$U80 * $X$60 * POWER($U80/$B80, $X$61) * POWER($C80/$W80,1.4283)","v":91.123921449070266},{"$f":"$U80 * $Y$60 * POWER($U80/$B80, $Y$61) * POWER($C80/$W80,1.4283)","v":87.617396237606087},{"$f":"$U80 * $Z$60 * POWER($C80/$W80,1.4283)","v":81.995264000000006}]
["57mm APC",57,{"$f":"2700*0.3028","v":817.56000000000006},3.3,2722,null,null,null,null,null,null,null,null,null,null,null,null,null,null,null,{"$f":"3.2*25.6","v":81.920000000000016},0,{"$f":"$C81 * POWER(2.718282, $V81 * 0.7 * -0.0000001 * $E81)","v":817.56000000000006},{"$f":"$U81 * $X$60 * POWER($U81/$B81, $X$61) * POWER($C81/$W81,1.4283)","v":107.30061733508734},{"$f":"$U81 * $Y$60 * POWER($U81/$B81, $Y$61) * POWER($C81/$W81,1.4283)","v":106.26272590120028},{"$f":"$U81 * $Z$60 * POWER($C81/$W81,1.4283)","v":100.91724800000001}]
["75mm APC",75,{"$f":"2030*0.3028","v":614.68400000000008},6.8,2321,null,null,null,null,null,null,null,null,null,null,null,null,null,null,null,{"$f":"2.9*25.6","v":74.239999999999995},0,{"$f":"$C82 * POWER(2.718282, $V82 * 0.7 * -0.0000001 * $E82)","v":614.68400000000008},{"$f":"$U82 * $X$60 * POWER($U82/$B82, $X$61) * POWER($C82/$W82,1.4283)","v":90.354206809930403},{"$f":"$U82 * $Y$60 * POWER($U82/$B82, $Y$61) * POWER($C82/$W82,1.4283)","v":93.977093165496058},{"$f":"$U82 * $Z$60 * POWER($C82/$W82,1.4283)","v":91.456255999999996}]
["3-inch APC",76.2,{"$f":"2600*0.3028","v":787.28000000000009},7,2321,null,109,1000,{"$f":"$C83 * POWER(2.718282, $H83 * 0.7 * -0.0000001 * $E83)","v":669.22073697237022},{"$f":"$G83 * $J$60 * POWER($G83/$B83, $J$61) * POWER($C83/$I83,1.4283)","v":139.66722044676746},null,null,null,null,null,null,null,null,null,null,{"$f":"4.2*25.6","v":107.52000000000001},0,{"$f":"$C83 * POWER(2.718282, $V83 * 0.7 * -0.0000001 * $E83)","v":787.28000000000009},{"$f":"$U83 * $X$60 * POWER($U83/$B83, $X$61) * POWER($C83/$W83,1.4283)","v":140.32314648662577},{"$f":"$U83 * $Y$60 * POWER($U83/$B83, $Y$61) * POWER($C83/$W83,1.4283)","v":139.30205456741646},{"$f":"$U83 * $Z$60 * POWER($C83/$W83,1.4283)","v":132.45388800000001}]

{"sheet":"PSYCH MODEL","index":22,"n_rows":90,"n_cols":22,"rows_kept":90,"cut":false,"hidden":false,"merged":[]}
["STRESS FACTOR","INFANTRY VALUE","VEHICLE VALUE","(NOTE: Negative values reduce stress, postive increase it)"]
[10,null,null,null,null,null,null,null,null,null,null,null,null,"Decsions:"]
["# Fired on by large caliber gun"]
["Gun Attack",50,50,null,null,null,null,null,null,null,null,null,null,"DRIVER:","Do we need to turn hull to point main gun at target?"]
["# Fire on by enemy tank"]
["Tank Attack",200,100,null,null,null,null,null,null,null,null,null,null,null,"IF turrted"]
["# Fired on by unspotted unit at close range",null,null,null,null,null,null,null,null,null,null,null,null,null,null,"Do not rotate if the gunner is aiming or firing."]
["Ambushed",300,300,null,null,null,null,null,null,null,null,null,null,null,null,"IF turret has desired rotation, point hull at threat / target / team facing (in that order)"]
["# Fire coming from front and rear at the same time",null,null,null,null,null,null,null,null,null,null,null,null,null,"ELSE"]
["Encircled",300,300,null,null,null,null,null,null,null,null,null,null,null,null,"Point hull at target / threat / team facing"]
["# Under fire while in poor cover, or when penetrated in a vehicle"]
["Exposed",150,300,null,null,null,null,null,null,null,null,null,null,null,"SNEAK","Move slow, do not fire. Fire and go defensive if you spot a threat"]
["# Enemy troops outnumber friendly 3:2 or higher",null,null,null,null,null,null,null,null,null,null,null,null,null,"MOVE","Move med, halt to fire. Go defensive if under fire from unkillable threat."]
["Outnumbered",100,100,null,null,null,null,null,null,null,null,null,null,null,"FAST","Move fast, fire at will. Do not stop for any reason."]
["# Team takes a casaulty"]
["Team Loss",200,200]
["# Gun is being attacked at close range"]
["Gun at close range",100,100]
["# Friendly troops outnumber enemy 3:2 or better",null,null,null,null,null,null,null,null,null,null,null,null,"Soldier - ","If nothing to do - ready weapon"]
["Outnumber",-100,-100]
["# We fire on an enemy team from ambush (unspotted, close range)"]
["Ambushing",-150,-150,null,null,null,null,null,null,null,null,null,null,"COM_Knoweldge stuff"]
["# Team Destroys a vehicle or gun"]
["Big Kill",-200,-200,null,null,null,null,null,null,null,null,null,null,"Soldier's check for friendlies in LOF"]
["# Team Causes a casualty"]
["Small Kill",-100,-100,null,null,null,null,null,null,null,null,null,null,"Suppression caused by projectiles passing and blasts. Decouple from map."]
["# Team is not currently spotted",null,null,null,null,null,null,null,null,null,null,null,null,null,"Do spherecast for suppression effects."]
["Hidden",-100,-100,null,null,null,null,null,null,null,null,null,null,null,"Out to max frag radius or blast radius, whichever is bigger"]
["# Team is not taking fire"]
["Untargeted",-50,-50]
["# Team is crewing a vehicle or gun"]
["VehicleCrew",-100,-100,null,null,null,null,null,null,null,null,null,"COPING:"]
[null,null,null,null,null,null,null,null,null,null,null,null,"Low stress",null,"Low risk?",null,null,null,"Unconflicted Aherence",null,null,"Keep doing what you're doing"]
[null,null,null,null,null,null,null,null,null,null,null,null,"Low stress",null,"High Risk w/ low risk alternative?",null,null,null,"Unconflicted Change",null,null,"Switch to lower risk alternative"]
[null,null,null,null,null,null,null,null,null,null,null,null,"Any",null,"High risk, with alternative also high?",null,null,null,"Defensive Avoidance",null,null,"Rationalize/ignore threat, likely Continue current action"]
[null,null,null,null,null,null,null,null,null,null,null,null,"? Stress, but time",null,"High risk, with alternative also high?",null,null,null,"Vigilance",null,null,"Seek best alternative"]
["SOLDIER ACTION DESCION MAKING",null,null,null,null,null,null,null,null,null,null,null,"? Stress, no time",null,"High risk, with alternative also high?",null,null,null,"Hypervigilance",null,null,"Jump to alternative action, even contradictory"]
["1) Health: Dead or incap just lie there. (disable script)"]
["2) Prisoner: POWs wander off with hands raised."]
["3) Condition: "]
["- Exited soldiers do nothing (disable script)"]
["- Stunned fall prone if not already, lie there."]
["- Panicked run away to a safe spot, then take cover."]
["- Routed run off the map"]
["- Berserk charge the enemy"]
["- Broken or cowered ignore orders that are not moving away from the enemy, find cover."]
["- Broken or cowered don't shoot (or do anything else?)"]
["- Exhausted soldiers find cover and rest."]
["- Check if soldier needs to fire or do fire related action (reload, etc)."]
["- Check if soldier needs to move (soldiers in vehicles don't move)"]
["- Scavenge"]
[]
[]
[]
[]
[]
["INTERPHASE PROCESSING:"]
["1) Reduce suppression levels"]
["2) Decay smoke"]
["3) Re-calculate armor advantage ratios"]
["4) Re-calculate observation levels for each team (based on cumulative activity during phase)"]
["4) Re-calc LOS (for some teams each time?)"]
["5) Re-calculate force morale for each side"]
["6) Do Team checks for 25% of teams*"]
["7) Do soldier checks for 25% of soldiers**"]
["8) Check LOS/spotting on placed fortifications"]
["9) Check if the game is over"]
[]
["* TEAM CHECKS"]
["1) Re-cacluate team averages"]
["2) Redistribute weight"]
["3) Update strength values"]
["4) Man vehicle crew positions"]
["5) Check team stress***"]
["6) Check team condition****"]
["7) Check vehicle morale (for vehicles)*****"]
["8) Clear incoming fire mask if not under fire (area is very low suppression or less, last shot 5 seconds ago or more)"]
["9) Check if team has captured a VL"]
["10) Check vehicle status******"]
[]
[]
["** SOLDIER CHECKS"]
["1) Check Morale"]
["2) Check if suppression causes SUPPRESS, PIN, or COWER"]
["3) Check is STUNNED soldier recovers"]
["4) Check if exhausted team needs to stop and rest (WRONG PLACE!!!)"]
["5) Check individual soldier reactions to stress (rally, panic, heroic, fanatic, surrender, etc.)"]
["6) Check weapon heat/damage/repair"]
["7) Reduce fatigue"]
["8) Recalcuate known enemy directions"]

{"sheet":"Firing","index":23,"n_rows":124,"n_cols":22,"rows_kept":124,"cut":false,"hidden":false,"merged":[]}
[]
[null,"FIRING ERRORS",null,null,null,null,null,null,null,null,null,null,null,"DRAG COEFF = 0.2 for most projectiles"]
[null,"A","Environmental / inherent error = weapon dispersion, barrel wear, weather conditions, etc"]
[null,"R","Range estimation error",null,null,null,null,null,null,null,null,null,null,null,null,null,null,null,"E","sd","W","50% zone = 2*w = 1.349 * sd"]
[null,"G","Gun-movement error (while vehicle moving)",null,null,null,null,null,null,null,{"$f":"16.1*(1000/(2030*0.3048))^2*0.2","v":8.4107334664285247},null,null,null,null,null,null,"Avg.Dev.E",1,0.79788000000000003,1.1829400000000001]
[null,"S","Sighting error (while moving)",null,null,null,null,null,null,null,null,null,null,null,null,null,null,"Std.Dev sd",1.2533099999999999,1,1.4826000000000001]
[null,null,null,null,null,null,null,null,null,null,null,null,null,null,null,null,null,"Prob.Error W",0.84535000000000005,0.67449000000000003,1]
[null,null,"Std. Dev. eRANGE =",null,"(g/2 * (r/V)^2) * Est"]
[null,null,null,"Est","Std. Dev. Of range estimation error, %",null,null,null,null,"Est = Mean Range Estimation Error % is 20% when using range finder, 25% naked eye."]
[null,null,null,"r","Actual range"]
[null,null,null,"V","shell velocity"]
[null,null,null,null,null,null,null,null,null,null,null,"Gun Accuracy (Byrd) @ 1000 yrds, minutes, 1 std dev"]
[null,null,"NORMAL DISTRIBUTION:",null,null,null,null,null,0.68270000000000008,"1 dev",null,null,"Vert","Lat = vert * 0.667","mV","mL"]
[null,null,null,null,null,null,null,null,0.95450000000000002,"2 dev",null,"1 Best",0.9,0.60000000000000009,0.26,0.17]
[null,null,"f(x,u,o) = ","1/(o * sqrt(2 * pi)) * e ^ -((x - u)^2 / (2 * o ^ 2))",null,null,null,null,0.99730000000000008,"3 dev",null,"Avg",1.2,0.8,0.35,0.23]
[null,null,null,null,null,null,null,null,null,"4 dev",null,"Poor",1.8,1.2,0.52,0.35]
[null,null,"u = MEAN"]
[null,null,"o = STD DEV"]
[]
[null,null,"RATE OF FIRE"]
[null,null,null,"HALT:"," Halt, engage, fire about 14-18 seconds required. Next shot about 7 seconds."]
[null,null,null,"MOVING:","10mph, 8-10 seconds at 500 yds, 10-15 seconds at 1000 yds"]
[]
[null,null,null,"DRAG = ","Cd * 0.5 * 1.2 kg/m3 * v^2 * area"]
[]
[null,"DIRECT FIRE ANGLE:",null,null,"SIN(2 theta) = (g * r / mv^2)",null,null,null,null,"mv = ((g * r) / SIN(2 theta)) ^ 0.5",null,null,null,null,null,"dist(v,@) = (v^2 * sin(2@))/g"]
[null,null,null,null,"mv","Range","Angle","time",null,"range","Angle","mv",null,null,null,null,"mv","angle","d",null,4.1891162746128598,{"$f":"(R28-U27)*17.78","v":1244.4379126373835}]
[null,null,null,null,89,442,{"$f":"DEGREES(ASIN(9.8*F28/(E28*E28))/2)","v":16.575593487724504},{"$f":"F28/E28","v":4.9662921348314608},null,100,45,{"$f":"SQRT((9.8*J28)/SIN(2*RADIANS(K28)))","v":31.304951684997057},null,null,null,null,89,74.180000000000007,{"$f":"(Q28^2*SIN(2*RADIANS(R28)))/9.8","v":424.00013419933987},null,{"$f":"S28-4400","v":-3975.9998658006602}]
[null,null,null,null,null,null,{"$f":"90-DEGREES(ASIN(9.8*F28/(E28*E28))/2)","v":73.424406512275496}]
[null,null,null,null,null,null,null,null,null,null,null,null,null,"Range = 1000m"]
[null,"INDIRECT FIRE ANGLE:",null,null,"AS ABOVE BUT 90 - angle",null,null,null,null,null,null,"v0","Flt Time","50% Zone",null,"Std. Dev."]
[null,null,null,null,null,null,null,null,null,null,null,null,null,"W","H","W","H"]
[null,null,null,null,null,null,null,null,null,"leIG 18","Igr.38 Hl",260,3.4,0.4,1.1000000000000001,{"$f":"N33/1.349/$M33","v":8.7210569921074441E-2},{"$f":"O33/1.349/$M33","v":0.23982906728295472},{"$f":"P33/L33","v":3.3542526892720937E-4},{"$f":"Q33/L33","v":9.2241948954982587E-4},null,"800m"]
[null,null,null,null,null,null,null,null,null,null,"Igr.38 Hl/A",330,6,1,2,0.12354830738818878,0.24709661477637757,3.7438881026723874E-4,7.4877762053447748E-4,null,"1700m"]
[null,null,null,null,null,null,null,null,null,null,"Igr.18 1",92,10,1,14,7.412898443291327E-2,1.0378057820607858,8.0574983079253549E-4,1.1280497631095497E-2]
[null,null,null,null,null,null,null,null,null,null,null,110,10,1,12,7.412898443291327E-2,0.88954781319495935,6.7389985848102969E-4,8.086798301772358E-3]
[null,null,null,null,null,null,null,null,null,null,null,132,10,2,11,0.14825796886582654,0.81541882876204608,1.1231664308017162E-3,6.17741536940944E-3]
[null,null,null,null,null,null,null,null,null,null,null,167,10,1,9,7.412898443291327E-2,0.66716085989621943,4.4388613432882199E-4,3.994975208959398E-3]
[null,null,null,null,null,null,null,null,null,null,null,212,10,2,7,0.14825796886582654,0.51890289103039289,6.9933004181993647E-4,2.4476551463697778E-3]
[null,null,null,null,null,null,null,null,null,null,null,260,11.3,1,9,6.5600871179569267E-2,0.59040784061612339,2.5231104299834335E-4,2.2707993869850898E-3,null,"2500m"]
[null,null,null,null,null,null,null,null,null,null,null,{"$f":"SUM(L35:L40)/6","v":162.16666666666666},{"$f":"SUM(M35:M40)","v":61.3},{"$f":"SUM(N35:N40)","v":8},{"$f":"SUM(O35:O40)","v":62},9.6742557171828086E-2,0.74975481808166777,5.9656253137817944E-4,4.6233596181808907E-3]
[]
[null,null,"US AMMO LOADS",null,null,null,null,null,null,"5cm KwK","Spgr.38",450,2.8,null,null,null,null,"(NOTE: No firing table avail on roll 12)"]
[null,null,"carbine",null,"60 ball",null,null,null,null,"1000m","PzGr",685]
[null,null,"M1903 Rifle",null,"30 Ball, 20 AP",null,null,null,null,null,"PzGr.39",685]
[null,null,"Garand",null,"48 Ball, 32 AP",null,null,null,null,null,"PzGr.40",1050]
[null,null,"BAR",null,"240 Ball, 140 AP"]
[null,null,"Pistol",null,"21 Ball"]
[null,null,"M1917A1 MG",null,"8000 (4-1 AP & T)",null,null,null,null,"5cm PaK38 & KwK 39","Sprg.38",550,2.2000000000000002,0.30000000000000004,0.4,{"$f":"N49/1.349","v":0.22238695329873984},0.29651593773165308,{"$f":"P49/L49","v":4.0433991508861787E-4},{"$f":"Q49/L49","v":5.3911988678482375E-4}]
[null,null,"M1919A4 MG",null,"2500 (4-1 AP & T)",null,null,null,null,"(1000m)","PzGr.",835,1.43,0.30000000000000004,0.33,0.22238695329873984,0.2446256486286138,{"$f":"P50/L50","v":2.6633168059729323E-4},{"$f":"Q50/L50","v":2.9296484865702253E-4}]
[null,null,".50 MG",null,"330 (2-2-1 AP, I, T)",null,null,null,null,null,"PzGr.39",835,1.43,0.30000000000000004,0.33,0.22238695329873984,0.2446256486286138,{"$f":"P51/L51","v":2.6633168059729323E-4},{"$f":"Q51/L51","v":2.9296484865702253E-4}]
[null,null,"SMG",null,"90 Ball",null,null,null,null,null,"PzGr.40/1",1130,0.89,0.49,0.51,0.363232023721275,0.3780578206078577,{"$f":"P52/L52","v":3.214442687798894E-4},{"$f":"Q52/L52","v":3.3456444301580327E-4}]
[]
[null,null,"57mm AT",null,"60 APC-T"]
[null,null,"60mm Mortar",null,"51 HE, 3 Illum",null,null,null,null,"7.5cm KwK 40, PaK 40, StuK 40","Sprg.34 & NbGr",550,2,0.7,1.1000000000000001,{"$f":"N55/1.349","v":0.51890289103039289},0.81541882876204608,{"$f":"P55/L55","v":9.4345980187344157E-4},{"$f":"Q55/L55","v":1.4825796886582655E-3}]
[null,null,"81mm Mortar",null,"68 HE, 14 HE Hvy, 14 Smoke",null,null,null,null,"(1000m)","PzGr.39",750,1.44,0.5,0.60000000000000009,0.37064492216456635,0.44477390659747967,{"$f":"P56/L56","v":4.9419322955275514E-4},{"$f":"Q56/L56","v":5.9303187546330628E-4}]
[null,null,"105mm How",null,"34 HE, 3 HC, 3 WP, 2 HEAT",null,null,null,null,null,"PzGr.40",930,1.21,0.60000000000000009,0.7,0.44477390659747967,0.51890289103039289,{"$f":"P57/L57","v":4.7825151247040824E-4},{"$f":"Q57/L57","v":5.5796009788214285E-4}]
[null,null,"Bazooka",null,"6 AT",null,null,null,null,null,"Gr.38 Hl/B & C",450,2.59,0.60000000000000009,0.7,0.44477390659747967,0.51890289103039289,{"$f":"P58/L58","v":9.8838645910551029E-4},{"$f":"Q58/L58","v":1.1531175356230953E-3}]
[null,null,"M7 GL",null,"3 AT, 3 AP"]
[null,null,"M8 GL",null,"1 AT, 1AP",null,null,null,null,"7.5cm KwK42","SpGr.42",700,1.5,0.30000000000000004,0.60000000000000009,{"$f":"N60/1.349","v":0.22238695329873984},0.44477390659747967,{"$f":"P60/L60","v":3.1769564756962835E-4},{"$f":"Q60/L60","v":6.3539129513925669E-4},"(NOTE: Using 8.8cm L71 values w/ similar v0 for dispersion)"]
[null,null,null,null,null,null,null,null,null,"(1000m)","PzGr.39/42",935,1.2,0.30000000000000004,0.5,0.22238695329873984,0.37064492216456635,{"$f":"P61/L61","v":2.3784700887565758E-4},{"$f":"Q61/L61","v":3.9641168145942925E-4}]
[null,null,"Halftrack",null,"3750 .30 cal, 795 .50 cal",null,null,null,null,null,"PzGr.40/42",1120,0.9,0.30000000000000004,0.4,0.22238695329873984,0.29651593773165308,{"$f":"P62/L62","v":1.9855977973101772E-4},{"$f":"Q62/L62","v":2.6474637297469025E-4}]
[]
[null,null,"37mm Stuart",null,"45% HE, 45% AP, 10% Can",null,null,null,null,"7.62cm Pak36","Spgr.39",550,2.1,0.60000000000000009,0.7,{"$f":"N64/1.349","v":0.44477390659747967},0.51890289103039289,{"$f":"P64/L64","v":8.0867983017723574E-4},{"$f":"Q64/L64","v":9.4345980187344157E-4}]
[null,null,"75mm Sherman",null,"50% HE, 35% APC, 10% WP, 5% SM",null,null,null,null,"(1000m)","PzGr.39",710,1.52,0.60000000000000009,0.8,0.44477390659747967,0.59303187546330616,{"$f":"P65/L65","v":6.2644212196828124E-4},{"$f":"Q65/L65","v":8.3525616262437484E-4}]
[null,null,"M10 TD",null,"50/50 HE and APC",null,null,null,null,null,"Gr.38 Hl/B & C",450,2.5499999999999998,0.60000000000000009,1,0.44477390659747967,0.7412898443291327,{"$f":"P66/L66","v":9.8838645910551029E-4},{"$f":"Q66/L66","v":1.6473107651758503E-3}]
[null,null,"M8 Greyhound",null,"50% HE, 30% APC, 20% Can"]
[null,null,"White Scout",null,"1250 .30, 530 .50",null,null,null,null,"8.8cm KwK 36","Spgr.",810,1.44,0.30000000000000004,0.5,{"$f":"N68/1.349","v":0.22238695329873984},0.37064492216456635,{"$f":"P68/L68","v":2.7455179419597509E-4},{"$f":"Q68/L68","v":4.5758632365995843E-4}]
[null,null,null,null,null,null,null,null,null,"(1000m)","PzGr.39",780,1.35,0.2,0.4,0.14825796886582654,0.29651593773165308,{"$f":"P69/L69","v":1.9007431905875198E-4},{"$f":"Q69/L69","v":3.8014863811750395E-4}]
[null,null,"MG Jeep",null,"1250 .30, 550 .50 cal",null,null,null,null,null,"PzGr.40",930,1.17,0.30000000000000004,0.5,0.22238695329873984,0.37064492216456635,{"$f":"P70/L70","v":2.3912575623520412E-4},{"$f":"Q70/L70","v":3.9854292705867347E-4}]
[null,null,"37mm AT",null,"80 - 50% APC, 30% HE, 20% Can",null,null,null,null,null,"Gr.39 Hl",600,1.83,0.4,0.7,0.29651593773165308,0.51890289103039289,{"$f":"P71/L71","v":4.9419322955275514E-4},{"$f":"Q71/L71","v":8.6483815171732148E-4}]
[null,null,"M10 TD",null,"54 - 50/40/10?"]
[null,null,"3\" AT",null,"32 - 50/40/10 AP/HE/SM"]
[null,null,null,null,null,null,null,null,null,"15cm IG","IG.38 1",125,8.8000000000000007,1,5,{"$f":"N74/1.349","v":0.7412898443291327},3.7064492216456637,{"$f":"P74/L74","v":5.9303187546330613E-3},{"$f":"Q74/L74","v":2.965159377316531E-2}]
[null,null,null,null,null,null,null,null,null,null,"IG.38 2",152,7,1,3,0.7412898443291327,2.2238695329873983,4.8769068705863993E-3,1.4630720611759199E-2]
[null,null,null,null,null,null,null,null,null,null,"IG.38 3",185,5.6,1,2,0.7412898443291327,1.4825796886582654,4.0069721315088257E-3,8.0139442630176513E-3]
[null,"deg/sec","Radius","Speed",null,{"$f":"0.03*(340/27.9)*50","v":18.27956989247312},null,null,null,null,"IG.38 4",210,5.4,1,3,0.7412898443291327,2.2238695329873983,3.5299516396625368E-3,1.0589854918987611E-2,"(1100m)"]
[null,{"$f":"(D78/C78)*20*3.14","v":28.984615384615388},6.5,3,null,null,null,null,null,null,"IG.38 5",230,5.4,1,2,0.7412898443291327,1.4825796886582654,3.222999323170142E-3,6.4459986463402839E-3,"(1200m)"]
[null,null,null,null,null,null,null,null,null,null,"IG.38 6",240,5.2,1,2,0.7412898443291327,1.4825796886582654,3.0887076847047196E-3,6.1774153694094391E-3,"(1200m)"]
[null,null,null,null,null,null,null,null,null,null,null,{"$f":"SUM(L74:L79)/6","v":190.33333333333334},{"$f":"SUM(M74:M79)","v":37.4},{"$f":"SUM(N74:N79)","v":6},{"$f":"SUM(O74:O79)","v":17},{"$f":"N80/1.349/6","v":0.74128984432913281},{"$f":"O80/1.349/6","v":2.1003212255992092},3.8946927022546381E-3,1.1034962656388139E-2]
[null,null,null,null,null,null,null,null,null,null,"IG.39 Hl/A",275,3.9,1,1,{"$f":"N81/1.349","v":0.7412898443291327},{"$f":"O81/1.349","v":0.7412898443291327},2.6955994339241188E-3,2.6955994339241188E-3]
[null,null,null,null,null,null,null,null,null,null,"StlGr.42",103,5.0999999999999996,2.4,4.8,{"$f":"N82/1.349","v":1.7790956263899185},{"$f":"O82/1.349","v":3.5581912527798369},1.727277307174678E-2,3.4545546143493561E-2,"(500m)"]
[]
[null,null,null,null,null,null,null,null,null,"10.5cm FH 18/1 & StuH42","10cm PzGr","??"]
[null,null,null,null,null,null,null,null,null,null,"10cm Gr39 Hl",420,2.9,1,2,{"$f":"N85/1.349","v":0.7412898443291327},{"$f":"O85/1.349","v":1.4825796886582654},{"$f":"P85/L85","v":1.7649758198312684E-3},{"$f":"Q85/L85","v":3.5299516396625368E-3}]
[null,null,null,null,null,null,null,null,null,null,"10cm Hl/A-C",420,2.7,1,1,{"$f":"N86/1.349","v":0.7412898443291327},{"$f":"O86/1.349","v":0.7412898443291327},{"$f":"P86/L86","v":1.7649758198312684E-3},{"$f":"Q86/L86","v":1.7649758198312684E-3}]
[]
[null,null,null,null,null,null,null,null,null,null,"10cm SpGr 1",200,5.0999999999999996,1,5,{"$f":"N88/1.349","v":0.7412898443291327},3.7064492216456637,{"$f":"P88/L88","v":3.7064492216456633E-3},{"$f":"Q88/L88","v":1.8532246108228317E-2}]
[null,null,null,null,null,null,null,null,null,null,"10cm SpGr 2",232,4.4000000000000004,1,3,0.7412898443291327,2.2238695329873983,3.1952148462462615E-3,9.5856445387387853E-3]
[null,null,null,null,null,null,null,null,null,null,"10cm SpGr 3",264,3.9,0,2,0,1.4825796886582654,0,5.6158321540085814E-3]
[null,null,null,null,null,null,null,null,null,null,"10cm SpGr 4",317,3.3,0,1,0,0.7412898443291327,0,2.3384537675997879E-3]
[null,null,null,null,null,null,null,null,null,null,"10cm SpGr 5",391,2.7,0,1,0,0.7412898443291327,0,1.8958819548059659E-3]
[null,null,null,null,null,null,null,null,null,null,"10cm SpGr 6",470,2.2999999999999998,0,1,0,0.7412898443291327,0,1.5772124347428356E-3]
[null,null,null,null,null,null,null,null,null,null,null,{"$f":"SUM(L88:L93)/6","v":312.33333333333331},{"$f":"SUM(M88:M93)","v":21.7},{"$f":"SUM(N88:N93)","v":2},{"$f":"SUM(O88:O93)","v":13},{"$f":"N94/1.349/6","v":0.24709661477637757},{"$f":"O94/1.349/6","v":1.6061279960464541},7.911311038731406E-4,5.1423521751754134E-3]
[]
[null,null,null,null,null,null,null,null,null,null,"GET DISPERSION VALUES OF AT LEAST 1 ABOVE?"]
[null,null,null,null,null,null,null,null,null,"(FROM SOVIET TABLES - mean dispersion)"]
[null,null,null,null,null,null,null,null,null,"37mm M5","M51 APC",null,null,0.4,0.4,{"$f":"N98/1.349","v":0.29651593773165308},{"$f":"O98/1.349","v":0.29651593773165308}]
[null,null,null,null,null,null,null,null,null,"1000m"]
[]
[null,null,null,null,null,null,null,null,null,"75mm M2","M61 APC",null,null,0.50700000000000001,0.50700000000000001,{"$f":"N101/1.349","v":0.37583395107487028},{"$f":"O101/1.349","v":0.37583395107487028}]
[null,null,null,null,null,null,null,null,null,"1000m","M48",null,null,0.50700000000000001,{"$f":"0.4*1.69","v":0.67600000000000005},{"$f":"N102/1.349","v":0.37583395107487028},{"$f":"O102/1.349","v":0.50111193476649374}]
[]
[null,null,null,null,null,null,null,null,null,"75mm M3","M61 APC",619,null,0.246,0.34700000000000003]
[null,null,null,null,null,null,null,null,null,"1000m","M61 APC",null,null,0.34900000000000003,0.374]
[null,null,null,null,null,null,null,null,null,null,"M61 APC",null,null,0.22500000000000001,0.27700000000000002]
[null,null,null,null,null,null,null,null,null,null,"M61 APC",null,null,0.246,0.246]
[null,null,null,null,null,null,null,null,null,null,"M61 APC",null,null,0.442,0.442]
[null,null,null,null,null,null,null,null,null,null,"M61 APC",null,null,0.44,0.44]
[null,null,null,null,null,null,null,null,null,null,null,"AVERAGE",null,{"$f":"SUM(N104:N109)/6","v":0.3246666666666666},{"$f":"SUM(O104:O109)/6","v":0.35433333333333339},{"$f":"N110/1.349","v":0.2406721027921917},{"$f":"O110/1.349","v":0.2626637015072894}]
[null,null,null,null,null,null,null,null,null,null,"M48 HE",null,null,0.82,0.82,{"$f":"N111/1.349","v":0.60785767234988874},{"$f":"O111/1.349","v":0.60785767234988874}]
[]
[null,null,null,null,null,null,null,null,null,"(Italian)"]
[null,null,null,null,null,null,null,null,null,"47/32 ATG","AP",630,2.0099999999999998,0.62,0.73,{"$f":"N114/1.349","v":0.45959970348406226},{"$f":"O114/1.349","v":0.54114158636026688}]
[null,null,null,null,null,null,null,null,null,"(1000m)","HE",250,null,{"$f":"0.4*1000/1300","v":0.30769230769230771},{"$f":"2.8*1000/1300","v":2.1538461538461537},{"$f":"N115/1.349","v":0.22808918287050239},{"$f":"O115/1.349","v":1.5966242800935164}]
[]
[null,null,null,null,null,null,null,null,null,"Breda M.37","8mm Ball",750,2.1,0.28000000000000003,0.7,{"$f":"N117/1.349","v":0.20756115641215717},{"$f":"O117/1.349","v":0.51890289103039289}]
[null,null,null,null,null,null,null,null,null,"(1000m)"]
[]
[null,null,null,null,null,null,null,null,null,"Fiat M.35","8mm Ball",750,2.1,0.42,1.2,{"$f":"N120/1.349","v":0.31134173461823572},{"$f":"O120/1.349","v":0.88954781319495924}]
[]
[null,null,null,null,null,null,null,null,null,null,null,"mV",null,"82% bz (m)",null,"50% zone (m)"]
[null,null,null,null,null,null,null,null,null,"US M1919A4",".30 ball",855,null,{"$f":"2/1.09361","v":1.8288055156774354},{"$f":"91/1.09361","v":83.210650963323303},{"$f":"N123*0.67","v":1.2252996955038817},{"$f":"O123*0.67","v":55.751136145426614}]
[null,null,null,null,null,null,null,null,null,null,".30 AP",843,null,{"$f":"7/1.09361","v":6.4008193048710238},{"$f":"71/1.09361","v":64.922595806548955},{"$f":"N124*0.67","v":4.2885489342635861},{"$f":"O124*0.67","v":43.498139190387803}]

{"sheet":"Accuracy","index":24,"n_rows":156,"n_cols":24,"rows_kept":156,"cut":false,"hidden":false,"merged":[]}
[]
[null,"ACCURACY DATA",null,null,null,null,null,null,null,null,null,null,null,null,17.7777777777777]
[null,null,null,null,null,null,null,null,"True Mean Dispersion"]
[null,"Firing Test, US",null,null,null,null,null,"Horizontal",null,"Veritcal",null,"Rectangle",null,null,"Deviation in MILS"]
[null,null,null,null,"Range","No. Fired","MV (ft/s)","Inches","Min. Arc","Inches","Min. Arc","Horz In.","Vert In.",null,"Horz","Vert"]
[null,"75mm M3","M61 APC",null,"1000 yds",10,2050,7.4,0.7,5.0999999999999996,0.5,25,15,null,{"$f":"I6/60*$O$2","v":0.20740740740740649},{"$f":"K6/60*$O$2","v":0.1481481481481475}]
[null,"75mm M3","M61 APC",null,"800 yds",10,2050,5.9,0.71,6.4,0.76,23.75,23.75,null,{"$f":"I7/60*$O$2","v":0.21037037037036946},{"$f":"K7/60*$O$2","v":0.22518518518518421}]
[null,"75mm How","M66 HEAT",null,"800 yds",10,998,14,1.75,6,0.75,60,25.5,null,{"$f":"I8/60*$O$2","v":0.51851851851851627},{"$f":"K8/60*$O$2","v":0.22222222222222127}]
[null,"105mm How","M1 HE",null,"800 yds",4,1020,21.3,2.0099999999999998,13.7,1.29,57,57,null,{"$f":"I9/60*$O$2","v":0.59555555555555284},{"$f":"K9/60*$O$2","v":0.38222222222222058}]
[]
[null,"500 yds, Std Dev in Mils M3 75mm Gun on M4A2 w/vertical stabilization"]
[null,null,"dL","dV"]
[null,"Stationary",0.21,0.17]
[null,"Quick halt",0.75,0.9]
[null,"Moving, gyro.",2.86,2.2000000000000002]
[null,"Moving, No gryo.",2.8,6]
[null,null,null,null,null,null,null,null,null,null,null,null,null,null,null,null,"Std.Dev in m"]
[null,null,null,"Est Err %",0.2,null,null,null,null,null,null,null,null,null,null,null,"L","V","Barrel"]
[null,null,"mV",100,200,300,400,500,600,700,800,900,1000,null,null,"M1919",{"$f":"2/2/1.349","v":0.7412898443291327},{"$f":"5/4/1.349","v":0.92661230541141593},24]
[null,"75mm M3 ",618,{"$f":"4.8*(D19/$C20)^2*$E$18","v":2.5135890910233445E-2},0.10054356364093378,0.22622301819210106,0.40217425456373512,0.62839727275583634,0.90489207276840422,1.2316586546014392,1.6086970182549405,2.0360071637289092,2.5135890910233454,null,null,"Fiat 35",{"$f":"0.42/1.349","v":0.31134173461823572},{"$f":"1.2/1.349","v":0.88954781319495924},25.75]
[null,null,null,null,null,null,null,null,null,null,null,null,null,null,null,"Breda 37",{"$f":"0.28/1.349","v":0.20756115641215717},{"$f":"0.7/1.349","v":0.51890289103039289},33.25]
[null,null,null,null,null,null,null,null,null,null,null,null,null,null,null,"Garand",{"$f":"5/2/36/1.349*10","v":0.51478461411745324},null,24,null,null,null,"5\" diameter circle @ 100 yds - assumed to be 82% zone"]
[null,null,"E","s","w",null,null,null,null,null,null,null,null,null,null,"Springfield",{"$f":"3/2/36/1.349*10","v":0.30887076847047196},null,24,null,null,null,"3\" as above"]
[null,"E (Avg. Dev.) ",1,0.79788000000000003,1.1829400000000001,null,null,null,null,null,null,null,null,null,null,"M1911A1",{"$f":"3/2/36/1.349*40","v":1.2354830738818878},null,5,null,null,null,"3\" diameter circle @ 25 yds, as above"]
[null,"s (Std. Dev.)",1.2533099999999999,1,1.4826000000000001,null,null,null,null,null,null,null,null,null,null,"Rifle Generic",{"$f":"10/2/36/1.349*3.3333","v":0.34318631084754142},null,"?"]
[null,"w (Prob. Err.)",0.84535000000000005,0.67449000000000003,1]
[null,"50% zone = 2w = (2 * 0.67449 * s) = 1.3490 * s",null,null,null,null,null,null,null,null,null,null,null,null,"1000m","47/32 AP",{"$f":"0.62/1.349","v":0.45959970348406226},{"$f":"0.73/1.349","v":0.54114158636026688}]
[null,null,null,null,null,null,null,null,null,null,null,null,null,null,null,"47/32 HE",{"$f":"0.25/1.349","v":0.18532246108228317},{"$f":"1.375/1.349","v":1.0192735359525575}]
[]
[null,null,null,null,null,null,null,null,null,null,null,null,null,null,"1300m","75mm IG HE",{"$f":"1/1.3/1.349","v":0.57022295717625593},{"$f":"3/1.3/1.349","v":1.7106688715287677},null,null,null,null,"Charge 5"]
[null,null,null,null,null,null,null,null,null,null,null,null,null,null,"500m","75mm IG HEAT",{"$f":"0.3*2/1.349","v":0.44477390659747967},{"$f":"0.7*2/1.349","v":1.0378057820607858}]
[]
[null,null,null,null,null,null,null,null,null,null,null,null,null,null,"1000m","47mm(t) AP",{"$f":"0.4/1.349","v":0.29651593773165308},{"$f":"0.4/1.349","v":0.29651593773165308},null,null,null,null,"mv 775m/s"]
[]
[null,null,null,null,null,null,null,null,null,null,null,null,null,null,"1000m","5cm Pak38 HE",{"$f":"0.3/1.349","v":0.22238695329873984},{"$f":"0.4/1.349","v":0.29651593773165308},null,null,null,null,"550m/s"]
[null,null,null,null,null,null,null,null,null,null,null,null,null,null,null,"5cm Pak38 AP",{"$f":"0.3/1.349","v":0.22238695329873984},{"$f":"0.33/1.349","v":0.2446256486286138},null,null,null,null,"835m/s"]
[null,null,null,null,null,null,null,null,null,null,null,null,null,null,"800m","5cm Pak38 APCR",{"$f":"0.49/0.8/1.349","v":0.45404002965159374},{"$f":"0.51/0.8/1.349","v":0.47257227575982208},null,null,null,null,"1130m/s"]
[]
[null,null,null,null,null,null,null,null,null,null,null,null,null,null,"1000m","75mm IG37 Hl/B",{"$f":"0.73/1.349","v":0.54114158636026688},{"$f":"0.65/1.349","v":0.48183839881393625}]
[]
[null,null,null,null,null,null,null,null,null,null,null,null,null,null,"1000m","Pak 97/38 HE",{"$f":"1/1.349","v":0.7412898443291327},{"$f":"1/1.349","v":0.7412898443291327}]
[null,null,null,null,null,null,null,null,null,null,null,null,null,null,null,"Pak 97/38 HEAT",{"$f":"0.4/1.349","v":0.29651593773165308},{"$f":"0.8/1.349","v":0.59303187546330616}]
[null,null,null,null,null,null,null,null,null,null,null,null,null,null,null,"Pak 97/38 AP(p)",{"$f":"0.5/1.349","v":0.37064492216456635},{"$f":"1.1/1.349","v":0.81541882876204608}]
[]
[null,null,null,null,null,null,null,null,null,null,null,null,null,null,"1000m","75mm L48 HE,SM",{"$f":"0.7/1.349","v":0.51890289103039289},{"$f":"1.1/1.349","v":0.81541882876204608}]
[null,null,null,null,null,null,null,null,null,null,null,null,null,null,null,"75/L48 Hl/B & C",{"$f":"1/1.349","v":0.7412898443291327},{"$f":"1/1.349","v":0.7412898443291327},null,null,null,null,"450m/s"]
[null,null,null,null,null,null,null,null,null,null,null,null,null,null,null,"75/L48 AP",{"$f":"0.5/1.349","v":0.37064492216456635},{"$f":"0.6/1.349","v":0.44477390659747967},null,null,null,null,"750m/s"]
[null,null,null,null,null,null,null,null,null,null,null,null,null,null,null,"75/L48 APCR",{"$f":"0.6/1.349","v":0.44477390659747967},{"$f":"0.7/1.349","v":0.51890289103039289},null,null,null,null,"930m/s"]
[]
[null,null,null,null,null,null,null,null,null,null,null,null,null,null,"1000m","76.2mm Pak36 HE",{"$f":"0.6/1.349","v":0.44477390659747967},{"$f":"0.7/1.349","v":0.51890289103039289},null,null,null,null,"550m/s"]
[null,null,null,null,null,null,null,null,null,null,null,null,null,null,null,"76.2mm Pak36 AP",{"$f":"0.6/1.349","v":0.44477390659747967},{"$f":"0.8/1.349","v":0.59303187546330616},null,null,null,null,"710m/s"]
[null,null,null,null,null,null,null,null,null,null,null,null,null,null,null,"76.2mm Hl/B&C",{"$f":"1/1.349","v":0.7412898443291327},{"$f":"1/1.349","v":0.7412898443291327},null,null,null,null,"450m/s"]
[]
[null,null,null,null,null,null,null,null,null,null,null,null,null,null,"1000m","88/L56 HE",{"$f":"0.3/1.349","v":0.22238695329873984},{"$f":"0.5/1.349","v":0.37064492216456635},null,null,null,null,"810m/s"]
[null,null,null,null,null,null,null,null,null,null,null,null,null,null,null,"88/L56 Hl",{"$f":"0.4/1.349","v":0.29651593773165308},{"$f":"0.7/1.349","v":0.51890289103039289},null,null,null,null,"600m/s"]
[null,null,null,null,null,null,null,null,null,null,null,null,null,null,null,"88/L56 AP",{"$f":"0.2/1.349","v":0.14825796886582654},{"$f":"0.4/1.349","v":0.29651593773165308},null,null,null,null,"780m/s"]
[null,null,null,null,null,null,null,null,null,null,null,null,null,null,null,"88/L56 APCR",{"$f":"0.3/1.349","v":0.22238695329873984},{"$f":"0.5/1.349","v":0.37064492216456635},null,null,null,null,"930m/s"]
[]
[null,null,null,null,null,null,null,null,null,null,null,null,null,null,"1000m","10cm HE",{"$f":"0.3/1.349","v":0.22238695329873984},{"$f":"0.6/1.349","v":0.44477390659747967},null,null,null,null,"680m/s"]
[]
[null,null,null,null,null,null,null,null,null,null,null,null,null,null,"1000m","152mm KwK450r HE",{"$f":"0.5/1.349","v":0.37064492216456635},{"$f":"0.5/1.349","v":0.37064492216456635},null,null,null,null,"432m/s"]
[null,null,null,null,null,null,null,null,null,null,null,null,null,null,null,"Gr.434 Beton® Sprgr.428®",{"$f":"0.6/1.349","v":0.44477390659747967},{"$f":"0.6/1.349","v":0.44477390659747967},null,null,null,null,"508m/s"]
[]
[null,null,null,null,null,null,null,null,null,null,null,null,null,null,"500m","150mm sIG w/ stick",{"$f":"2.4/1.349","v":1.7790956263899185},{"$f":"4.8/1.349","v":3.5581912527798369},null,null,null,null,"103m/s"]
[null,null,null,null,null,null,null,null,null,null,null,null,null,null,"2000m","\" Igr38",{"$f":"1/2/1.349","v":0.37064492216456635},{"$f":"6/2/1.349","v":2.2238695329873983},null,null,null,null,"240m/s"]
[null,null,null,null,null,null,null,null,null,null,null,null,null,null,"1000m","\" Hl/A",{"$f":"1/1.349","v":0.7412898443291327},{"$f":"1/1.349","v":0.7412898443291327}]
[]
[null,null,null,null,null,null,null,null,null,null,null,null,null,null,"1000m","105mm leFH HE",{"$f":"0/1.349","v":0},{"$f":"1/1.349","v":0.7412898443291327},null,null,null,null,"Charge 5 - 391m/s"]
[null,null,null,null,null,null,null,null,null,null,null,null,null,null,"2000m",null,{"$f":"1/2/1.349","v":0.37064492216456635},{"$f":"1/2/1.349","v":0.37064492216456635}]
[null,null,null,null,null,null,null,null,null,null,null,null,null,null,"2500m",null,{"$f":"1/2.5/1.349","v":0.29651593773165308},{"$f":"2/2.5/1.349","v":0.59303187546330616}]
[null,null,null,null,null,null,null,null,null,null,null,null,null,null,"3000m",null,{"$f":"1/3/1.349","v":0.24709661477637757},{"$f":"2/3/1.349","v":0.49419322955275513}]
[null,null,null,null,null,null,null,null,null,null,null,null,null,null,"4000m",null,{"$f":"2/4/1.349","v":0.37064492216456635},{"$f":"3/4/1.349","v":0.55596738324684958}]
[null,null,null,null,null,null,null,null,null,null,null,null,null,null,null,null,{"$f":"SUM(Q68:Q72)/5","v":0.25698047936743268},{"$f":"SUM(R68:R72)/5","v":0.55102545095132194}]
[]
[null,null,null,null,null,null,null,null,null,null,null,null,null,null,"1000m","88mm Flak 36 HE",{"$f":"0.3/1.349","v":0.22238695329873984},{"$f":"0.7/1.349","v":0.51890289103039289},null,null,null,null,"820 m/s"]
[null,null,null,null,null,null,null,null,null,null,null,null,null,null,null,"88mm Flak 36 AP",{"$f":"0.4/1.349","v":0.29651593773165308},{"$f":"0.7/1.349","v":0.51890289103039289},null,null,null,null,"810 m/s"]
[]
[null,null,null,null,"100% / 4.047",null,"50% / 1.349",null,"1.4826 * mean error"]
[null,null,null,null,"100% ZONE",null,"50% ZONE ",null,"MEAN ERROR",null,null,"STD DEV"]
[null,"WEAPON","RANGE",null,"x","y","x","y","x","y",null,"x","y"]
[null,"IT Pistol 89",50,null,0.4,0.42,{"$f":"E81/4","v":0.1},{"$f":"F81/4","v":0.105},null,null,null,{"$f":"G81*1000/$C81/1.349","v":1.4825796886582654},{"$f":"H81*1000/$C81/1.349","v":1.5567086730911788}]
[null,"IT Pistol 34",50,null,0.36799999999999999,0.52400000000000002,{"$f":"E82/4","v":9.1999999999999998E-2},{"$f":"F82/4","v":0.13100000000000001},null,null,null,1.3639733135656043,1.9421793921423278]
[null,"IT Rifle 91",600,null,null,null,0.22,0.27,null,null,null,0.27180627625401532,0.33358042994810971]
[null,"IT Carb 91",600,null,1,1.36,{"$f":"E84/4","v":0.25},{"$f":"F84/4","v":0.34},null,null,null,0.30887076847047196,0.42006424511984186]
[null,"IT SMG 38",200,null,null,null,0.16,0.21,null,null,null,0.59303187546330616,0.77835433654558939]
[null,"IT LMG 30",1000,null,null,null,0.42,0.86,null,null,null,0.31134173461823572,0.63750926612305414]
[null,"IT MMG 35",1000,null,null,null,0.42,1.2,null,null,null,0.31134173461823572,0.88954781319495924]
[null,"IT MMG 37",1000,null,null,null,0.28000000000000003,0.7,null,null,null,0.20756115641215717,0.51890289103039289]
[null,"ATR \"S\"",500,null,null,null,0.28999999999999998,0.48,null,null,null,0.42994810971089692,0.71163825055596741]
[null,"IT 20mm",1000,null,null,null,0.94,0.86,null,null,null,0.69681245366938471,0.63750926612305414]
[null,"IT 47mm",1000,null,null,null,0.64,0.72,null,null,null,0.47442550037064496,0.53372868791697547,null,null,{"$f":"250/630","v":0.3968253968253968}]
[null,"IT 47mm HE",1000,null,null,null,0.30000000000000004,1.7000000000000002,null,null,null,0.22238695329873984,1.2601927353595257]
[]
[]
[]
[]
[]
[]
[]
[null,"37mm/45",800,null,null,null,0.51,0.61,null,null,null,{"$f":"G100*1000/$C100/1.349","v":0.47257227575982208},{"$f":"H100*1000/$C100/1.349","v":0.5652335063009637},null,"Italian experimental data"]
[null,"50mm/L42"]
[null,"50mm/L60",850,null,null,null,0.30000000000000004,0.4,null,null,null,{"$f":"G102*1000/$C102/1.349","v":0.26163170976322336},0.34884227968429776,null,"HE shell"]
[null,"50mm/L60",1000,null,null,null,0.30000000000000004,0.33,null,null,null,0.22238695329873984,0.2446256486286138,null,"AP",{"$f":"50*60/1000","v":3}]
[null,"50mm/L60",800,null,null,null,0.49,0.51,null,null,null,0.45404002965159379,0.47257227575982208,null,"PzGr40 APDS"]
[null,"75mm IG",1000,null,null,null,1,3,null,null,null,0.7412898443291327,2.2238695329873983,null,"Igr 18 HE"]
[null,"75mm IG",800,null,null,null,0.4,1.1000000000000001,null,null,null,0.37064492216456635,1.0192735359525575,null,"Igr 38 HEAT"]
[null,"75mm French 1897",1100,null,null,null,1,2,null,null,null,0.67389985848102973,1.3477997169620595,null,"French HE shell"]
[null,"75mm French 1897",1000,null,null,null,0.4,0.8,null,null,null,0.29651593773165308,0.59303187546330616,null,"French HEAT"]
[null,"75mm French 1897",1000,null,null,null,0.5,1.1000000000000001,null,null,null,0.37064492216456635,0.81541882876204608,null,"Polish AP"]
[null,"75mm French 1897",4400,null,null,null,null,null,1,"22  long",null,{"$f":"I110*1000/$C110*1.4826","v":0.33695454545454545},0.38,null,"US firing table (HE MkI 1784fps)"]
[null,"75mm KwK40",1000,null,null,null,0.7,1.1000000000000001,null,null,null,{"$f":"G111*1000/$C111/1.349","v":0.51890289103039289},{"$f":"H111*1000/$C111/1.349","v":0.81541882876204608},null,"HE or smoke"]
[null,"75mm KwK40",1000,null,null,null,0.60000000000000009,0.7,null,null,null,0.44477390659747967,0.51890289103039289,null,"HEAT"]
[null,"75mm KwK40",1000,null,null,null,0.5,0.60000000000000009,null,null,null,0.37064492216456635,0.44477390659747967,null,"AP"]
[null,"75mm Kwk42",1000,null,null,null,0.35,0.57999999999999996,null,null,null,0.25945144551519644,0.42994810971089692,null,"AP ",{"$f":"70*75/1000","v":5.25},"(Estimated based on 88/71)"]
[null,"75mm Kwk42",2000,null,null,null,{"$f":"2/3","v":0.66666666666666663},{"$f":"2.5/3","v":0.83333333333333337},null,null,null,0.24709661477637757,0.30887076847047196,null,"AP ","(Dispersion values from German % hit tables for a 92% hit on a 2x2.5m target at 2000m)"]
[null,"7.62cm 36r",1000,null,null,null,0.60000000000000009,0.7,null,null,null,0.44477390659747967,0.51890289103039289,null,"HE"]
[null,"7.62cm 36r",1000,null,null,null,0.60000000000000009,0.8,null,null,null,0.44477390659747967,0.59303187546330616,null,"AP"]
[null,"7.62cm 36r",1000,null,null,null,0.60000000000000009,1,null,null,null,0.44477390659747967,0.7412898443291327,null,"HEAT"]
[null,"GE 88/56",1000,null,null,null,0.30000000000000004,0.5,null,null,null,0.22238695329873984,0.37064492216456635,null,"HE"]
[null,"GE 88/56",1000,null,null,null,0.4,0.7,null,null,null,0.29651593773165308,0.51890289103039289,null,"HEAT"]
[null,"GE 88/56",1000,null,null,null,0.2,0.4,null,null,null,0.14825796886582654,0.29651593773165308,null,"AP"]
[]
[null,"105mm How",1250,null,null,null,2,5,null,null,null,{"$f":"G123*1000/$C123/1.349","v":1.1860637509266123},{"$f":"H123*1000/$C123/1.349","v":2.9651593773165308},null,"HE"]
[null,"150mm IG",1125,null,null,null,1,2,null,null,null,{"$f":"G124*1000/$C124/1.349","v":0.65892430607034014},{"$f":"H124*1000/$C124/1.349","v":1.3178486121406803},null,"HEAT"]
[]
[]
[null,"US Garand",{"$f":"300/3.28","v":91.463414634146332},null,{"$f":"5*2.54/100","v":0.127},{"$f":"5*2.54/100","v":0.127},{"$f":"E127/4","v":3.175E-2},3.175E-2,null,null,null,{"$f":"G127*1000/$C127/1.349","v":0.25732641462811962},0.25732641462811962]
[null,"US 1903",{"$f":"300/3.28","v":91.463414634146332},null,{"$f":"3*2.54/100","v":7.6200000000000004E-2},{"$f":"3*2.54/100","v":7.6200000000000004E-2},1.9050000000000001E-2,1.9050000000000001E-2,null,null,null,0.15439584877687176,0.15439584877687176]
[null,"M1911",{"$f":"75/3.28","v":22.865853658536583},null,{"$f":"5*2.54/100","v":0.127},{"$f":"5*2.54/100","v":0.127},3.175E-2,3.175E-2,null,null,null,1.0293056585124785,1.0293056585124785]
[null,"M1919A4",{"$f":"3000/3.28","v":914.63414634146329},null,null,null,{"$f":"3/3.28","v":0.91463414634146334},null,null,null,null,{"$f":"G130*1000/$C130/1.349","v":0.7412898443291327}]
[]
[]
[null,null,null,null,null,null,null,null,null,null,null,null,null,null,null,"Barrel"]
[null,"US 37mm M3/6",1000,null,null,null,null,null,0.4,0.4,null,{"$f":"I134*1000/$C134*1.4826","v":0.59304000000000012},{"$f":"J134*1000/$C134*1.4826","v":0.59304000000000012},null,"Soviet data",2.1]
[]
[null,"75mm M2",1000,null,null,null,null,null,0.30000000000000004,0.30000000000000004,null,{"$f":"I136*1000/$C136*1.4826","v":0.44478000000000012},0.44478000000000012,null,"Soviet data",{"$f":"75*31/1000","v":2.3250000000000002}]
[null,"75mm M2 HE",1000,null,null,null,null,null,0.30000000000000004,0.4,null,0.44478000000000012,0.59304000000000012,null,null,{"$f":"75*40/1000","v":3}]
[null,"75mm M3",{"$f":"3000/3.28","v":914.63414634146329},null,null,null,null,null,{"$f":"2*5.1*0.0254","v":0.25908000000000003},{"$f":"2*7.4*0.0254","v":0.37592000000000003},null,0.41996246208000015,0.60935729792000015,null,"US Test"]
[null,"75mm M3",{"$f":"2400/3.28","v":731.70731707317066},null,null,null,null,null,{"$f":"2*5.9*0.0254","v":0.29972000000000004},{"$f":"2*6.4*0.0254","v":0.32512000000000008},null,0.60729865840000019,0.65876464640000032,null,"US Test"]
[null,"75mm M3",{"$f":"3000/3.28","v":914.63414634146329},null,null,null,null,null,0.246,0.246,null,0.39876009600000006,0.39876009600000006,null,"US Test"]
[null,"75mm M3",{"$f":"3000/3.28","v":914.63414634146329},null,null,null,0.45700000000000002,0.45700000000000002,null,null,null,{"$f":"G141*1000/$C141/1.349","v":0.37038794168519895},{"$f":"H141*1000/$C141/1.349","v":0.37038794168519895},null,null,3,"Chance of hitting 1yd square area, per shot",null,null,null,null,0.85,"1000 yds"]
[]
[null,"57mm",{"$f":"1500/3.28","v":457.31707317073165},null,null,null,0.45700000000000002,0.45700000000000002,null,null,null,{"$f":"G143*1000/$C143/1.349","v":0.7407758833703979},{"$f":"H143*1000/$C143/1.349","v":0.7407758833703979},null,null,2.54,"Chance of hitting 1yd square area, per shot",null,null,null,null,0.8,"500yds"]
[null,"57mm",1000,null,1.54,1.54,{"$f":"E144/4","v":0.38500000000000001},{"$f":"F144/4","v":0.38500000000000001},null,null,null,{"$f":"G144*1000/$C144/1.349","v":0.28539659006671608},{"$f":"H144*1000/$C144/1.349","v":0.28539659006671608},null,"British 6pdr data"]
[null,"57mm",1000,null,null,null,null,null,{"$f":"1.5/60*17.78","v":0.44450000000000006},{"$f":"1.5/60*17.78","v":0.44450000000000006},null,{"$f":"I145*1000/$C145*1.4826","v":0.6590157000000002},{"$f":"J145*1000/$C145*1.4826","v":0.6590157000000002},null,"British 6pdr data"]
[]
[null,"3 Inch Gun",{"$f":"3000/3.28","v":914.63414634146329},null,null,null,{"$f":"0.9146","v":0.91460000000000008},{"$f":"0.9146","v":0.91460000000000008},null,null,null,{"$f":"G147*1000/$C147/1.349","v":0.74126216950827795},{"$f":"H147*1000/$C147/1.349","v":0.74126216950827795},null,null,{"$f":"76.2*50/1000","v":3.81},"Chance of hitting 1yd square area, per shot",null,null,null,null,0.49,"1000 yds","76mm or 3 inch apc"]
[null,"76mm M1A2",1000,null,null,null,0.28899999999999998,0.28700000000000003,null,null,null,{"$f":"G148*1000/$C148/1.349","v":0.21423276501111935},{"$f":"H148*1000/$C148/1.349","v":0.21275018532246112},null,"Firing tests",{"$f":"76.2*52/1000","v":3.9624000000000001}]
[]
[null,"90mm M3",{"$f":"6300/3.28","v":1920.731707317073},null,{"$f":"2*41*0.0254","v":2.0828000000000002},{"$f":"2*70*0.0254","v":3.5560000000000005},{"$f":"E150/4","v":0.52070000000000005},{"$f":"F150/4","v":0.88900000000000012},null,null,null,{"$f":"G150*1000/$C150/1.349","v":0.20095967618576963},{"$f":"H150*1000/$C150/1.349","v":0.34310188617082621},null,"Firing tests",{"$f":"50*90/1000","v":4.5}]
[null,"90mm M3",1000,null,null,null,0.29199999999999998,0.32300000000000001,null,null,null,{"$f":"G151*1000/$C151/1.349","v":0.21645663454410674},{"$f":"H151*1000/$C151/1.349","v":0.23943661971830987},null,"Firing tests"]
[]
[null,"60mm Mortar",{"$f":"3000/3.28","v":914.63414634146329},null,null,null,null,null,5,9.18,null,{"$f":"I153*1000/$C153*1.4826","v":8.1048800000000014},{"$f":"J153*1000/$C153*1.4826","v":14.880559680000003},null,"Firing table"]
[null,"SV 82mm Mortar",1000,null,null,null,null,null,2.8,12,null,{"$f":"I154*1000/$C154*1.4826","v":4.1512799999999999},{"$f":"J154*1000/$C154*1.4826","v":17.791200000000003}]
[]
[null,"105mm How HE",{"$f":"9000/3.28","v":2743.9024390243899},null,null,null,{"$f":"0.9146*2","v":1.8292000000000002},{"$f":"0.9146*2","v":1.8292000000000002},null,null,null,{"$f":"G156*1000/$C156/1.349","v":0.49417477967218532},{"$f":"H156*1000/$C156/1.349","v":0.49417477967218532},null,null,null,"Chance of hitting 1yd square area, per shot",null,null,null,null,"0.065 @ 3000 yds"]

{"sheet":"DRAG","index":25,"n_rows":85,"n_cols":17,"rows_kept":85,"cut":false,"hidden":false,"merged":[]}
[null,null,"FRONTAL","Cd=",0.5,{"$f":"0.5*1.2*E1","v":0.3},null,null,null,null,null,null,"Speed m/s","Stopping time","mass","force"]
["VEHICLE",null,"W","H"]
["M3 Light Tank",null,2.2400000000000002,2.1,{"$f":"C3*D3*$F$1","v":1.4112000000000002},null,null,null,null,null,null,null,{"$f":"20*1.6*1000/60/60","v":8.8888888888888893},3.5,12700,{"$f":"M3/N3*O3","v":32253.968253968258}]
["M3 Medium Tank",null,2.72,3.12,2.5459200000000002,null,null,null,null,null,null,null,null,null,27900]
["M4 Medium Tank",null,2.62,2.74,2.1536400000000002,null,null,null,null,null,null,null,null,null,30300]
["M4A1 Medium Tank",null,2.62,2.74,2.1536400000000002,null,null,null,null,null,null,null,null,null,30300]
["M3 75mm GMC",null,1.96,2.5,1.47,null,null,null,null,null,null,null,null,null,9100]
["M10 3-Inch GMC",null,3.05,2.5,2.2875000000000001,null,null,null,null,null,null,null,{"$f":"20*1.6*1000/60/60","v":8.8888888888888893},4,29600,{"$f":"M8/N8*O8","v":65777.777777777781}]
["M2 Halftrack",null,1.96,2.2999999999999998,1.3524,null,null,null,null,null,null,null,null,null,8700]
["M2A1 Halftrack",null,1.96,2.2999999999999998,1.3524,null,null,null,null,null,null,null,null,null,8700]
["M3 Halftrack",null,1.96,2.2999999999999998,1.3524,null,null,null,null,null,null,null,null,null,9100]
["M3A1 Halftrack",null,1.96,2.2999999999999998,1.3524,null,null,null,null,null,null,null,6.86,2,24816,{"$f":"M12/N12*O12","v":85118.88}]
["T19 105mm HMC",null,1.96,2.2999999999999998,1.3524,null,null,null,null,null,null,null,null,null,9100]
["T30 75mm HMC",null,1.96,2.2999999999999998,1.3524,null,null,null,null,null,null,null,{"$f":"20*1.6*1000/60/60","v":8.8888888888888893},3,9100,{"$f":"M14/N14*O14","v":26962.962962962967},{"$f":"M14/N14","v":2.9629629629629632}]
["3/4 Ton Weapons Carrier",null,2.1,2.1,1.323,null,null,null,null,null,null,null,8.8888888888888893,3,2520,7466.666666666667,2.9629629629629632]
["2 1/2 Ton Truck",null,2.2400000000000002,2.77,1.86144,null,null,null,null,null,null,null,8.8888888888888893,3,4000,11851.851851851852,2.9629629629629632]
["Jeep",null,1.5,1.75,0.78749999999999998,null,null,null,null,null,"Jeep",null,8.8888888888888893,2.4,1100,4074.0740740740744,3.7037037037037042]
["M3 Scout Car",null,2,1.99,1.194,null,null,null,null,null,"M3 scout car",null,8.8888888888888893,3,5620,16651.851851851854,2.9629629629629632]
["M20 Armored Utility Car",null,2.5,2.25,1.6875,null,null,null,null,null,null,null,8.8888888888888893,4,44800,99555.555555555562,2.2222222222222223]
["M8 Armored Car",null,2.5,2.2999999999999998,1.7249999999999999,null,null,null,null,null,null,null,1,1,7890,7890]
["37mm Gun M3",null,1.6,0.96,0.46079999999999999,null,null,null,null,null,null,null,1,1,415,415]
["57mm Gun M1",null,1.9,1.27,0.72389999999999988,null,null,null,null,null,null,null,1,1,950,950]
["3 Inch Gun M5",null,2.2000000000000002,1.62,1.0692000000000002,null,null,null,null,null,null,null,1,1,2210,2210]
["105mm Howitzer M2A1",null,2.21,1.73,1.14699,null,null,null,null,null,null,null,1,1,2260,2260]
["(Reserved)",null,null,null,0,null,null,null,null,null,null,null,15,4,62300,233625,{"$f":"M25/4","v":3.75}]
["(Reserved)",null,null,null,0]
["(Reserved)",null,null,null,0]
["(Reserved)",null,null,null,0]
["(Reserved)",null,null,null,0]
["(Reserved)",null,null,null,0]
["(Reserved)",null,null,null,0]
["(Reserved)",null,null,null,0]
["(Reserved)",null,null,null,0]
["(Reserved)",null,null,null,0]
["(Reserved)",null,null,null,{"$f":"C35*D35*$F$1","v":0}]
["(Reserved)",null,null,null,0]
["(Reserved)",null,null,null,0]
["(Reserved)",null,null,null,0]
["(Reserved)",null,null,null,0]
["(Reserved)",null,null,null,0]
["(Reserved)",null,null,null,0]
["(Reserved)",null,null,null,0]
["JgPz IV",null,3.18,1.85,1.7649000000000001]
["Pz VIE Tiger",null,3.73,2.86,3.2003399999999997]
["Pz VA Panther",null,3.43,3.1,3.1899000000000002]
["Panzer IIF",null,2.2800000000000002,2.02,1.3816800000000002]
["Panzer IVF1",null,2.88,2.68,2.3155199999999998]
["Panzer IVG",null,2.88,2.68,2.3155199999999998]
["SdKfz 251/1",null,2.1,1.75,1.1025]
["SdKfz 251/9",null,2.1,1.75,1.1025]
["SdKfz 251/10",null,2.1,1.75,1.1025]
["StuG IIIF",null,2.96,2.15,1.9091999999999998]
["StuG IIIG",null,2.96,2.15,1.9091999999999998]
["Kubelwagon",null,1.6,1.65,0.79200000000000004]
["Opel Blitz",null,2.27,2.1800000000000002,1.4845800000000002]
["PSW 222",null,2,2.06,1.236]
["PSW 232",null,2.21,2.34,1.5514199999999998]
["SdKfz 250/1",null,1.9500000000000002,1.66,0.97109999999999996]
["SdKfz 250/8",null,1.9500000000000002,1.66,0.97109999999999996]
["SdKfz 250/10",null,1.9500000000000002,1.66,0.97109999999999996]
["2cm Flak 38",null,1.81,1.6,0.86880000000000013]
["3.7cm Pak 36",null,1.65,1.17,0.57914999999999994]
["5cm Pak 38",null,1.85,1.05,0.58274999999999999]
["7.5cm Pak 40",null,2,1.25,0.75]
["8.8cm Flak",null,2,2.1,1.26]
["7.5cm le.IG 18",null,null,null,0]
["panzer III",null,2.95,2.5,{"$f":"C67*D67*$F$1","v":2.2124999999999999}]
["marder III",null,1.85,2.25,1.24875]
["R-35",null,1.87,2.13,1.1949299999999998]
["(Reserved)",null,null,null,0]
["(Reserved)",null,null,null,0]
["(Reserved)",null,null,null,0]
["(Reserved)",null,null,null,0]
["(Reserved)",null,null,null,0]
["(Reserved)",null,null,null,0]
["(Reserved)",null,null,null,0]
["(Reserved)",null,null,null,0]
["(Reserved)",null,null,null,0]
["(Reserved)",null,null,null,0]
["(Reserved)",null,null,null,0]
["(Reserved)",null,null,null,0]
["(Reserved)",null,null,null,0]
["(Reserved)",null,null,null,0]
["M14/41",null,2.2800000000000002,2.37,1.6210800000000003]
["Cannone da 47/32 M35",null,1.02,0.60000000000000009,0.18360000000000001]